Workbook

Sheet 인증농가
A1: GAP 인증 농가 목록
A3: (기준: 26. 9. 9.)
A4: 번호 | B4: 읍면동 | C4: 인증번호 | D4: 단체명 | E4: 대표자명 | F4: 농가수 | G4: 전화번호 | H4: 품목명 | I4: 재배면적(㎡)
E5: =COUNTA(E6:E69) -> 64 | F5: =SUM(F6:F69) -> 557 | I5: =SUM(I6:I66) -> 1808240.4
A6: 1 | B6: 돌산읍 | C6: 1023221 | D6: 소율마을갓작목반 | E6: 조양배 | F6: 13 | G6: =VLOOKUP(C6,[1]인증농가!$A$4:$F$68,2,0) -> 010-6641-5051 | H6: 갓 | I6: 17136.9
A7: 2 | B7: 돌산읍 | C7: 1022863 | D7: 우두리 상동 돌산갓 GAP인증단지 작목반 | E7: 곽남철 | F7: 40 | G7: =VLOOKUP(C7,[1]인증농가!$A$4:$F$68,2,0) -> 010-4644-0276 | H7: 돌산갓 | I7: 108999
A8: 3 | B8: 돌산읍 | C8: 1021309 | D8: 박민주 | E8: 박민주 | F8: 1 | G8: =VLOOKUP(C8,[1]인증농가!$A$4:$F$68,2,0) -> 010-2108-5810 | H8: 체리 | I8: 590
A9: 4 | B9: 돌산읍 | C9: 1020697 | D9: 박경옥 | E9: 박경옥 | F9: 1 | G9: =VLOOKUP(C9,[1]인증농가!$A$4:$F$68,2,0) -> 010-8603-4701 | H9: 갓 | I9: 7912
A10: 5 | B10: 돌산읍 | C10: 1016511 | D10: 주토웅 | E10: 주토웅 | F10: 1 | G10: =VLOOKUP(C10,[1]인증농가!$A$4:$F$68,2,0) -> 010-3634-2779 | H10: 방울토마토 | I10: 8176
A11: 6 | B11: 돌산읍 | C11: 1015642 | D11: 농업회사법인 콩누리(주) | E11: 강미성 | F11: 1 | G11: =VLOOKUP(C11,[1]인증농가!$A$4:$F$68,2,0) -> 010-5643-9433 | H11: 콩나물 | I11: 231
A12: 7 | B12: 돌산읍 | C12: 1010114 | D12: 류관평 | E12: 류관평 | F12: 1 | G12: =VLOOKUP(C12,[1]인증농가!$A$4:$F$68,2,0) -> 010-2618-1565 | H12: 갓 | I12: 9971
A13: 8 | B13: 돌산읍 | C13: 1002969 | D13: 여수시돌산갓 영농조합법인 | E13: 주윤곤 | F13: 216 | G13: =VLOOKUP(C13,[1]인증농가!$A$4:$F$68,2,0) -> 010-9860-2954 | H13: 돌산갓 | I13: 755708
A14: 9 | B14: 돌산읍 | C14: 1002742 | D14: 여수시 유자영농조합 | E14: 김운화 | F14: 7 | G14: =VLOOKUP(C14,[1]인증농가!$A$4:$F$68,2,0) -> 010-3642-6276 | H14: 유자 | I14: 35286
A15: 10 | B15: 소라면 | C15: 1028159 | D15: 여수 사구실 미니단호박 작목반 | E15: 최재일 | F15: 13 | G15: 010-6615-8706 | H15: 미니단호박 | I15: 22445
A16: 11 | B16: 소라면 | C16: 1024047 | D16: 류선 | E16: 류선 | F16: 1 | G16: =VLOOKUP(C16,[1]인증농가!$A$4:$F$68,2,0) -> 010-8000-9156 | H16: 포도 | I16: 1320
A17: 12 | B17: 소라면 | C17: 1020950 | D17: 여수시명품오디영농조합법인 | E17: 윤난주 | F17: 30 | G17: =VLOOKUP(C17,[1]인증농가!$A$4:$F$68,2,0) -> 010-6621-8851 | H17: 오디 | I17: 63038
A18: 13 | B18: 소라면 | C18: 1019715 | D18: 이우근 | E18: 이우근 | F18: 1 | G18: =VLOOKUP(C18,[1]인증농가!$A$4:$F$68,2,0) -> 010-7168-3714 | H18: 포도 | I18: 1150
A19: 14 | B19: 소라면 | C19: 1014679 | D19: 김옥자 | E19: 김옥자 | F19: 1 | G19: =VLOOKUP(C19,[1]인증농가!$A$4:$F$68,2,0) -> 010-5656-3026 | H19: 블루베리 | I19: 1300
A20: 15 | B20: 소라면 | C20: 1013928 | D20: 대아팜 | E20: 이민석 | F20: 1 | G20: =VLOOKUP(C20,[1]인증농가!$A$4:$F$68,2,0) -> 010-4322-3199 | H20: 파프리카 | I20: 17629
A21: 16 | B21: 소라면 | C21: 1005689 | D21: 현명렬 | E21: 현명렬 | F21: 1 | G21: =VLOOKUP(C21,[1]인증농가!$A$4:$F$68,2,0) -> 010-3159-5144 | H21: 포도 | I21: 2253
A22: 17 | B22: 율촌면 | C22: 1028017 | D22: 차한철 | E22: 차한철 | F22: 1 | G22: 010-9622-7977 | H22: 포도 | I22: 1007
A23: 18 | B23: 율촌면 | C23: 1027875 | D23: 주재문 | E23: 주재문 | F23: 1 | G23: 010-2682-4971 | H23: 오이 | I23: 1619
A24: 19 | B24: 율촌면 | C24: 1027655 | D24: 정찬후 | E24: 정찬후 | F24: 1 | G24: =VLOOKUP(C24,[1]인증농가!$A$4:$F$68,2,0) -> 010-4030-7039 | H24: 토마토 | I24: 4030
A25: 20 | B25: 율촌면 | C25: 1026172 | D25: 박홍길 | E25: 박홍길 | F25: 1 | G25: =VLOOKUP(C25,[1]인증농가!$A$4:$F$68,2,0) -> 010-2791-6164 | H25: 오이 | I25: 2560
A26: 21 | B26: 율촌면 | C26: 1025662 | D26: 위최량 | E26: 위최량 | F26: 1 | G26: =VLOOKUP(C26,[1]인증농가!$A$4:$F$68,2,0) -> 010-3366-2536 | H26: 두릅 | I26: 3411.3
A27: 22 | B27: 율촌면 | C27: 1025542 | D27: 이안순 | E27: 이안순 | F27: 1 | G27: =VLOOKUP(C27,[1]인증농가!$A$4:$F$68,2,0) -> 010-9456-6110 | H27: 감 | I27: 2000
A28: 23 | B28: 율촌면 | C28: 1025525 | D28: 차창환 | E28: 차창환 | F28: 1 | G28: =VLOOKUP(C28,[1]인증농가!$A$4:$F$68,2,0) -> 010-3619-2161 | H28: 포도 | I28: 825
A29: 24 | B29: 율촌면 | C29: 1024046 | D29: 차삼준 | E29: 차삼준 | F29: 1 | G29: =VLOOKUP(C29,[1]인증농가!$A$4:$F$68,2,0) -> 010-7651-7498 | H29: 복숭아 | I29: 2302
A30: 25 | B30: 율촌면 | C30: 1024045 | D30: 위승량 | E30: 위승량 | F30: 1 | G30: =VLOOKUP(C30,[1]인증농가!$A$4:$F$68,2,0) -> 010-2607-8857 | H30: 포도 | I30: 1000
A31: 26 | B31: 율촌면 | C31: 1024044 | D31: 조옥실 | E31: 조옥실 | F31: 1 | G31: =VLOOKUP(C31,[1]인증농가!$A$4:$F$68,2,0) -> 010-2608-8430 | H31: 포도 | I31: 1500
A32: 27 | B32: 율촌면 | C32: 1024043 | D32: 김은희 | E32: 김은희 | F32: 1 | G32: =VLOOKUP(C32,[1]인증농가!$A$4:$F$68,2,0) -> 010-3629-3401 | H32: 포도 | I32: 1300
A33: 28 | B33: 율촌면 | C33: 1015966 | D33: 여수시원예농가GAP인증사업단 | E33: 위승량 | F33: 64 | G33: =VLOOKUP(C33,[1]인증농가!$A$4:$F$68,2,0) -> 010-2607-8857 | H33: 방울토마토 | I33: 250805.59
A34: 29 | B34: 율촌면 | C34: 1010579 | D34: 여수시무화과농업인연구회 | E34: 정재훈 | F34: 10 | G34: =VLOOKUP(C34,[1]인증농가!$A$4:$F$68,2,0) -> 010-3612-2241 | H34: 무화과 | I34: 20738.5
A35: 30 | B35: 율촌면 | C35: 1007612 | D35: 정재훈 | E35: 정재훈 | F35: 1 | G35: =VLOOKUP(C35,[1]인증농가!$A$4:$F$68,2,0) -> 010-3612-2241 | H35: 달래 | I35: 2940
A36: 31 | B36: 율촌면 | C36: 1005692 | D36: 오갑섭 | E36: 오갑섭 | F36: 1 | G36: =VLOOKUP(C36,[1]인증농가!$A$4:$F$68,2,0) -> 010-5382-9111 | H36: 포도 | I36: 4409
A37: 32 | B37: 화양면 | C37: 1028160 | D37: 용주찰옥수수작목반 | E37: 김우범 | F37: 25 | G37: 010-9441-6293 | H37: 옥수수 | I37: 88178
A38: 33 | B38: 화양면 | C38: 1027874 | D38: 유길석 | E38: 유길석 | F38: 1 | G38: 010-3204-0554 | H38: 고추 | I38: 2318
A39: 34 | B39: 화양면 | C39: 1026849 | D39: 화양콩작목반 | E39: 이영길 | F39: 8 | G39: =VLOOKUP(C39,[1]인증농가!$A$4:$F$68,2,0) -> 010-6629-6646 | H39: 콩 | I39: 12283.4
A40: 35 | B40: 화양면 | C40: 1025997 | D40: 임태균 | E40: 임태균 | F40: 1 | G40: =VLOOKUP(C40,[1]인증농가!$A$4:$F$68,2,0) -> 010-7635-8609 | H40: 체리 | I40: 1000
A41: 36 | B41: 화양면 | C41: 1025996 | D41: 임성화 | E41: 임성화 | F41: 1 | G41: =VLOOKUP(C41,[1]인증농가!$A$4:$F$68,2,0) -> 010-3772-9776 | H41: 토마토 | I41: 1860
...
