{"text_format":"3","workbook":"xlsx","n_sheets":13,"sheets":["------","VXXXXX","징수실적","1-3-1","1-3-2","1-3-3","1-1채권확보","2-3-1","2-3-2","2-3-3","3-3-1","3-3-2","3-3-3"],"not_rendered":{"defined_names":4},"read":"whole","date_system":"1900"}

{"sheet":"------","index":0,"n_rows":0,"n_cols":0,"rows_kept":0,"hidden":true}

{"sheet":"VXXXXX","index":1,"n_rows":0,"n_cols":0,"rows_kept":0,"hidden":true}

{"sheet":"징수실적","index":2,"n_rows":49,"n_cols":18,"rows_kept":49,"merged":[[0,6,1,13],[2,1,2,2],[3,1,3,3],[5,0,6,3],[5,4,5,5],[5,6,5,7],[5,8,5,9],[5,10,5,11],[5,12,6,12],[5,13,5,15],[5,16,5,17],[7,0,9,0],[7,1,7,3],[8,1,8,3],[9,1,9,3],[10,0,44,0],[10,1,10,3],[11,1,30,1],[11,2,11,3],[12,2,12,3],[13,2,15,2],[16,2,18,2],[19,2,19,3],[20,2,20,3],[21,2,21,3],[22,2,22,3],[23,2,23,3],[24,2,30,2],[31,1,44,1],[31,2,31,3],[32,2,32,3],[33,2,33,3],[34,2,36,2],[37,2,37,3],[38,2,38,3],[39,2,39,3],[40,2,40,3],[41,2,41,3],[42,2,42,3],[43,2,43,3],[44,2,44,3],[45,0,48,0],[45,1,45,3],[46,1,46,3],[47,1,47,3],[48,1,48,3]]}
[{"$nulls":6},"2014년  12월분 지방세 징수실적 보고서 (2014 회계)"]
[]
[]
[{"$nulls":15},"제출   년월일 :","2015년  1월  9일   "]
[{"$nulls":17},"(단위 : 천원)"]
["구    분",{"$nulls":3},"목 표액 (예산액)",null,"부     과     액",null,"징     수     액",null,"불납결손액",null,"미 수 납 액","징 수 비 율",null,null,"과오납 환부액"]
[{"$nulls":4},"당  초","최  종","본월분","누   계","본월분","누   계","본월분","누   계",null,"대목표\n(당초)","대목표\n(최종)","대부과","본월분","누   계"]
["총\n\n괄","합       계",null,null,{"$f":"SUM(E9:E10)","v":{"v":257840400,"d":"257,840,400"}},{"v":265960400,"d":"265,960,400"},{"$f":"SUM(G9:G10)","v":{"v":27585009,"d":"27,585,009"}},{"v":282690024,"d":"282,690,024"},{"v":25633689,"d":"25,633,689"},{"$f":"SUM(J9:J10)","v":{"v":266464193,"d":"266,464,193"}},216,{"v":1504110,"d":"1,504,110"},{"v":14721721,"d":"14,721,721"},{"$f":"+J8/E8*100","v":{"v":103.34462442658328,"d":"103.3"}},{"$f":"+J8/F8*100","v":{"v":100.18942406463518,"d":"100.2"}},{"$f":"+J8/H8*100","v":{"v":94.26020389032193,"d":"94.3"}},{"$f":"SUM(Q9:Q10)","v":{"v":156367,"d":"156,367"}},{"$f":"SUM(R9:R10)","v":{"v":4087881,"d":"4,087,881"}}]
[null,"도       세",null,null,{"$f":"E12+E47+E48","v":{"v":97460400,"d":"97,460,400"}},{"v":97460400,"d":"97,460,400"},{"v":10317069,"d":"10,317,069"},{"v":98697827,"d":"98,697,827"},{"v":9950442,"d":"9,950,442"},{"v":94714113,"d":"94,714,113"},0,{"v":324140,"d":"324,140"},{"v":3659574,"d":"3,659,574"},{"v":97.18215090436732,"d":"97.2"},{"v":97.18215090436732,"d":"97.2"},{"v":95.96372673939418,"d":"96.0"},{"$f":"Q12+Q47+Q48","v":{"v":49708,"d":"49,708"}},{"$f":"R12+R47+R48","v":{"v":580749,"d":"580,749"}}]
[null,"시  군  세",null,null,{"$f":"E32+E49","v":{"v":160380000,"d":"160,380,000"}},{"$f":"F32+F49","v":{"v":168500000,"d":"168,500,000"}},{"v":17267940,"d":"17,267,940"},{"v":183992197,"d":"183,992,197"},{"v":15683247,"d":"15,683,247"},{"v":171750080,"d":"171,750,080"},216,{"v":1179970,"d":"1,179,970"},{"v":11062147,"d":"11,062,147"},{"v":107.08946252649956,"d":"107.1"},{"v":101.92883086053412,"d":"101.9"},{"v":93.34639337993231,"d":"93.3"},{"$f":"Q32+Q49","v":{"v":106659,"d":"106,659"}},{"$f":"R32+R49","v":{"v":3507132,"d":"3,507,132"}}]
["현\n\n\n\n\n년\n\n\n\n\n도","계",null,null,{"$f":"SUM(E12,E32)","v":{"v":256412900,"d":"256,412,900"}},{"v":264412900,"d":"264,412,900"},{"v":27583388,"d":"27,583,388"},{"v":272513622,"d":"272,513,622"},{"v":25463444,"d":"25,463,444"},{"v":265951861,"d":"265,951,861"},0,878,{"v":6560883,"d":"6,560,883"},{"v":103.72015643518715,"d":"103.7"},{"v":100.58202946981784,"d":"100.6"},{"v":97.59213467868406,"d":"97.6"},{"$f":"SUM(Q12,Q32)","v":{"v":129479,"d":"129,479"}},{"$f":"SUM(R12,R32)","v":{"v":1245629,"d":"1,245,629"}}]
[null,"도\n\n\n\n세","소    계",null,{"$f":"SUM(E13,E14,E17,E20:E24,E25)","v":{"v":96912900,"d":"96,912,900"}},{"v":96912900,"d":"96,912,900"},{"v":10309777,"d":"10,309,777"},{"v":95632108,"d":"95,632,108"},{"v":9921648,"d":"9,921,648"},{"v":94051891,"d":"94,051,891"},0,118,{"v":1580099,"d":"1,580,099"},{"v":97.04785534227126,"d":"97.0"},{"v":97.04785534227126,"d":"97.0"},{"v":98.34760831581795,"d":"98.3"},{"$f":"SUM(Q13,Q14,Q17,Q20:Q24,Q25)","v":{"v":49550,"d":"49,550"}},{"$f":"SUM(R13,R14,R17,R20:R24,R25)","v":{"v":459209,"d":"459,209"}}]
[null,null,"취  득  세",null,{"v":62365100,"d":"62,365,100"},{"v":62365100,"d":"62,365,100"},{"v":5028391,"d":"5,028,391"},{"v":57261333,"d":"57,261,333"},{"v":5173401,"d":"5,173,401"},{"v":56854449,"d":"56,854,449"},null,null,{"$f":"H13-J13-L13","v":{"v":406884,"d":"406,884"}},{"v":91.16388653269216,"d":"91.2"},{"v":91.16388653269216,"d":"91.2"},{"v":99.28942625209231,"d":"99.3"},{"v":30205,"d":"30,205"},{"v":258293,"d":"258,293"}]
[null,null,"등  록\n면허세","소     계",{"$f":"SUM(E15:E16)","v":{"v":5837800,"d":"5,837,800"}},{"v":5837800,"d":"5,837,800"},{"v":818953,"d":"818,953"},{"v":6538305,"d":"6,538,305"},{"v":826607,"d":"826,607"},{"v":6513585,"d":"6,513,585"},0,77,{"v":24643,"d":"24,643"},{"v":111.57602178903012,"d":"111.6"},{"v":111.57602178903012,"d":"111.6"},{"v":99.62192036009333,"d":"99.6"},{"$f":"SUM(Q15:Q16)","v":{"v":2067,"d":"2,067"}},{"$f":"SUM(R15:R16)","v":{"v":94633,"d":"94,633"}}]
[{"$nulls":3},"등록분",{"v":5344800,"d":"5,344,800"},{"v":5344800,"d":"5,344,800"},{"v":797320,"d":"797,320"},{"v":5623844,"d":"5,623,844"},{"v":797361,"d":"797,361"},{"v":5623884,"d":"5,623,884"},null,null,{"$f":"H15-J15-L15","v":-40},{"v":105.22159856308934,"d":"105.2"},{"v":105.22159856308934,"d":"105.2"},{"v":100.00071125728238,"d":"100.0"},{"v":2044,"d":"2,044"},{"v":17845,"d":"17,845"}]
[{"$nulls":3},"면허분",{"v":493000,"d":"493,000"},{"v":493000,"d":"493,000"},{"v":21633,"d":"21,633"},{"v":914461,"d":"914,461"},{"v":29246,"d":"29,246"},{"v":889701,"d":"889,701"},null,77,{"$f":"H16-J16-L16","v":{"v":24683,"d":"24,683"}},{"v":180.46673427991885,"d":"180.5"},{"v":180.46673427991885,"d":"180.5"},{"v":97.29239409881887,"d":"97.3"},23,{"v":76788,"d":"76,788"}]
[null,null,"지  역\n자  원\n시설세","소     계",{"$f":"SUM(E18:E19)","v":{"v":6260000,"d":"6,260,000"}},{"v":6260000,"d":"6,260,000"},{"v":181421,"d":"181,421"},{"v":8649341,"d":"8,649,341"},{"v":203772,"d":"203,772"},{"v":8501308,"d":"8,501,308"},0,0,{"v":148033,"d":"148,033"},{"v":135.80364217252395,"d":"135.8"},{"v":135.80364217252395,"d":"135.8"},{"v":98.2885054479873,"d":"98.3"},{"$f":"SUM(Q18:Q19)","v":0},{"$f":"SUM(R18:R19)","v":{"v":25024,"d":"25,024"}}]
[{"$nulls":3},"특정자원",{"v":55000,"d":"55,000"},{"v":55000,"d":"55,000"},{"v":178307,"d":"178,307"},{"v":1116000,"d":"1,116,000"},{"v":178677,"d":"178,677"},{"v":1115239,"d":"1,115,239"},null,null,{"$f":"H18-J18-L18","v":761},{"v":2027.7072727272728,"d":"2,027.7"},{"v":2027.7072727272728,"d":"2,027.7"},{"v":99.93181003584229,"d":"99.9"}]
[{"$nulls":3},"특정부동산",{"v":6205000,"d":"6,205,000"},{"v":6205000,"d":"6,205,000"},{"v":3114,"d":"3,114"},{"v":7533341,"d":"7,533,341"},{"v":25095,"d":"25,095"},{"v":7386069,"d":"7,386,069"},null,null,{"v":147272,"d":"147,272"},{"v":119.03414987912973,"d":"119.0"},{"v":119.03414987912973,"d":"119.0"},{"v":98.04506393643936,"d":"98.0"},null,{"v":25024,"d":"25,024"}]
[null,null,"지방소비세",{"$nulls":9},0,{"$error":"#DIV/0!"},{"$error":"#DIV/0!"},{"$error":"#DIV/0!"}]
[null,null,"등  록  세",{"$nulls":3},{"v":11322,"d":"11,322"},{"v":248850,"d":"248,850"},{"v":26105,"d":"26,105"},{"v":248725,"d":"248,725"},null,null,125,{"$error":"#DIV/0!"},{"$error":"#DIV/0!"},{"v":99.9497689371107,"d":"99.9"},49,437]
[null,null,"면  허  세",{"$nulls":9},0,{"$error":"#DIV/0!"},{"$error":"#DIV/0!"},{"$error":"#DIV/0!"}]
[null,null,"공동시설세",{"$nulls":4},{"v":2017,"d":"2,017"},null,{"v":2017,"d":"2,017"},null,null,0,{"$error":"#DIV/0!"},{"$error":"#DIV/0!"},{"v":100,"d":"100.0"}]
[null,null,"지역개발세",{"$nulls":9},0,{"$error":"#DIV/0!"},{"$error":"#DIV/0!"},{"$error":"#DIV/0!"}]
[null,null,"지\n방\n교\n육\n세","소     계",{"$f":"SUM(E26:E31)","v":{"v":22450000,"d":"22,450,000"}},{"$f":"SUM(F26:F31)","v":{"v":22450000,"d":"22,450,000"}},{"v":4269690,"d":"4,269,690"},{"v":22932262,"d":"22,932,262"},{"v":3691763,"d":"3,691,763"},{"v":21931807,"d":"21,931,807"},0,41,{"v":1000414,"d":"1,000,414"},{"v":97.69179064587973,"d":"97.7"},{"v":97.69179064587973,"d":"97.7"},{"v":95.63734707025412,"d":"95.6"},{"$f":"SUM(Q26:Q31)","v":{"v":17229,"d":"17,229"}},{"$f":"SUM(R26:R31)","v":{"v":80822,"d":"80,822"}}]
[{"$nulls":3},"취득세분",{"v":3619000,"d":"3,619,000"},{"v":3619000,"d":"3,619,000"},{"v":322412,"d":"322,412"},{"v":3223440,"d":"3,223,440"},{"v":328269,"d":"328,269"},{"v":3201384,"d":"3,201,384"},null,null,{"$f":"H26-J26-L26","v":{"v":22056,"d":"22,056"}},{"v":88.46045869024593,"d":"88.5"},{"v":88.46045869024593,"d":"88.5"},{"v":99.31576204303477,"d":"99.3"},{"v":2167,"d":"2,167"},{"v":18761,"d":"18,761"}]
[{"$nulls":3},"등록면허세분",{"v":1586000,"d":"1,586,000"},{"v":1586000,"d":"1,586,000"},{"v":145282,"d":"145,282"},{"v":1035474,"d":"1,035,474"},{"v":148248,"d":"148,248"},{"v":1035458,"d":"1,035,458"},null,null,16,{"v":65.28738965952081,"d":"65.3"},{"v":65.28738965952081,"d":"65.3"},{"v":99.99845481393062,"d":"100.0"},418,{"v":3639,"d":"3,639"}]
[{"$nulls":3},"주민세분",{"v":95000,"d":"95,000"},{"v":95000,"d":"95,000"},15,{"v":127038,"d":"127,038"},{"v":4165,"d":"4,165"},{"v":110195,"d":"110,195"},null,null,{"v":16843,"d":"16,843"},{"v":115.99473684210525,"d":"116.0"},{"v":115.99473684210525,"d":"116.0"},{"v":86.7417623073411,"d":"86.7"},null,62]
[{"$nulls":3},"재산세분",{"v":3000000,"d":"3,000,000"},{"v":3000000,"d":"3,000,000"},{"v":-5395,"d":"-5,395"},{"v":4203567,"d":"4,203,567"},{"v":10434,"d":"10,434"},{"v":4085420,"d":"4,085,420"},null,4,{"v":118143,"d":"118,143"},{"v":136.18066666666667,"d":"136.2"},{"v":136.18066666666667,"d":"136.2"},{"v":97.18936322413798,"d":"97.2"},{"v":14239,"d":"14,239"},{"v":22482,"d":"22,482"}]
[{"$nulls":3},"자동차세분",{"v":5750000,"d":"5,750,000"},{"v":5750000,"d":"5,750,000"},{"v":2480120,"d":"2,480,120"},{"v":6111138,"d":"6,111,138"},{"v":1873391,"d":"1,873,391"},{"v":5267745,"d":"5,267,745"},null,37,{"v":843356,"d":"843,356"},{"v":91.61295652173914,"d":"91.6"},{"v":91.61295652173914,"d":"91.6"},{"v":86.19908436039245,"d":"86.2"},405,{"v":35878,"d":"35,878"}]
[{"$nulls":3},"담배소비세분",{"v":8400000,"d":"8,400,000"},{"v":8400000,"d":"8,400,000"},{"v":1327256,"d":"1,327,256"},{"v":8231605,"d":"8,231,605"},{"v":1327256,"d":"1,327,256"},{"v":8231605,"d":"8,231,605"},null,null,0,{"v":97.99529761904762,"d":"98.0"},{"v":97.99529761904762,"d":"98.0"},{"v":100,"d":"100.0"}]
[null,"시\n\n\n군\n\n\n세","소    계",null,{"$f":"SUM(E33,E34,E35,E38:E45)","v":{"v":159500000,"d":"159,500,000"}},{"$f":"SUM(F33,F34,F35,F38:F45)","v":{"v":167500000,"d":"167,500,000"}},{"v":17273611,"d":"17,273,611"},{"$f":"SUM(H33,H34,H35,H38:H45)","v":{"v":176881514,"d":"176,881,514"}},{"v":15541796,"d":"15,541,796"},{"v":171899970,"d":"171,899,970"},0,760,{"v":4980784,"d":"4,980,784"},{"v":107.77427586206896,"d":"107.8"},{"v":102.62684776119404,"d":"102.6"},{"v":97.1836830840333,"d":"97.2"},{"$f":"SUM(Q33,Q34,Q35,Q38:Q45)","v":{"v":79929,"d":"79,929"}},{"$f":"SUM(R33,R34,R35,R38:R45)","v":{"v":786420,"d":"786,420"}}]
[null,null,"주  민  세",null,{"v":2950000,"d":"2,950,000"},{"v":9550000,"d":"9,550,000"},{"v":535943,"d":"535,943"},{"v":9503127,"d":"9,503,127"},{"v":583282,"d":"583,282"},{"v":9314446,"d":"9,314,446"},null,null,{"$f":"H33-J33-L33","v":{"v":188681,"d":"188,681"}},{"v":315.7439322033898,"d":"315.7"},{"v":97.53346596858638,"d":"97.5"},{"v":98.01453774110354,"d":"98.0"},null,{"v":2027,"d":"2,027"}]
[null,null,"재  산  세",null,{"v":28000000,"d":"28,000,000"},{"v":32000000,"d":"32,000,000"},{"v":-5973,"d":"-5,973"},{"v":33746763,"d":"33,746,763"},{"v":117852,"d":"117,852"},{"v":32884550,"d":"32,884,550"},null,35,{"$f":"H34-J34-L34","v":{"v":862178,"d":"862,178"}},{"v":117.44482142857142,"d":"117.4"},{"v":102.76421875,"d":"102.8"},{"v":97.44504976669911,"d":"97.4"},{"v":71191,"d":"71,191"},{"v":115406,"d":"115,406"}]
[null,null,"자동 \n차세","소     계",{"$f":"SUM(E36:E37)","v":{"v":43300000,"d":"43,300,000"}},{"$f":"SUM(F36:F37)","v":{"v":43300000,"d":"43,300,000"}},{"v":10499207,"d":"10,499,207"},{"v":46363391,"d":"46,363,391"},{"v":8473027,"d":"8,473,027"},{"v":43469685,"d":"43,469,685"},0,123,{"v":2893583,"d":"2,893,583"},{"v":100.39188221709009,"d":"100.4"},{"v":100.39188221709009,"d":"100.4"},{"v":93.75864030307878,"d":"93.8"},{"$f":"SUM(Q36:Q37)","v":{"v":1354,"d":"1,354"}},{"$f":"SUM(R36:R37)","v":{"v":143039,"d":"143,039"}}]
[{"$nulls":3},"자동차분",{"v":18000000,"d":"18,000,000"},{"v":18000000,"d":"18,000,000"},{"v":8351975,"d":"8,351,975"},{"v":21517552,"d":"21,517,552"},{"v":6325795,"d":"6,325,795"},{"v":18623846,"d":"18,623,846"},null,123,{"$f":"H36-J36-L36","v":{"v":2893583,"d":"2,893,583"}},{"v":103.46581111111111,"d":"103.5"},{"v":103.46581111111111,"d":"103.5"},{"v":86.55188099464102,"d":"86.6"},{"v":1354,"d":"1,354"},{"v":143039,"d":"143,039"}]
[{"$nulls":3},"주 행 분",{"v":25300000,"d":"25,300,000"},{"v":25300000,"d":"25,300,000"},{"v":2147232,"d":"2,147,232"},{"v":24845839,"d":"24,845,839"},{"v":2147232,"d":"2,147,232"},{"v":24845839,"d":"24,845,839"},null,null,0,{"v":98.20489723320158,"d":"98.2"},{"v":98.20489723320158,"d":"98.2"},{"v":100,"d":"100.0"}]
[null,null,"담배소비세",null,{"v":16300000,"d":"16,300,000"},{"v":16300000,"d":"16,300,000"},{"v":2654511,"d":"2,654,511"},{"v":16463236,"d":"16,463,236"},{"v":2654511,"d":"2,654,511"},{"v":16463236,"d":"16,463,236"},null,null,0,{"v":101.00144785276073,"d":"101.0"},{"v":101.00144785276073,"d":"101.0"},{"v":100,"d":"100.0"}]
[null,null,"지방소득세",null,{"v":68950000,"d":"68,950,000"},{"v":66350000,"d":"66,350,000"},{"v":3589901,"d":"3,589,901"},{"v":70803764,"d":"70,803,764"},{"v":3713094,"d":"3,713,094"},{"v":69766820,"d":"69,766,820"},null,602,{"v":1036342,"d":"1,036,342"},{"v":101.18465554749818,"d":"101.2"},{"v":105.14969103240392,"d":"105.1"},{"v":98.53546769067249,"d":"98.5"},{"v":7384,"d":"7,384"},{"v":525948,"d":"525,948"}]
[null,null,"주  행  세",{"$nulls":9},0,{"$error":"#DIV/0!"},{"$error":"#DIV/0!"},{"$error":"#DIV/0!"}]
[null,null,"농업소득세",{"$nulls":9},0,{"$error":"#DIV/0!"},{"$error":"#DIV/0!"},{"$error":"#DIV/0!"}]
[null,null,"도  축  세",{"$nulls":9},0,{"$error":"#DIV/0!"},{"$error":"#DIV/0!"},{"$error":"#DIV/0!"}]
[null,null,"종합토지세",{"$nulls":9},0,{"$error":"#DIV/0!"},{"$error":"#DIV/0!"},{"$error":"#DIV/0!"}]
[null,null,"도시계획세",{"$nulls":3},22,{"v":1233,"d":"1,233"},30,{"v":1233,"d":"1,233"},null,null,0,{"$error":"#DIV/0!"},{"$error":"#DIV/0!"},{"v":100,"d":"100.0"}]
[null,null,"사 업 소세",{"$nulls":9},0,{"$error":"#DIV/0!"},{"$error":"#DIV/0!"},{"$error":"#DIV/0!"}]
["과\n\n년\n\n도","계",null,null,{"$f":"SUM(E47:E49)","v":{"v":1427500,"d":"1,427,500"}},{"$f":"SUM(F47:F49)","v":{"v":1547500,"d":"1,547,500"}},{"v":1621,"d":"1,621"},{"v":10176402,"d":"10,176,402"},{"v":170245,"d":"170,245"},{"v":512332,"d":"512,332"},216,{"v":1503232,"d":"1,503,232"},{"v":8160838,"d":"8,160,838"},{"v":35.89015761821366,"d":"35.9"},{"v":33.10707592891761,"d":"33.1"},{"v":5.034510232594978,"d":"5.0"},{"$f":"SUM(Q47:Q49)","v":{"v":26888,"d":"26,888"}},{"$f":"SUM(R47:R49)","v":{"v":2842252,"d":"2,842,252"}}]
[null,"도      세",null,null,{"v":247500,"d":"247,500"},{"v":247500,"d":"247,500"},{"v":6273,"d":"6,273"},{"v":1739570,"d":"1,739,570"},{"v":6995,"d":"6,995"},{"v":187176,"d":"187,176"},null,{"v":267481,"d":"267,481"},{"$f":"H47-J47-L47","v":{"v":1284913,"d":"1,284,913"}},{"v":75.62666666666667,"d":"75.6"},{"v":75.62666666666667,"d":"75.6"},{"v":10.759900435165012,"d":"10.8"},55,{"v":108438,"d":"108,438"}]
[null,"지방교육세",null,null,{"v":300000,"d":"300,000"},{"v":300000,"d":"300,000"},{"v":1019,"d":"1,019"},{"v":1326149,"d":"1,326,149"},{"v":21799,"d":"21,799"},{"v":475046,"d":"475,046"},null,{"v":56541,"d":"56,541"},{"$f":"H48-J48-L48","v":{"v":794562,"d":"794,562"}},{"v":158.34866666666667,"d":"158.3"},{"v":158.34866666666667,"d":"158.3"},{"v":35.82146500883385,"d":"35.8"},103,{"v":13102,"d":"13,102"}]
[null,"시  군  세",null,null,{"v":880000,"d":"880,000"},{"v":1000000,"d":"1,000,000"},{"v":-5671,"d":"-5,671"},{"v":7110683,"d":"7,110,683"},{"v":141451,"d":"141,451"},{"v":-149890,"d":"-149,890"},216,{"v":1179210,"d":"1,179,210"},{"$f":"H49-J49-L49","v":{"v":6081363,"d":"6,081,363"}},{"v":-17.032954545454544,"d":"-17.0"},{"v":-14.988999999999999,"d":"-15.0"},{"v":-2.1079550304801944,"d":"-2.1"},{"v":26730,"d":"26,730"},{"v":2720712,"d":"2,720,712"}]

{"sheet":"1-3-1","index":3,"n_rows":27,"n_cols":15,"rows_kept":27,"merged":[[0,0,0,14],[2,0,3,0],[2,1,2,2],[2,3,2,4],[2,5,2,6],[2,7,2,8],[2,9,2,10],[2,11,2,12],[2,13,2,14]]}
["1-3-1. 체납액 사유별 현황"]
["(총  계)",{"$nulls":13},"(단위 : 건, 천원)"]
["구      분","계",null,"징수유예",null,"부도 및 경영난",null,"소송계류",null,"고질체납",null,"무  재  산",null,"행방불명"]
[null,"건수","금액","건수","금액","건수","금액","건수","금액","건수","금액","건수","금액","건수","금액"]
["합    계",{"$f":"SUM(D5,F5,H5,J5,L5,N5)","v":{"v":222858,"d":"222,858"}},{"$f":"SUM(E5,G5,I5,K5,M5,O5,)","v":{"v":14721721,"d":"14,721,721"}},{"$f":"D6+D16","v":36},{"v":416387,"d":"416,387"},{"v":64142,"d":"64,142"},{"v":6946817,"d":"6,946,817"},5,{"v":27096,"d":"27,096"},{"v":121282,"d":"121,282"},{"v":5192051,"d":"5,192,051"},{"v":18074,"d":"18,074"},{"v":1195190,"d":"1,195,190"},{"v":19319,"d":"19,319"},{"v":944180,"d":"944,180"}]
["도세 계",{"$f":"SUM(D6,F6,H6,J6,L6,N6)","v":{"v":107080,"d":"107,080"}},{"$f":"SUM(E6,G6,I6,K6,M6,O6,)","v":{"v":3659574,"d":"3,659,574"}},{"$f":"SUM(D7:D15)","v":9},{"$f":"SUM(E7:E15)","v":{"v":25499,"d":"25,499"}},{"v":29897,"d":"29,897"},{"$f":"SUM(G7:G15)","v":{"v":2149986,"d":"2,149,986"}},0,0,{"v":58063,"d":"58,063"},{"v":1113998,"d":"1,113,998"},{"v":9256,"d":"9,256"},{"v":163812,"d":"163,812"},{"v":9855,"d":"9,855"},{"v":206279,"d":"206,279"}]
["취  득  세",791,{"$f":"SUM(E7,G7,I7,K7,M7,O7,)","v":{"v":1410421,"d":"1,410,421"}},{"$f":"SUM('1-3-2'!D7,'1-3-3'!D7)","v":0},{"$f":"SUM('1-3-2'!E7,'1-3-3'!E7)","v":0},{"$f":"SUM('1-3-2'!F7,'1-3-3'!F7)","v":273},{"$f":"SUM('1-3-2'!G7,'1-3-3'!G7)","v":{"v":1017797,"d":"1,017,797"}},{"$f":"SUM('1-3-2'!H7,'1-3-3'!H7)","v":0},{"$f":"SUM('1-3-2'!I7,'1-3-3'!I7)","v":0},{"$f":"SUM('1-3-2'!J7,'1-3-3'!J7)","v":371},{"$f":"SUM('1-3-2'!K7,'1-3-3'!K7)","v":{"v":275723,"d":"275,723"}},{"$f":"SUM('1-3-2'!L7,'1-3-3'!L7)","v":99},{"$f":"SUM('1-3-2'!M7,'1-3-3'!M7)","v":{"v":80522,"d":"80,522"}},{"$f":"SUM('1-3-2'!N7,'1-3-3'!N7)","v":48},{"$f":"SUM('1-3-2'!O7,'1-3-3'!O7)","v":{"v":36379,"d":"36,379"}}]
["등록면허세",{"v":2569,"d":"2,569"},{"v":38795,"d":"38,795"},{"$f":"SUM('1-3-2'!D8,'1-3-3'!D8)","v":0},{"$f":"SUM('1-3-2'!E8,'1-3-3'!E8)","v":0},{"$f":"SUM('1-3-2'!F8,'1-3-3'!F8)","v":754},{"$f":"SUM('1-3-2'!G8,'1-3-3'!G8)","v":{"v":12391,"d":"12,391"}},{"$f":"SUM('1-3-2'!H8,'1-3-3'!H8)","v":0},{"$f":"SUM('1-3-2'!I8,'1-3-3'!I8)","v":0},{"$f":"SUM('1-3-2'!J8,'1-3-3'!J8)","v":{"v":1747,"d":"1,747"}},{"$f":"SUM('1-3-2'!K8,'1-3-3'!K8)","v":{"v":25457,"d":"25,457"}},{"$f":"SUM('1-3-2'!L8,'1-3-3'!L8)","v":23},{"$f":"SUM('1-3-2'!M8,'1-3-3'!M8)","v":369},{"$f":"SUM('1-3-2'!N8,'1-3-3'!N8)","v":45},{"$f":"SUM('1-3-2'!O8,'1-3-3'!O8)","v":578}]
["지역자원시설세",{"v":4092,"d":"4,092"},{"v":289966,"d":"289,966"},{"$f":"SUM('1-3-2'!D9,'1-3-3'!D9)","v":0},{"$f":"SUM('1-3-2'!E9,'1-3-3'!E9)","v":0},{"$f":"SUM('1-3-2'!F9,'1-3-3'!F9)","v":{"v":1626,"d":"1,626"}},{"$f":"SUM('1-3-2'!G9,'1-3-3'!G9)","v":{"v":206724,"d":"206,724"}},{"$f":"SUM('1-3-2'!H9,'1-3-3'!H9)","v":0},{"$f":"SUM('1-3-2'!I9,'1-3-3'!I9)","v":0},{"$f":"SUM('1-3-2'!J9,'1-3-3'!J9)","v":{"v":1957,"d":"1,957"}},{"$f":"SUM('1-3-2'!K9,'1-3-3'!K9)","v":{"v":70816,"d":"70,816"}},{"$f":"SUM('1-3-2'!L9,'1-3-3'!L9)","v":50},{"$f":"SUM('1-3-2'!M9,'1-3-3'!M9)","v":{"v":1150,"d":"1,150"}},{"$f":"SUM('1-3-2'!N9,'1-3-3'!N9)","v":459},{"$f":"SUM('1-3-2'!O9,'1-3-3'!O9)","v":{"v":11276,"d":"11,276"}}]
["지방소비세",0,0,{"$f":"SUM('1-3-2'!D10,'1-3-3'!D10)","v":0},{"$f":"SUM('1-3-2'!E10,'1-3-3'!E10)","v":0},{"$f":"SUM('1-3-2'!F10,'1-3-3'!F10)","v":0},{"$f":"SUM('1-3-2'!G10,'1-3-3'!G10)","v":0},{"$f":"SUM('1-3-2'!H10,'1-3-3'!H10)","v":0},{"$f":"SUM('1-3-2'!I10,'1-3-3'!I10)","v":0},{"$f":"SUM('1-3-2'!J10,'1-3-3'!J10)","v":0},{"$f":"SUM('1-3-2'!K10,'1-3-3'!K10)","v":0},{"$f":"SUM('1-3-2'!L10,'1-3-3'!L10)","v":0},{"$f":"SUM('1-3-2'!M10,'1-3-3'!M10)","v":0},{"$f":"SUM('1-3-2'!N10,'1-3-3'!N10)","v":0},{"$f":"SUM('1-3-2'!O10,'1-3-3'!O10)","v":0}]
["등록세",115,{"v":66258,"d":"66,258"},{"$f":"SUM('1-3-2'!D11,'1-3-3'!D11)","v":0},{"$f":"SUM('1-3-2'!E11,'1-3-3'!E11)","v":0},{"$f":"SUM('1-3-2'!F11,'1-3-3'!F11)","v":59},{"$f":"SUM('1-3-2'!G11,'1-3-3'!G11)","v":{"v":48080,"d":"48,080"}},{"$f":"SUM('1-3-2'!H11,'1-3-3'!H11)","v":0},{"$f":"SUM('1-3-2'!I11,'1-3-3'!I11)","v":0},{"$f":"SUM('1-3-2'!J11,'1-3-3'!J11)","v":40},{"$f":"SUM('1-3-2'!K11,'1-3-3'!K11)","v":{"v":16581,"d":"16,581"}},{"$f":"SUM('1-3-2'!L11,'1-3-3'!L11)","v":11},{"$f":"SUM('1-3-2'!M11,'1-3-3'!M11)","v":{"v":1344,"d":"1,344"}},{"$f":"SUM('1-3-2'!N11,'1-3-3'!N11)","v":5},{"$f":"SUM('1-3-2'!O11,'1-3-3'!O11)","v":253}]
["면허세",{"v":1129,"d":"1,129"},{"v":13230,"d":"13,230"},{"$f":"SUM('1-3-2'!D12,'1-3-3'!D12)","v":0},{"$f":"SUM('1-3-2'!E12,'1-3-3'!E12)","v":0},{"$f":"SUM('1-3-2'!F12,'1-3-3'!F12)","v":395},{"$f":"SUM('1-3-2'!G12,'1-3-3'!G12)","v":{"v":4713,"d":"4,713"}},{"$f":"SUM('1-3-2'!H12,'1-3-3'!H12)","v":0},{"$f":"SUM('1-3-2'!I12,'1-3-3'!I12)","v":0},{"$f":"SUM('1-3-2'!J12,'1-3-3'!J12)","v":555},{"$f":"SUM('1-3-2'!K12,'1-3-3'!K12)","v":{"v":6659,"d":"6,659"}},{"$f":"SUM('1-3-2'!L12,'1-3-3'!L12)","v":97},{"$f":"SUM('1-3-2'!M12,'1-3-3'!M12)","v":979},{"$f":"SUM('1-3-2'!N12,'1-3-3'!N12)","v":82},{"$f":"SUM('1-3-2'!O12,'1-3-3'!O12)","v":879}]
["공동시설세",942,{"v":45587,"d":"45,587"},{"$f":"SUM('1-3-2'!D13,'1-3-3'!D13)","v":3},{"$f":"SUM('1-3-2'!E13,'1-3-3'!E13)","v":{"v":4928,"d":"4,928"}},{"$f":"SUM('1-3-2'!F13,'1-3-3'!F13)","v":481},{"$f":"SUM('1-3-2'!G13,'1-3-3'!G13)","v":{"v":28944,"d":"28,944"}},{"$f":"SUM('1-3-2'!H13,'1-3-3'!H13)","v":0},{"$f":"SUM('1-3-2'!I13,'1-3-3'!I13)","v":0},{"$f":"SUM('1-3-2'!J13,'1-3-3'!J13)","v":250},{"$f":"SUM('1-3-2'!K13,'1-3-3'!K13)","v":{"v":6974,"d":"6,974"}},{"$f":"SUM('1-3-2'!L13,'1-3-3'!L13)","v":108},{"$f":"SUM('1-3-2'!M13,'1-3-3'!M13)","v":{"v":2886,"d":"2,886"}},{"$f":"SUM('1-3-2'!N13,'1-3-3'!N13)","v":100},{"$f":"SUM('1-3-2'!O13,'1-3-3'!O13)","v":{"v":1855,"d":"1,855"}}]
["지역개발세",39,341,{"$f":"SUM('1-3-2'!D14,'1-3-3'!D14)","v":0},{"$f":"SUM('1-3-2'!E14,'1-3-3'!E14)","v":0},{"$f":"SUM('1-3-2'!F14,'1-3-3'!F14)","v":22},{"$f":"SUM('1-3-2'!G14,'1-3-3'!G14)","v":196},{"$f":"SUM('1-3-2'!H14,'1-3-3'!H14)","v":0},{"$f":"SUM('1-3-2'!I14,'1-3-3'!I14)","v":0},{"$f":"SUM('1-3-2'!J14,'1-3-3'!J14)","v":10},{"$f":"SUM('1-3-2'!K14,'1-3-3'!K14)","v":108},{"$f":"SUM('1-3-2'!L14,'1-3-3'!L14)","v":0},{"$f":"SUM('1-3-2'!M14,'1-3-3'!M14)","v":0},{"$f":"SUM('1-3-2'!N14,'1-3-3'!N14)","v":7},{"$f":"SUM('1-3-2'!O14,'1-3-3'!O14)","v":37}]
["지방교육세",{"v":97403,"d":"97,403"},{"v":1794976,"d":"1,794,976"},{"$f":"SUM('1-3-2'!D15,'1-3-3'!D15)","v":6},{"$f":"SUM('1-3-2'!E15,'1-3-3'!E15)","v":{"v":20571,"d":"20,571"}},{"$f":"SUM('1-3-2'!F15,'1-3-3'!F15)","v":{"v":26287,"d":"26,287"}},{"$f":"SUM('1-3-2'!G15,'1-3-3'!G15)","v":{"v":831141,"d":"831,141"}},{"$f":"SUM('1-3-2'!H15,'1-3-3'!H15)","v":0},{"$f":"SUM('1-3-2'!I15,'1-3-3'!I15)","v":0},{"$f":"SUM('1-3-2'!J15,'1-3-3'!J15)","v":{"v":53133,"d":"53,133"}},{"$f":"SUM('1-3-2'!K15,'1-3-3'!K15)","v":{"v":711680,"d":"711,680"}},{"$f":"SUM('1-3-2'!L15,'1-3-3'!L15)","v":{"v":8868,"d":"8,868"}},{"$f":"SUM('1-3-2'!M15,'1-3-3'!M15)","v":{"v":76562,"d":"76,562"}},{"$f":"SUM('1-3-2'!N15,'1-3-3'!N15)","v":{"v":9109,"d":"9,109"}},{"$f":"SUM('1-3-2'!O15,'1-3-3'!O15)","v":{"v":155022,"d":"155,022"}}]
["시군세 계",{"v":115778,"d":"115,778"},{"v":11062147,"d":"11,062,147"},{"$f":"SUM(D17:D27)","v":27},{"$f":"SUM(E17:E27)","v":{"v":390888,"d":"390,888"}},{"v":34245,"d":"34,245"},{"v":4796831,"d":"4,796,831"},5,{"v":27096,"d":"27,096"},{"v":63219,"d":"63,219"},{"v":4078053,"d":"4,078,053"},{"v":8818,"d":"8,818"},{"v":1031378,"d":"1,031,378"},{"v":9464,"d":"9,464"},{"v":737901,"d":"737,901"}]
["주  민  세",{"v":51586,"d":"51,586"},{"v":909474,"d":"909,474"},{"$f":"SUM('1-3-2'!D17,'1-3-3'!D17)","v":2},{"$f":"SUM('1-3-2'!E17,'1-3-3'!E17)","v":{"v":5805,"d":"5,805"}},{"$f":"SUM('1-3-2'!F17,'1-3-3'!F17)","v":{"v":10715,"d":"10,715"}},{"$f":"SUM('1-3-2'!G17,'1-3-3'!G17)","v":{"v":508663,"d":"508,663"}},{"$f":"SUM('1-3-2'!H17,'1-3-3'!H17)","v":0},{"$f":"SUM('1-3-2'!I17,'1-3-3'!I17)","v":0},{"$f":"SUM('1-3-2'!J17,'1-3-3'!J17)","v":{"v":32599,"d":"32,599"}},{"$f":"SUM('1-3-2'!K17,'1-3-3'!K17)","v":{"v":226830,"d":"226,830"}},{"$f":"SUM('1-3-2'!L17,'1-3-3'!L17)","v":{"v":4552,"d":"4,552"}},{"$f":"SUM('1-3-2'!M17,'1-3-3'!M17)","v":{"v":71145,"d":"71,145"}},{"$f":"SUM('1-3-2'!N17,'1-3-3'!N17)","v":{"v":3718,"d":"3,718"}},{"$f":"SUM('1-3-2'!O17,'1-3-3'!O17)","v":{"v":97031,"d":"97,031"}}]
["재  산  세",{"v":23949,"d":"23,949"},{"v":2160240,"d":"2,160,240"},{"$f":"SUM('1-3-2'!D18,'1-3-3'!D18)","v":9},{"$f":"SUM('1-3-2'!E18,'1-3-3'!E18)","v":{"v":337372,"d":"337,372"}},{"$f":"SUM('1-3-2'!F18,'1-3-3'!F18)","v":{"v":9912,"d":"9,912"}},{"$f":"SUM('1-3-2'!G18,'1-3-3'!G18)","v":{"v":1093747,"d":"1,093,747"}},{"$f":"SUM('1-3-2'!H18,'1-3-3'!H18)","v":0},{"$f":"SUM('1-3-2'!I18,'1-3-3'!I18)","v":0},{"$f":"SUM('1-3-2'!J18,'1-3-3'!J18)","v":{"v":11520,"d":"11,520"}},{"$f":"SUM('1-3-2'!K18,'1-3-3'!K18)","v":{"v":597910,"d":"597,910"}},{"$f":"SUM('1-3-2'!L18,'1-3-3'!L18)","v":778},{"$f":"SUM('1-3-2'!M18,'1-3-3'!M18)","v":{"v":84237,"d":"84,237"}},{"$f":"SUM('1-3-2'!N18,'1-3-3'!N18)","v":{"v":1730,"d":"1,730"}},{"$f":"SUM('1-3-2'!O18,'1-3-3'!O18)","v":{"v":46974,"d":"46,974"}}]
["자동차세",{"v":33172,"d":"33,172"},{"v":5095469,"d":"5,095,469"},{"$f":"SUM('1-3-2'!D19,'1-3-3'!D19)","v":0},{"$f":"SUM('1-3-2'!E19,'1-3-3'!E19)","v":0},{"$f":"SUM('1-3-2'!F19,'1-3-3'!F19)","v":{"v":11190,"d":"11,190"}},{"$f":"SUM('1-3-2'!G19,'1-3-3'!G19)","v":{"v":1897510,"d":"1,897,510"}},{"$f":"SUM('1-3-2'!H19,'1-3-3'!H19)","v":0},{"$f":"SUM('1-3-2'!I19,'1-3-3'!I19)","v":0},{"$f":"SUM('1-3-2'!J19,'1-3-3'!J19)","v":{"v":15892,"d":"15,892"}},{"$f":"SUM('1-3-2'!K19,'1-3-3'!K19)","v":{"v":2474228,"d":"2,474,228"}},{"$f":"SUM('1-3-2'!L19,'1-3-3'!L19)","v":{"v":2627,"d":"2,627"}},{"$f":"SUM('1-3-2'!M19,'1-3-3'!M19)","v":{"v":251649,"d":"251,649"}},{"$f":"SUM('1-3-2'!N19,'1-3-3'!N19)","v":{"v":3463,"d":"3,463"}},{"$f":"SUM('1-3-2'!O19,'1-3-3'!O19)","v":{"v":472082,"d":"472,082"}}]
["담배소비세",0,0,{"$f":"SUM('1-3-2'!D20,'1-3-3'!D20)","v":0},{"$f":"SUM('1-3-2'!E20,'1-3-3'!E20)","v":0},{"$f":"SUM('1-3-2'!F20,'1-3-3'!F20)","v":0},{"$f":"SUM('1-3-2'!G20,'1-3-3'!G20)","v":0},{"$f":"SUM('1-3-2'!H20,'1-3-3'!H20)","v":0},{"$f":"SUM('1-3-2'!I20,'1-3-3'!I20)","v":0},{"$f":"SUM('1-3-2'!J20,'1-3-3'!J20)","v":0},{"$f":"SUM('1-3-2'!K20,'1-3-3'!K20)","v":0},{"$f":"SUM('1-3-2'!L20,'1-3-3'!L20)","v":0},{"$f":"SUM('1-3-2'!M20,'1-3-3'!M20)","v":0},{"$f":"SUM('1-3-2'!N20,'1-3-3'!N20)","v":0},{"$f":"SUM('1-3-2'!O20,'1-3-3'!O20)","v":0}]
["지방소득세",{"v":3103,"d":"3,103"},{"v":2671650,"d":"2,671,650"},{"$f":"SUM('1-3-2'!D21,'1-3-3'!D21)","v":15},{"$f":"SUM('1-3-2'!E21,'1-3-3'!E21)","v":{"v":40695,"d":"40,695"}},{"$f":"SUM('1-3-2'!F21,'1-3-3'!F21)","v":853},{"$f":"SUM('1-3-2'!G21,'1-3-3'!G21)","v":{"v":1148464,"d":"1,148,464"}},{"$f":"SUM('1-3-2'!H21,'1-3-3'!H21)","v":5},{"$f":"SUM('1-3-2'!I21,'1-3-3'!I21)","v":{"v":27096,"d":"27,096"}},{"$f":"SUM('1-3-2'!J21,'1-3-3'!J21)","v":{"v":1880,"d":"1,880"}},{"$f":"SUM('1-3-2'!K21,'1-3-3'!K21)","v":{"v":743244,"d":"743,244"}},{"$f":"SUM('1-3-2'!L21,'1-3-3'!L21)","v":275},{"$f":"SUM('1-3-2'!M21,'1-3-3'!M21)","v":{"v":604724,"d":"604,724"}},{"$f":"SUM('1-3-2'!N21,'1-3-3'!N21)","v":75},{"$f":"SUM('1-3-2'!O21,'1-3-3'!O21)","v":{"v":107427,"d":"107,427"}}]
["주행세",0,0,{"$f":"SUM('1-3-2'!D22,'1-3-3'!D22)","v":0},{"$f":"SUM('1-3-2'!E22,'1-3-3'!E22)","v":0},{"$f":"SUM('1-3-2'!F22,'1-3-3'!F22)","v":0},{"$f":"SUM('1-3-2'!G22,'1-3-3'!G22)","v":0},{"$f":"SUM('1-3-2'!H22,'1-3-3'!H22)","v":0},{"$f":"SUM('1-3-2'!I22,'1-3-3'!I22)","v":0},{"$f":"SUM('1-3-2'!J22,'1-3-3'!J22)","v":0},{"$f":"SUM('1-3-2'!K22,'1-3-3'!K22)","v":0},{"$f":"SUM('1-3-2'!L22,'1-3-3'!L22)","v":0},{"$f":"SUM('1-3-2'!M22,'1-3-3'!M22)","v":0},{"$f":"SUM('1-3-2'!N22,'1-3-3'!N22)","v":0},{"$f":"SUM('1-3-2'!O22,'1-3-3'!O22)","v":0}]
["농업소득세",0,0,{"$f":"SUM('1-3-2'!D23,'1-3-3'!D23)","v":0},{"$f":"SUM('1-3-2'!E23,'1-3-3'!E23)","v":0},{"$f":"SUM('1-3-2'!F23,'1-3-3'!F23)","v":0},{"$f":"SUM('1-3-2'!G23,'1-3-3'!G23)","v":0},{"$f":"SUM('1-3-2'!H23,'1-3-3'!H23)","v":0},{"$f":"SUM('1-3-2'!I23,'1-3-3'!I23)","v":0},{"$f":"SUM('1-3-2'!J23,'1-3-3'!J23)","v":0},{"$f":"SUM('1-3-2'!K23,'1-3-3'!K23)","v":0},{"$f":"SUM('1-3-2'!L23,'1-3-3'!L23)","v":0},{"$f":"SUM('1-3-2'!M23,'1-3-3'!M23)","v":0},{"$f":"SUM('1-3-2'!N23,'1-3-3'!N23)","v":0},{"$f":"SUM('1-3-2'!O23,'1-3-3'!O23)","v":0}]
["도축세",0,0,{"$f":"SUM('1-3-2'!D24,'1-3-3'!D24)","v":0},{"$f":"SUM('1-3-2'!E24,'1-3-3'!E24)","v":0},{"$f":"SUM('1-3-2'!F24,'1-3-3'!F24)","v":0},{"$f":"SUM('1-3-2'!G24,'1-3-3'!G24)","v":0},{"$f":"SUM('1-3-2'!H24,'1-3-3'!H24)","v":0},{"$f":"SUM('1-3-2'!I24,'1-3-3'!I24)","v":0},{"$f":"SUM('1-3-2'!J24,'1-3-3'!J24)","v":0},{"$f":"SUM('1-3-2'!K24,'1-3-3'!K24)","v":0},{"$f":"SUM('1-3-2'!L24,'1-3-3'!L24)","v":0},{"$f":"SUM('1-3-2'!M24,'1-3-3'!M24)","v":0},{"$f":"SUM('1-3-2'!N24,'1-3-3'!N24)","v":0},{"$f":"SUM('1-3-2'!O24,'1-3-3'!O24)","v":0}]
["종합토지세",{"v":1261,"d":"1,261"},{"v":88039,"d":"88,039"},{"$f":"SUM('1-3-2'!D25,'1-3-3'!D25)","v":0},{"$f":"SUM('1-3-2'!E25,'1-3-3'!E25)","v":0},{"$f":"SUM('1-3-2'!F25,'1-3-3'!F25)","v":608},{"$f":"SUM('1-3-2'!G25,'1-3-3'!G25)","v":{"v":61267,"d":"61,267"}},{"$f":"SUM('1-3-2'!H25,'1-3-3'!H25)","v":0},{"$f":"SUM('1-3-2'!I25,'1-3-3'!I25)","v":0},{"$f":"SUM('1-3-2'!J25,'1-3-3'!J25)","v":373},{"$f":"SUM('1-3-2'!K25,'1-3-3'!K25)","v":{"v":10837,"d":"10,837"}},{"$f":"SUM('1-3-2'!L25,'1-3-3'!L25)","v":130},{"$f":"SUM('1-3-2'!M25,'1-3-3'!M25)","v":{"v":6427,"d":"6,427"}},{"$f":"SUM('1-3-2'!N25,'1-3-3'!N25)","v":150},{"$f":"SUM('1-3-2'!O25,'1-3-3'!O25)","v":{"v":9508,"d":"9,508"}}]
["도시계획세",{"v":2681,"d":"2,681"},{"v":122858,"d":"122,858"},{"$f":"SUM('1-3-2'!D26,'1-3-3'!D26)","v":1},{"$f":"SUM('1-3-2'!E26,'1-3-3'!E26)","v":{"v":7016,"d":"7,016"}},{"$f":"SUM('1-3-2'!F26,'1-3-3'!F26)","v":952},{"$f":"SUM('1-3-2'!G26,'1-3-3'!G26)","v":{"v":77329,"d":"77,329"}},{"$f":"SUM('1-3-2'!H26,'1-3-3'!H26)","v":0},{"$f":"SUM('1-3-2'!I26,'1-3-3'!I26)","v":0},{"$f":"SUM('1-3-2'!J26,'1-3-3'!J26)","v":949},{"$f":"SUM('1-3-2'!K26,'1-3-3'!K26)","v":{"v":23839,"d":"23,839"}},{"$f":"SUM('1-3-2'!L26,'1-3-3'!L26)","v":454},{"$f":"SUM('1-3-2'!M26,'1-3-3'!M26)","v":{"v":11745,"d":"11,745"}},{"$f":"SUM('1-3-2'!N26,'1-3-3'!N26)","v":325},{"$f":"SUM('1-3-2'!O26,'1-3-3'!O26)","v":{"v":2929,"d":"2,929"}}]
["사업소세",26,{"v":14417,"d":"14,417"},{"$f":"SUM('1-3-2'!D27,'1-3-3'!D27)","v":0},{"$f":"SUM('1-3-2'!E27,'1-3-3'!E27)","v":0},{"$f":"SUM('1-3-2'!F27,'1-3-3'!F27)","v":15},{"$f":"SUM('1-3-2'!G27,'1-3-3'!G27)","v":{"v":9851,"d":"9,851"}},{"$f":"SUM('1-3-2'!H27,'1-3-3'!H27)","v":0},{"$f":"SUM('1-3-2'!I27,'1-3-3'!I27)","v":0},{"$f":"SUM('1-3-2'!J27,'1-3-3'!J27)","v":6},{"$f":"SUM('1-3-2'!K27,'1-3-3'!K27)","v":{"v":1165,"d":"1,165"}},{"$f":"SUM('1-3-2'!L27,'1-3-3'!L27)","v":2},{"$f":"SUM('1-3-2'!M27,'1-3-3'!M27)","v":{"v":1451,"d":"1,451"}},{"$f":"SUM('1-3-2'!N27,'1-3-3'!N27)","v":3},{"$f":"SUM('1-3-2'!O27,'1-3-3'!O27)","v":{"v":1950,"d":"1,950"}}]

{"sheet":"1-3-2","index":4,"n_rows":27,"n_cols":15,"rows_kept":27,"merged":[[0,0,0,14],[2,0,3,0],[2,1,2,2],[2,3,2,4],[2,5,2,6],[2,7,2,8],[2,9,2,10],[2,11,2,12],[2,13,2,14]]}
["1-3-2. 체납액 사유별 현황"]
["(현년도)",{"$nulls":13},"(단위 : 건, 천원)"]
["구      분","계",null,"징수유예",null,"부도 및 경영난",null,"소송계류",null,"고질체납",null,"무  재  산",null,"행방불명"]
[null,"건수","금액","건수","금액","건수","금액","건수","금액","건수","금액","건수","금액","건수","금액"]
["합    계",{"$f":"+B6+B16","v":{"v":82274,"d":"82,274"}},{"v":6560883,"d":"6,560,883"},0,0,{"$f":"+F6+F16","v":{"v":11021,"d":"11,021"}},{"$f":"+G6+G16","v":{"v":2340935,"d":"2,340,935"}},0,0,{"v":61672,"d":"61,672"},{"v":3389193,"d":"3,389,193"},{"v":3222,"d":"3,222"},{"v":390890,"d":"390,890"},{"v":6359,"d":"6,359"},{"v":439865,"d":"439,865"}]
["도세 계",{"$f":"SUM(B7:B15)","v":{"v":41161,"d":"41,161"}},{"v":1580099,"d":"1,580,099"},0,0,{"$f":"SUM(F7:F15)","v":{"v":5181,"d":"5,181"}},{"$f":"SUM(G7:G15)","v":{"v":791124,"d":"791,124"}},0,0,{"v":30925,"d":"30,925"},{"v":652594,"d":"652,594"},{"v":1687,"d":"1,687"},{"v":42985,"d":"42,985"},{"v":3368,"d":"3,368"},{"v":93396,"d":"93,396"}]
["취  득  세",{"$f":"SUM(D7,F7,H7,J7,L7,N7)","v":207},{"$f":"SUM(E7,G7,I7,K7,M7,O7)","v":{"v":406884,"d":"406,884"}},0,0,61,{"v":294301,"d":"294,301"},null,null,125,{"v":108887,"d":"108,887"},21,{"v":3696,"d":"3,696"}]
["등록면허세",{"$f":"SUM(D8,F8,H8,J8,L8,N8)","v":{"v":1396,"d":"1,396"}},{"v":24643,"d":"24,643"},null,null,271,{"v":6285,"d":"6,285"},null,null,{"v":1110,"d":"1,110"},{"v":17989,"d":"17,989"},1,123,14,246]
["지역자원시설세",{"v":2604,"d":"2,604"},{"v":148033,"d":"148,033"},null,null,886,{"v":102142,"d":"102,142"},null,null,{"v":1381,"d":"1,381"},{"v":38627,"d":"38,627"},50,{"v":1150,"d":"1,150"},287,{"v":6114,"d":"6,114"}]
["지방소비세",0,0]
["등록세",1,125,0,0,{"$nulls":4},1,125,0,0]
["면허세",0,0]
["공동시설세",0,0]
["지역개발세",0,0]
["지방교육세",{"v":36953,"d":"36,953"},{"v":1000414,"d":"1,000,414"},0,0,{"v":3963,"d":"3,963"},{"v":388396,"d":"388,396"},null,null,{"v":28308,"d":"28,308"},{"v":486966,"d":"486,966"},{"v":1615,"d":"1,615"},{"v":38016,"d":"38,016"},{"v":3067,"d":"3,067"},{"v":87036,"d":"87,036"}]
["시군세 계",{"$f":"SUM(B17:B27)","v":{"v":41113,"d":"41,113"}},{"v":4980784,"d":"4,980,784"},0,0,{"$f":"SUM(F17:F27)","v":{"v":5840,"d":"5,840"}},{"$f":"SUM(G17:G27)","v":{"v":1549811,"d":"1,549,811"}},0,0,{"v":30747,"d":"30,747"},{"v":2736599,"d":"2,736,599"},{"v":1535,"d":"1,535"},{"v":347905,"d":"347,905"},{"v":2991,"d":"2,991"},{"v":346469,"d":"346,469"}]
["주  민  세",{"$f":"SUM(D17,F17,H17,J17,L17,N17)","v":{"v":22136,"d":"22,136"}},{"$f":"SUM(E17,G17,I17,K17,M17,O17)","v":{"v":188681,"d":"188,681"}},null,null,{"v":1278,"d":"1,278"},{"v":21325,"d":"21,325"},null,null,{"v":17932,"d":"17,932"},{"v":145827,"d":"145,827"},{"v":1158,"d":"1,158"},{"v":7491,"d":"7,491"},{"v":1768,"d":"1,768"},{"v":14038,"d":"14,038"}]
["재  산  세",{"$f":"SUM(D18,F18,H18,J18,L18,N18)","v":{"v":9801,"d":"9,801"}},{"v":862178,"d":"862,178"},null,null,{"v":2532,"d":"2,532"},{"v":450057,"d":"450,057"},null,null,{"v":6851,"d":"6,851"},{"v":399964,"d":"399,964"},null,null,418,{"v":12157,"d":"12,157"}]
["자동차세",{"v":7963,"d":"7,963"},{"v":2893583,"d":"2,893,583"},null,null,{"v":1754,"d":"1,754"},{"v":743211,"d":"743,211"},null,null,{"v":5079,"d":"5,079"},{"v":1753951,"d":"1,753,951"},358,{"v":118637,"d":"118,637"},772,{"v":277784,"d":"277,784"}]
["담배소비세",0,0]
["지방소득세",{"v":1213,"d":"1,213"},{"v":1036342,"d":"1,036,342"},null,null,276,{"v":335218,"d":"335,218"},null,null,885,{"v":436857,"d":"436,857"},19,{"v":221777,"d":"221,777"},33,{"v":42490,"d":"42,490"}]
["주행세",0,0]
["농업소득세",0,0]
["도축세",0,0]
["종합토지세",0,0]
["도시계획세",0,0,null,null,0,0]
["사업소세",0,0]

{"sheet":"1-3-3","index":5,"n_rows":27,"n_cols":15,"rows_kept":27,"merged":[[0,0,0,14],[2,0,3,0],[2,1,2,2],[2,3,2,4],[2,5,2,6],[2,7,2,8],[2,9,2,10],[2,11,2,12],[2,13,2,14]]}
["1-3-3. 체납액 사유별 현황"]
["(과년도)",{"$nulls":13},"(단위 : 건, 천원)"]
["구      분","계",null,"징수유예",null,"부도 및 경영난",null,"소송계류",null,"고질체납",null,"무  재  산",null,"행방불명"]
[null,"건수","금액","건수","금액","건수","금액","건수","금액","건수","금액","건수","금액","건수","금액"]
["합    계",{"$f":"+B6+B16","v":{"v":140584,"d":"140,584"}},{"v":8160838,"d":"8,160,838"},36,{"v":416387,"d":"416,387"},{"$f":"+F6+F16","v":{"v":53121,"d":"53,121"}},{"$f":"+G6+G16","v":{"v":4605882,"d":"4,605,882"}},5,{"v":27096,"d":"27,096"},{"v":59610,"d":"59,610"},{"v":1802858,"d":"1,802,858"},{"v":14852,"d":"14,852"},{"v":804300,"d":"804,300"},{"v":12960,"d":"12,960"},{"v":504315,"d":"504,315"}]
["도세 계",{"$f":"SUM(B7:B15)","v":{"v":65919,"d":"65,919"}},{"v":2079475,"d":"2,079,475"},9,{"v":25499,"d":"25,499"},{"$f":"SUM(F7:F15)","v":{"v":24716,"d":"24,716"}},{"$f":"SUM(G7:G15)","v":{"v":1358862,"d":"1,358,862"}},0,0,{"v":27138,"d":"27,138"},{"v":461404,"d":"461,404"},{"v":7569,"d":"7,569"},{"v":120827,"d":"120,827"},{"v":6487,"d":"6,487"},{"v":112883,"d":"112,883"}]
["취  득  세",{"$f":"SUM(D7,F7,H7,J7,L7,N7)","v":584},{"v":1003537,"d":"1,003,537"},null,null,212,{"v":723496,"d":"723,496"},null,null,246,{"v":166836,"d":"166,836"},78,{"v":76826,"d":"76,826"},48,{"v":36379,"d":"36,379"}]
["등록면허세",{"v":1173,"d":"1,173"},{"v":14152,"d":"14,152"},null,null,483,{"v":6106,"d":"6,106"},null,null,637,{"v":7468,"d":"7,468"},22,246,31,332]
["지역자원시설세",{"v":1488,"d":"1,488"},{"v":141933,"d":"141,933"},null,null,740,{"v":104582,"d":"104,582"},null,null,576,{"v":32189,"d":"32,189"},null,null,172,{"v":5162,"d":"5,162"}]
["지방소비세",0,0]
["등록세",{"$f":"SUM(D11,F11,H11,J11,L11,N11)","v":114},{"v":66133,"d":"66,133"},null,null,59,{"v":48080,"d":"48,080"},null,null,39,{"v":16456,"d":"16,456"},11,{"v":1344,"d":"1,344"},5,253]
["면허세",{"v":1129,"d":"1,129"},{"v":13230,"d":"13,230"},null,null,395,{"v":4713,"d":"4,713"},null,null,555,{"v":6659,"d":"6,659"},97,979,82,879]
["공동시설세",942,{"v":45587,"d":"45,587"},3,{"v":4928,"d":"4,928"},481,{"v":28944,"d":"28,944"},null,null,250,{"v":6974,"d":"6,974"},108,{"v":2886,"d":"2,886"},100,{"v":1855,"d":"1,855"}]
["지역개발세",39,341,null,null,22,196,null,null,10,108,null,null,7,37]
["지방교육세",{"v":60450,"d":"60,450"},{"v":794562,"d":"794,562"},6,{"v":20571,"d":"20,571"},{"v":22324,"d":"22,324"},{"v":442745,"d":"442,745"},null,null,{"v":24825,"d":"24,825"},{"v":224714,"d":"224,714"},{"v":7253,"d":"7,253"},{"v":38546,"d":"38,546"},{"v":6042,"d":"6,042"},{"v":67986,"d":"67,986"}]
["시군세 계",{"$f":"SUM(B17:B27)","v":{"v":74665,"d":"74,665"}},{"v":6081363,"d":"6,081,363"},27,{"v":390888,"d":"390,888"},{"$f":"SUM(F17:F27)","v":{"v":28405,"d":"28,405"}},{"$f":"SUM(G17:G27)","v":{"v":3247020,"d":"3,247,020"}},5,{"v":27096,"d":"27,096"},{"v":32472,"d":"32,472"},{"v":1341454,"d":"1,341,454"},{"v":7283,"d":"7,283"},{"v":683473,"d":"683,473"},{"v":6473,"d":"6,473"},{"v":391432,"d":"391,432"}]
["주  민  세",{"$f":"SUM(D17,F17,H17,J17,L17,N17)","v":{"v":29450,"d":"29,450"}},{"$f":"SUM(E17,G17,I17,K17,M17,O17)","v":{"v":720793,"d":"720,793"}},2,{"v":5805,"d":"5,805"},{"v":9437,"d":"9,437"},{"v":487338,"d":"487,338"},null,null,{"v":14667,"d":"14,667"},{"v":81003,"d":"81,003"},{"v":3394,"d":"3,394"},{"v":63654,"d":"63,654"},{"v":1950,"d":"1,950"},{"v":82993,"d":"82,993"}]
["재  산  세",{"$f":"SUM(D18,F18,H18,J18,L18,N18)","v":{"v":14148,"d":"14,148"}},{"v":1298062,"d":"1,298,062"},9,{"v":337372,"d":"337,372"},{"v":7380,"d":"7,380"},{"v":643690,"d":"643,690"},null,null,{"v":4669,"d":"4,669"},{"v":197946,"d":"197,946"},778,{"v":84237,"d":"84,237"},{"v":1312,"d":"1,312"},{"v":34817,"d":"34,817"}]
["자동차세",{"v":25209,"d":"25,209"},{"v":2201886,"d":"2,201,886"},null,null,{"v":9436,"d":"9,436"},{"v":1154299,"d":"1,154,299"},null,null,{"v":10813,"d":"10,813"},{"v":720277,"d":"720,277"},{"v":2269,"d":"2,269"},{"v":133012,"d":"133,012"},{"v":2691,"d":"2,691"},{"v":194298,"d":"194,298"}]
["담배소비세",{"$f":"SUM(D20,F20,H20,J20,L20,N20)","v":0},{"$f":"SUM(E20,G20,I20,K20,M20,O20)","v":0}]
["지방소득세",{"v":1890,"d":"1,890"},{"v":1635308,"d":"1,635,308"},15,{"v":40695,"d":"40,695"},577,{"v":813246,"d":"813,246"},5,{"v":27096,"d":"27,096"},995,{"v":306387,"d":"306,387"},256,{"v":382947,"d":"382,947"},42,{"v":64937,"d":"64,937"}]
["주행세",0,0]
["농업소득세",0,0]
["도축세",0,0]
["종합토지세",{"v":1261,"d":"1,261"},{"v":88039,"d":"88,039"},null,null,608,{"v":61267,"d":"61,267"},null,null,373,{"v":10837,"d":"10,837"},130,{"v":6427,"d":"6,427"},150,{"v":9508,"d":"9,508"}]
["도시계획세",{"v":2681,"d":"2,681"},{"v":122858,"d":"122,858"},1,{"v":7016,"d":"7,016"},952,{"v":77329,"d":"77,329"},null,null,949,{"v":23839,"d":"23,839"},454,{"v":11745,"d":"11,745"},325,{"v":2929,"d":"2,929"}]
["사업소세",26,{"v":14417,"d":"14,417"},null,null,15,{"v":9851,"d":"9,851"},null,null,6,{"v":1165,"d":"1,165"},2,{"v":1451,"d":"1,451"},3,{"v":1950,"d":"1,950"}]

{"sheet":"1-1채권확보","index":6,"n_rows":27,"n_cols":8,"rows_kept":27,"merged":[[2,0,3,1],[2,2,2,3],[2,4,2,5],[2,6,2,7],[4,0,4,1],[5,0,14,0],[15,0,26,0]]}
["1-1. 체납액 채권확보(재산압류) 내역"]
[{"$nulls":7},"(단위 : 천원)"]
["구    분",null,"계",null,"현   년   도",null,"과  년  도"]
[null,null,"건 수","금  액","건 수","금  액","건 수","금  액"]
["합    계",null,{"$f":"SUM(C6,C16)","v":{"v":188520,"d":"188,520"}},{"v":12672798,"d":"12,672,798"},{"v":67748,"d":"67,748"},{"v":5738559,"d":"5,738,559"},{"v":120772,"d":"120,772"},{"v":6934239,"d":"6,934,239"}]
["도\n\n세","소    계",{"$f":"SUM(C7:C15)","v":{"v":91227,"d":"91,227"}},{"v":3090938,"d":"3,090,938"},{"v":33948,"d":"33,948"},{"v":1303549,"d":"1,303,549"},{"v":57279,"d":"57,279"},{"v":1787389,"d":"1,787,389"}]
[null,"취  득  세",{"$f":"SUM(E7,G7)","v":668},{"v":1190720,"d":"1,190,720"},172,{"v":337714,"d":"337,714"},496,{"v":853006,"d":"853,006"}]
[null,"등록면허세",{"v":2032,"d":"2,032"},{"v":30370,"d":"30,370"},{"v":1047,"d":"1,047"},{"v":18482,"d":"18,482"},985,{"v":11888,"d":"11,888"}]
[null,"지역자원시설세",{"$f":"SUM(E9,G9)","v":{"v":3381,"d":"3,381"}},{"$f":"SUM(F9,H9)","v":{"v":243266,"d":"243,266"}},{"v":2057,"d":"2,057"},{"v":116946,"d":"116,946"},{"v":1324,"d":"1,324"},{"v":126320,"d":"126,320"}]
[null,"지방소비세",0,0,0,0,0,0]
[null,"등록세",92,{"v":52969,"d":"52,969"},1,63,91,{"v":52906,"d":"52,906"}]
[null,"면허세",914,{"v":10716,"d":"10,716"},0,0,914,{"v":10716,"d":"10,716"}]
[null,"공동시설세",848,{"v":41028,"d":"41,028"},0,0,848,{"v":41028,"d":"41,028"}]
[null,"지역개발세",{"$f":"SUM(E14,G14)","v":29},{"$f":"SUM(F14,H14)","v":256},0,0,29,256]
[null,"지방교육세",{"v":83263,"d":"83,263"},{"v":1521613,"d":"1,521,613"},{"v":30671,"d":"30,671"},{"v":830344,"d":"830,344"},{"v":52592,"d":"52,592"},{"v":691269,"d":"691,269"}]
["시\n\n군\n\n세","소    계",{"$f":"SUM(C17:C27)","v":{"v":97293,"d":"97,293"}},{"v":9581860,"d":"9,581,860"},{"v":33800,"d":"33,800"},{"v":4435010,"d":"4,435,010"},{"v":63493,"d":"63,493"},{"v":5146850,"d":"5,146,850"}]
[null,"주  민  세",{"$f":"SUM(E17,G17)","v":{"v":39868,"d":"39,868"}},{"v":710937,"d":"710,937"},{"v":16602,"d":"16,602"},{"v":141511,"d":"141,511"},{"v":23266,"d":"23,266"},{"v":569426,"d":"569,426"}]
[null,"재  산  세",{"v":21173,"d":"21,173"},{"v":1909633,"d":"1,909,633"},{"v":8723,"d":"8,723"},{"v":767338,"d":"767,338"},{"v":12450,"d":"12,450"},{"v":1142295,"d":"1,142,295"}]
[null,"자 동 차세",{"v":30757,"d":"30,757"},{"v":4774639,"d":"4,774,639"},{"v":7565,"d":"7,565"},{"v":2748904,"d":"2,748,904"},{"v":23192,"d":"23,192"},{"v":2025735,"d":"2,025,735"}]
[null,"담배소비세",0,0,0,0,0,0]
[null,"지방소득세",{"v":2328,"d":"2,328"},{"v":2003738,"d":"2,003,738"},910,{"v":777257,"d":"777,257"},{"v":1418,"d":"1,418"},{"v":1226481,"d":"1,226,481"}]
[null,"주행세",0,0,0,0,0,0]
[null,"농업소득세",0,0,0,0,0,0]
[null,"도축세",0,0,0,0,0,0]
[null,"종합토지세",{"v":1135,"d":"1,135"},{"v":79235,"d":"79,235"},0,0,{"v":1135,"d":"1,135"},{"v":79235,"d":"79,235"}]
[null,"도시계획세",{"v":2011,"d":"2,011"},{"v":92144,"d":"92,144"},0,0,{"v":2011,"d":"2,011"},{"v":92144,"d":"92,144"}]
[null,"사업소세",21,{"v":11534,"d":"11,534"},0,0,21,{"v":11534,"d":"11,534"}]

{"sheet":"2-3-1","index":7,"n_rows":27,"n_cols":13,"rows_kept":27,"merged":[[0,0,0,12],[2,0,3,0],[2,1,2,2],[2,3,2,4],[2,5,2,6],[2,7,2,8],[2,9,2,10],[2,11,2,12]]}
["2-3-1. 불납결손액 사유별 현황"]
["(총  계)",{"$nulls":10},"(단위 : 건, 천원)"]
["구      분","계",null,"무재산",null,"행방불명",null,"시효소멸",null,"공매시 무배당(청산부족)",null,"기타"]
[null,"건수","금액","건수","금액","건수","금액","건수","금액","건수","금액","건수","금액"]
["합    계",{"$f":"+B6+B16","v":{"v":12172,"d":"12,172"}},{"v":1504110,"d":"1,504,110"},{"v":2166,"d":"2,166"},{"v":502144,"d":"502,144"},{"$f":"+F6+F16","v":494},{"$f":"+G6+G16","v":{"v":73837,"d":"73,837"}},{"v":8851,"d":"8,851"},{"v":123531,"d":"123,531"},148,{"v":403053,"d":"403,053"},513,{"v":401545,"d":"401,545"}]
["도세 계",{"$f":"SUM(B7:B15)","v":{"v":5642,"d":"5,642"}},{"v":324140,"d":"324,140"},963,{"v":81673,"d":"81,673"},{"$f":"SUM(F7:F15)","v":208},{"$f":"SUM(G7:G15)","v":{"v":7553,"d":"7,553"}},{"v":4171,"d":"4,171"},{"v":26805,"d":"26,805"},85,{"v":40158,"d":"40,158"},215,{"v":167951,"d":"167,951"}]
["취  득  세",{"$f":"SUM(D7,F7,H7,J7,L7)","v":73},{"$f":"SUM(E7,G7,I7,K7,M7)","v":{"v":231082,"d":"231,082"}},{"$f":"SUM('2-3-2'!D7,'2-3-3'!D7)","v":17},{"$f":"SUM('2-3-2'!E7,'2-3-3'!E7)","v":{"v":50053,"d":"50,053"}},{"$f":"SUM('2-3-2'!F7,'2-3-3'!F7)","v":4},{"$f":"SUM('2-3-2'!G7,'2-3-3'!G7)","v":{"v":1648,"d":"1,648"}},{"$f":"SUM('2-3-2'!H7,'2-3-3'!H7)","v":46},{"$f":"SUM('2-3-2'!I7,'2-3-3'!I7)","v":{"v":8153,"d":"8,153"}},{"$f":"SUM('2-3-2'!J7,'2-3-3'!J7)","v":1},{"$f":"SUM('2-3-2'!K7,'2-3-3'!K7)","v":{"v":14259,"d":"14,259"}},{"$f":"SUM('2-3-2'!L7,'2-3-3'!L7)","v":5},{"$f":"SUM('2-3-2'!M7,'2-3-3'!M7)","v":{"v":156969,"d":"156,969"}}]
["등록면허세",{"$f":"SUM(D8,F8,H8,J8,L8)","v":5},98,{"$f":"SUM('2-3-2'!D8,'2-3-3'!D8)","v":0},{"$f":"SUM('2-3-2'!E8,'2-3-3'!E8)","v":0},{"$f":"SUM('2-3-2'!F8,'2-3-3'!F8)","v":0},{"$f":"SUM('2-3-2'!G8,'2-3-3'!G8)","v":0},{"$f":"SUM('2-3-2'!H8,'2-3-3'!H8)","v":0},{"$f":"SUM('2-3-2'!I8,'2-3-3'!I8)","v":0},{"$f":"SUM('2-3-2'!J8,'2-3-3'!J8)","v":3},{"$f":"SUM('2-3-2'!K8,'2-3-3'!K8)","v":77},{"$f":"SUM('2-3-2'!L8,'2-3-3'!L8)","v":2},{"$f":"SUM('2-3-2'!M8,'2-3-3'!M8)","v":21}]
["지역자원시설세",23,{"v":20681,"d":"20,681"},{"$f":"SUM('2-3-2'!D9,'2-3-3'!D9)","v":11},{"$f":"SUM('2-3-2'!E9,'2-3-3'!E9)","v":{"v":2799,"d":"2,799"}},{"$f":"SUM('2-3-2'!F9,'2-3-3'!F9)","v":0},{"$f":"SUM('2-3-2'!G9,'2-3-3'!G9)","v":0},{"$f":"SUM('2-3-2'!H9,'2-3-3'!H9)","v":0},{"$f":"SUM('2-3-2'!I9,'2-3-3'!I9)","v":0},{"$f":"SUM('2-3-2'!J9,'2-3-3'!J9)","v":11},{"$f":"SUM('2-3-2'!K9,'2-3-3'!K9)","v":{"v":17695,"d":"17,695"}},{"$f":"SUM('2-3-2'!L9,'2-3-3'!L9)","v":1},{"$f":"SUM('2-3-2'!M9,'2-3-3'!M9)","v":187}]
["지방소비세",0,0,{"$f":"SUM('2-3-2'!D10,'2-3-3'!D10)","v":0},{"$f":"SUM('2-3-2'!E10,'2-3-3'!E10)","v":0},{"$f":"SUM('2-3-2'!F10,'2-3-3'!F10)","v":0},{"$f":"SUM('2-3-2'!G10,'2-3-3'!G10)","v":0},{"$f":"SUM('2-3-2'!H10,'2-3-3'!H10)","v":0},{"$f":"SUM('2-3-2'!I10,'2-3-3'!I10)","v":0},{"$f":"SUM('2-3-2'!J10,'2-3-3'!J10)","v":0},{"$f":"SUM('2-3-2'!K10,'2-3-3'!K10)","v":0},{"$f":"SUM('2-3-2'!L10,'2-3-3'!L10)","v":0},{"$f":"SUM('2-3-2'!M10,'2-3-3'!M10)","v":0}]
["등록세",9,{"v":2244,"d":"2,244"},{"$f":"SUM('2-3-2'!D11,'2-3-3'!D11)","v":2},{"$f":"SUM('2-3-2'!E11,'2-3-3'!E11)","v":{"v":1052,"d":"1,052"}},{"$f":"SUM('2-3-2'!F11,'2-3-3'!F11)","v":1},{"$f":"SUM('2-3-2'!G11,'2-3-3'!G11)","v":989},{"$f":"SUM('2-3-2'!H11,'2-3-3'!H11)","v":6},{"$f":"SUM('2-3-2'!I11,'2-3-3'!I11)","v":203},{"$f":"SUM('2-3-2'!J11,'2-3-3'!J11)","v":0},{"$f":"SUM('2-3-2'!K11,'2-3-3'!K11)","v":0},{"$f":"SUM('2-3-2'!L11,'2-3-3'!L11)","v":0},{"$f":"SUM('2-3-2'!M11,'2-3-3'!M11)","v":0}]
["면허세",273,{"v":3377,"d":"3,377"},{"$f":"SUM('2-3-2'!D12,'2-3-3'!D12)","v":47},{"$f":"SUM('2-3-2'!E12,'2-3-3'!E12)","v":546},{"$f":"SUM('2-3-2'!F12,'2-3-3'!F12)","v":5},{"$f":"SUM('2-3-2'!G12,'2-3-3'!G12)","v":105},{"$f":"SUM('2-3-2'!H12,'2-3-3'!H12)","v":212},{"$f":"SUM('2-3-2'!I12,'2-3-3'!I12)","v":{"v":2637,"d":"2,637"}},{"$f":"SUM('2-3-2'!J12,'2-3-3'!J12)","v":7},{"$f":"SUM('2-3-2'!K12,'2-3-3'!K12)","v":60},{"$f":"SUM('2-3-2'!L12,'2-3-3'!L12)","v":2},{"$f":"SUM('2-3-2'!M12,'2-3-3'!M12)","v":29}]
["공동시설세",135,{"v":9852,"d":"9,852"},{"$f":"SUM('2-3-2'!D13,'2-3-3'!D13)","v":44},{"$f":"SUM('2-3-2'!E13,'2-3-3'!E13)","v":{"v":4906,"d":"4,906"}},{"$f":"SUM('2-3-2'!F13,'2-3-3'!F13)","v":17},{"$f":"SUM('2-3-2'!G13,'2-3-3'!G13)","v":86},{"$f":"SUM('2-3-2'!H13,'2-3-3'!H13)","v":68},{"$f":"SUM('2-3-2'!I13,'2-3-3'!I13)","v":636},{"$f":"SUM('2-3-2'!J13,'2-3-3'!J13)","v":4},{"$f":"SUM('2-3-2'!K13,'2-3-3'!K13)","v":{"v":1744,"d":"1,744"}},{"$f":"SUM('2-3-2'!L13,'2-3-3'!L13)","v":2},{"$f":"SUM('2-3-2'!M13,'2-3-3'!M13)","v":{"v":2480,"d":"2,480"}}]
["지역개발세",19,224,{"$f":"SUM('2-3-2'!D14,'2-3-3'!D14)","v":2},{"$f":"SUM('2-3-2'!E14,'2-3-3'!E14)","v":9},{"$f":"SUM('2-3-2'!F14,'2-3-3'!F14)","v":0},{"$f":"SUM('2-3-2'!G14,'2-3-3'!G14)","v":0},{"$f":"SUM('2-3-2'!H14,'2-3-3'!H14)","v":2},{"$f":"SUM('2-3-2'!I14,'2-3-3'!I14)","v":28},{"$f":"SUM('2-3-2'!J14,'2-3-3'!J14)","v":15},{"$f":"SUM('2-3-2'!K14,'2-3-3'!K14)","v":187},{"$f":"SUM('2-3-2'!L14,'2-3-3'!L14)","v":0},{"$f":"SUM('2-3-2'!M14,'2-3-3'!M14)","v":0}]
["지방교육세",{"v":5105,"d":"5,105"},{"v":56582,"d":"56,582"},{"$f":"SUM('2-3-2'!D15,'2-3-3'!D15)","v":840},{"$f":"SUM('2-3-2'!E15,'2-3-3'!E15)","v":{"v":22308,"d":"22,308"}},{"$f":"SUM('2-3-2'!F15,'2-3-3'!F15)","v":181},{"$f":"SUM('2-3-2'!G15,'2-3-3'!G15)","v":{"v":4725,"d":"4,725"}},{"$f":"SUM('2-3-2'!H15,'2-3-3'!H15)","v":{"v":3837,"d":"3,837"}},{"$f":"SUM('2-3-2'!I15,'2-3-3'!I15)","v":{"v":15148,"d":"15,148"}},{"$f":"SUM('2-3-2'!J15,'2-3-3'!J15)","v":44},{"$f":"SUM('2-3-2'!K15,'2-3-3'!K15)","v":{"v":6136,"d":"6,136"}},{"$f":"SUM('2-3-2'!L15,'2-3-3'!L15)","v":203},{"$f":"SUM('2-3-2'!M15,'2-3-3'!M15)","v":{"v":8265,"d":"8,265"}}]
["시군세 계",{"$f":"SUM(B17:B27)","v":{"v":6530,"d":"6,530"}},{"$f":"SUM(C17:C27)","v":{"v":1179970,"d":"1,179,970"}},{"$f":"SUM(D17:D27)","v":{"v":1203,"d":"1,203"}},{"v":420471,"d":"420,471"},{"$f":"SUM(F17:F27)","v":286},{"$f":"SUM(G17:G27)","v":{"v":66284,"d":"66,284"}},{"v":4680,"d":"4,680"},{"v":96726,"d":"96,726"},63,{"v":362895,"d":"362,895"},298,{"v":233594,"d":"233,594"}]
["주  민  세",{"$f":"SUM(D17,F17,H17,J17,L17)","v":{"v":2933,"d":"2,933"}},{"$f":"SUM(E17,G17,I17,K17,M17)","v":{"v":106538,"d":"106,538"}},{"$f":"SUM('2-3-2'!D17,'2-3-3'!D17)","v":268},{"$f":"SUM('2-3-2'!E17,'2-3-3'!E17)","v":{"v":63785,"d":"63,785"}},{"$f":"SUM('2-3-2'!F17,'2-3-3'!F17)","v":44},{"$f":"SUM('2-3-2'!G17,'2-3-3'!G17)","v":{"v":2617,"d":"2,617"}},{"$f":"SUM('2-3-2'!H17,'2-3-3'!H17)","v":{"v":2554,"d":"2,554"}},{"$f":"SUM('2-3-2'!I17,'2-3-3'!I17)","v":{"v":28870,"d":"28,870"}},{"$f":"SUM('2-3-2'!J17,'2-3-3'!J17)","v":12},{"$f":"SUM('2-3-2'!K17,'2-3-3'!K17)","v":617},{"$f":"SUM('2-3-2'!L17,'2-3-3'!L17)","v":55},{"$f":"SUM('2-3-2'!M17,'2-3-3'!M17)","v":{"v":10649,"d":"10,649"}}]
["재  산  세",{"$f":"SUM(D18,F18,H18,J18,L18)","v":{"v":1004,"d":"1,004"}},{"v":119085,"d":"119,085"},{"$f":"SUM('2-3-2'!D18,'2-3-3'!D18)","v":135},{"$f":"SUM('2-3-2'!E18,'2-3-3'!E18)","v":{"v":35614,"d":"35,614"}},{"$f":"SUM('2-3-2'!F18,'2-3-3'!F18)","v":20},{"$f":"SUM('2-3-2'!G18,'2-3-3'!G18)","v":397},{"$f":"SUM('2-3-2'!H18,'2-3-3'!H18)","v":780},{"$f":"SUM('2-3-2'!I18,'2-3-3'!I18)","v":{"v":8614,"d":"8,614"}},{"$f":"SUM('2-3-2'!J18,'2-3-3'!J18)","v":30},{"$f":"SUM('2-3-2'!K18,'2-3-3'!K18)","v":{"v":45029,"d":"45,029"}},{"$f":"SUM('2-3-2'!L18,'2-3-3'!L18)","v":39},{"$f":"SUM('2-3-2'!M18,'2-3-3'!M18)","v":{"v":29431,"d":"29,431"}}]
["자동차세",{"v":2026,"d":"2,026"},{"v":159055,"d":"159,055"},{"$f":"SUM('2-3-2'!D19,'2-3-3'!D19)","v":663},{"$f":"SUM('2-3-2'!E19,'2-3-3'!E19)","v":{"v":68357,"d":"68,357"}},{"$f":"SUM('2-3-2'!F19,'2-3-3'!F19)","v":195},{"$f":"SUM('2-3-2'!G19,'2-3-3'!G19)","v":{"v":22643,"d":"22,643"}},{"$f":"SUM('2-3-2'!H19,'2-3-3'!H19)","v":{"v":1036,"d":"1,036"}},{"$f":"SUM('2-3-2'!I19,'2-3-3'!I19)","v":{"v":55204,"d":"55,204"}},{"$f":"SUM('2-3-2'!J19,'2-3-3'!J19)","v":7},{"$f":"SUM('2-3-2'!K19,'2-3-3'!K19)","v":663},{"$f":"SUM('2-3-2'!L19,'2-3-3'!L19)","v":125},{"$f":"SUM('2-3-2'!M19,'2-3-3'!M19)","v":{"v":12188,"d":"12,188"}}]
["담배소비세",0,0,{"$f":"SUM('2-3-2'!D20,'2-3-3'!D20)","v":0},{"$f":"SUM('2-3-2'!E20,'2-3-3'!E20)","v":0},{"$f":"SUM('2-3-2'!F20,'2-3-3'!F20)","v":0},{"$f":"SUM('2-3-2'!G20,'2-3-3'!G20)","v":0},{"$f":"SUM('2-3-2'!H20,'2-3-3'!H20)","v":0},{"$f":"SUM('2-3-2'!I20,'2-3-3'!I20)","v":0},{"$f":"SUM('2-3-2'!J20,'2-3-3'!J20)","v":0},{"$f":"SUM('2-3-2'!K20,'2-3-3'!K20)","v":0},{"$f":"SUM('2-3-2'!L20,'2-3-3'!L20)","v":0},{"$f":"SUM('2-3-2'!M20,'2-3-3'!M20)","v":0}]
["지방소득세",89,{"v":748621,"d":"748,621"},{"$f":"SUM('2-3-2'!D21,'2-3-3'!D21)","v":62},{"$f":"SUM('2-3-2'!E21,'2-3-3'!E21)","v":{"v":239177,"d":"239,177"}},{"$f":"SUM('2-3-2'!F21,'2-3-3'!F21)","v":9},{"$f":"SUM('2-3-2'!G21,'2-3-3'!G21)","v":{"v":40310,"d":"40,310"}},{"$f":"SUM('2-3-2'!H21,'2-3-3'!H21)","v":0},{"$f":"SUM('2-3-2'!I21,'2-3-3'!I21)","v":0},{"$f":"SUM('2-3-2'!J21,'2-3-3'!J21)","v":8},{"$f":"SUM('2-3-2'!K21,'2-3-3'!K21)","v":{"v":312877,"d":"312,877"}},{"$f":"SUM('2-3-2'!L21,'2-3-3'!L21)","v":10},{"$f":"SUM('2-3-2'!M21,'2-3-3'!M21)","v":{"v":156257,"d":"156,257"}}]
["주행세",0,0,{"$f":"SUM('2-3-2'!D22,'2-3-3'!D22)","v":0},{"$f":"SUM('2-3-2'!E22,'2-3-3'!E22)","v":0},{"$f":"SUM('2-3-2'!F22,'2-3-3'!F22)","v":0},{"$f":"SUM('2-3-2'!G22,'2-3-3'!G22)","v":0},{"$f":"SUM('2-3-2'!H22,'2-3-3'!H22)","v":0},{"$f":"SUM('2-3-2'!I22,'2-3-3'!I22)","v":0},{"$f":"SUM('2-3-2'!J22,'2-3-3'!J22)","v":0},{"$f":"SUM('2-3-2'!K22,'2-3-3'!K22)","v":0},{"$f":"SUM('2-3-2'!L22,'2-3-3'!L22)","v":0},{"$f":"SUM('2-3-2'!M22,'2-3-3'!M22)","v":0}]
["농업소득세",0,0,{"$f":"SUM('2-3-2'!D23,'2-3-3'!D23)","v":0},{"$f":"SUM('2-3-2'!E23,'2-3-3'!E23)","v":0},{"$f":"SUM('2-3-2'!F23,'2-3-3'!F23)","v":0},{"$f":"SUM('2-3-2'!G23,'2-3-3'!G23)","v":0},{"$f":"SUM('2-3-2'!H23,'2-3-3'!H23)","v":0},{"$f":"SUM('2-3-2'!I23,'2-3-3'!I23)","v":0},{"$f":"SUM('2-3-2'!J23,'2-3-3'!J23)","v":0},{"$f":"SUM('2-3-2'!K23,'2-3-3'!K23)","v":0},{"$f":"SUM('2-3-2'!L23,'2-3-3'!L23)","v":0},{"$f":"SUM('2-3-2'!M23,'2-3-3'!M23)","v":0}]
["도축세",0,0,{"$f":"SUM('2-3-2'!D24,'2-3-3'!D24)","v":0},{"$f":"SUM('2-3-2'!E24,'2-3-3'!E24)","v":0},{"$f":"SUM('2-3-2'!F24,'2-3-3'!F24)","v":0},{"$f":"SUM('2-3-2'!G24,'2-3-3'!G24)","v":0},{"$f":"SUM('2-3-2'!H24,'2-3-3'!H24)","v":0},{"$f":"SUM('2-3-2'!I24,'2-3-3'!I24)","v":0},{"$f":"SUM('2-3-2'!J24,'2-3-3'!J24)","v":0},{"$f":"SUM('2-3-2'!K24,'2-3-3'!K24)","v":0},{"$f":"SUM('2-3-2'!L24,'2-3-3'!L24)","v":0},{"$f":"SUM('2-3-2'!M24,'2-3-3'!M24)","v":0}]
["종합토지세",120,{"v":13048,"d":"13,048"},{"$f":"SUM('2-3-2'!D25,'2-3-3'!D25)","v":18},{"$f":"SUM('2-3-2'!E25,'2-3-3'!E25)","v":969},{"$f":"SUM('2-3-2'!F25,'2-3-3'!F25)","v":0},{"$f":"SUM('2-3-2'!G25,'2-3-3'!G25)","v":0},{"$f":"SUM('2-3-2'!H25,'2-3-3'!H25)","v":68},{"$f":"SUM('2-3-2'!I25,'2-3-3'!I25)","v":839},{"$f":"SUM('2-3-2'!J25,'2-3-3'!J25)","v":0},{"$f":"SUM('2-3-2'!K25,'2-3-3'!K25)","v":0},{"$f":"SUM('2-3-2'!L25,'2-3-3'!L25)","v":34},{"$f":"SUM('2-3-2'!M25,'2-3-3'!M25)","v":{"v":11240,"d":"11,240"}}]
["도시계획세",353,{"v":30639,"d":"30,639"},{"$f":"SUM('2-3-2'!D26,'2-3-3'!D26)","v":57},{"$f":"SUM('2-3-2'!E26,'2-3-3'!E26)","v":{"v":12569,"d":"12,569"}},{"$f":"SUM('2-3-2'!F26,'2-3-3'!F26)","v":18},{"$f":"SUM('2-3-2'!G26,'2-3-3'!G26)","v":317},{"$f":"SUM('2-3-2'!H26,'2-3-3'!H26)","v":240},{"$f":"SUM('2-3-2'!I26,'2-3-3'!I26)","v":{"v":2923,"d":"2,923"}},{"$f":"SUM('2-3-2'!J26,'2-3-3'!J26)","v":3},{"$f":"SUM('2-3-2'!K26,'2-3-3'!K26)","v":{"v":1001,"d":"1,001"}},{"$f":"SUM('2-3-2'!L26,'2-3-3'!L26)","v":35},{"$f":"SUM('2-3-2'!M26,'2-3-3'!M26)","v":{"v":13829,"d":"13,829"}}]
["사업소세",5,{"v":2984,"d":"2,984"},{"$f":"SUM('2-3-2'!D27,'2-3-3'!D27)","v":0},{"$f":"SUM('2-3-2'!E27,'2-3-3'!E27)","v":0},{"$f":"SUM('2-3-2'!F27,'2-3-3'!F27)","v":0},{"$f":"SUM('2-3-2'!G27,'2-3-3'!G27)","v":0},{"$f":"SUM('2-3-2'!H27,'2-3-3'!H27)","v":2},{"$f":"SUM('2-3-2'!I27,'2-3-3'!I27)","v":276},{"$f":"SUM('2-3-2'!J27,'2-3-3'!J27)","v":3},{"$f":"SUM('2-3-2'!K27,'2-3-3'!K27)","v":{"v":2708,"d":"2,708"}},{"$f":"SUM('2-3-2'!L27,'2-3-3'!L27)","v":0},{"$f":"SUM('2-3-2'!M27,'2-3-3'!M27)","v":0}]

{"sheet":"2-3-2","index":8,"n_rows":27,"n_cols":13,"rows_kept":27,"merged":[[0,0,0,12],[2,0,3,0],[2,1,2,2],[2,3,2,4],[2,5,2,6],[2,7,2,8],[2,9,2,10],[2,11,2,12]]}
["2-3-2. 불납결손액 사유별 현황"]
["(현년도)",{"$nulls":11},"(단위 : 건, 천원)"]
["구      분","계",null,"무재산",null,"행방불명",null,"시효소멸",null,"공매시 무배당(청산부족)",null,"기타"]
[null,"건수","금액","건수","금액","건수","금액","건수","금액","건수","금액","건수","금액"]
["합    계",{"$f":"+B6+B16","v":21},878,17,424,{"$f":"+F6+F16","v":0},{"$f":"+G6+G16","v":0},0,0,3,77,1,377]
["도세 계",{"$f":"SUM(B7:B15)","v":11},118,8,41,{"$f":"SUM(F7:F15)","v":0},{"$f":"SUM(G7:G15)","v":0},0,0,3,77,0,0]
["취  득  세",{"$f":"SUM(D7,F7,H7,J7,L7)","v":0},{"$f":"SUM(E7,G7,I7,K7,M7)","v":0}]
["등록면허세",{"$f":"SUM(D8,F8,H8,J8,L8)","v":3},77,{"$nulls":6},3,77]
["지역자원시설세",0,0]
["지방소비세",0,0]
["등록세",0,0]
["면허세",0,0]
["공동시설세",0,0]
["지역개발세",0,0]
["지방교육세",8,41,8,41]
["시군세 계",{"$f":"SUM(B17:B27)","v":10},760,9,383,{"$f":"SUM(F17:F27)","v":0},{"$f":"SUM(G17:G27)","v":0},0,0,0,0,1,377]
["주  민  세",{"$f":"SUM(D17,F17,H17,J17,L17)","v":0},{"$f":"SUM(E17,G17,I17,K17,M17)","v":0}]
["재  산  세",{"$f":"SUM(D18,F18,H18,J18,L18)","v":3},35,3,35]
["자동차세",5,123,5,123]
["담배소비세",0,0]
["지방소득세",2,602,1,225,{"$nulls":6},1,377]
["주행세",0,0]
["농업소득세",0,0]
["도축세",0,0]
["종합토지세",0,0]
["도시계획세",0,0]
["사업소세",0,0]

{"sheet":"2-3-3","index":9,"n_rows":27,"n_cols":13,"rows_kept":27,"merged":[[0,0,0,14],[2,0,3,0],[2,1,2,2],[2,3,2,4],[2,5,2,6],[2,7,2,8],[2,9,2,10],[2,11,2,12]]}
["2-3-3. 불납결손액 사유별 현황"]
["(과년도)",{"$nulls":11},"(단위 : 건, 천원)"]
["구      분","계",null,"무재산",null,"행방불명",null,"시효소멸",null,"공매시 무배당(청산부족)",null,"기타"]
[null,"건수","금액","건수","금액","건수","금액","건수","금액","건수","금액","건수","금액"]
["합    계",{"$f":"+B6+B16","v":{"v":12151,"d":"12,151"}},{"v":1503232,"d":"1,503,232"},{"v":2149,"d":"2,149"},{"v":501720,"d":"501,720"},{"$f":"+F6+F16","v":494},{"$f":"+G6+G16","v":{"v":73837,"d":"73,837"}},{"v":8851,"d":"8,851"},{"v":123531,"d":"123,531"},145,{"v":402976,"d":"402,976"},512,{"v":401168,"d":"401,168"}]
["도세 계",{"$f":"SUM(B7:B15)","v":{"v":5631,"d":"5,631"}},{"v":324022,"d":"324,022"},955,{"v":81632,"d":"81,632"},{"$f":"SUM(F7:F15)","v":208},{"$f":"SUM(G7:G15)","v":{"v":7553,"d":"7,553"}},{"v":4171,"d":"4,171"},{"v":26805,"d":"26,805"},82,{"v":40081,"d":"40,081"},215,{"v":167951,"d":"167,951"}]
["취  득  세",{"$f":"SUM(D7,F7,H7,J7,L7)","v":73},{"$f":"SUM(E7,G7,I7,K7,M7)","v":{"v":231082,"d":"231,082"}},17,{"v":50053,"d":"50,053"},4,{"v":1648,"d":"1,648"},46,{"v":8153,"d":"8,153"},1,{"v":14259,"d":"14,259"},5,{"v":156969,"d":"156,969"}]
["등록면허세",{"$f":"SUM(D8,F8,H8,J8,L8)","v":2},21,{"$nulls":8},2,21]
["지역자원시설세",23,{"v":20681,"d":"20,681"},11,{"v":2799,"d":"2,799"},{"$nulls":4},11,{"v":17695,"d":"17,695"},1,187]
["지방소비세",0,0]
["등록세",9,{"v":2244,"d":"2,244"},2,{"v":1052,"d":"1,052"},1,989,6,203]
["면허세",273,{"v":3377,"d":"3,377"},47,546,5,105,212,{"v":2637,"d":"2,637"},7,60,2,29]
["공동시설세",135,{"v":9852,"d":"9,852"},44,{"v":4906,"d":"4,906"},17,86,68,636,4,{"v":1744,"d":"1,744"},2,{"v":2480,"d":"2,480"}]
["지역개발세",19,224,2,9,null,null,2,28,15,187]
["지방교육세",{"v":5097,"d":"5,097"},{"v":56541,"d":"56,541"},832,{"v":22267,"d":"22,267"},181,{"v":4725,"d":"4,725"},{"v":3837,"d":"3,837"},{"v":15148,"d":"15,148"},44,{"v":6136,"d":"6,136"},203,{"v":8265,"d":"8,265"}]
["시군세 계",{"$f":"SUM(B17:B27)","v":{"v":6520,"d":"6,520"}},{"v":1179210,"d":"1,179,210"},{"v":1194,"d":"1,194"},{"v":420088,"d":"420,088"},{"$f":"SUM(F17:F27)","v":286},{"$f":"SUM(G17:G27)","v":{"v":66284,"d":"66,284"}},{"v":4680,"d":"4,680"},{"v":96726,"d":"96,726"},63,{"v":362895,"d":"362,895"},297,{"v":233217,"d":"233,217"}]
["주  민  세",{"$f":"SUM(D17,F17,H17,J17,L17)","v":{"v":2933,"d":"2,933"}},{"$f":"SUM(E17,G17,I17,K17,M17)","v":{"v":106538,"d":"106,538"}},268,{"v":63785,"d":"63,785"},44,{"v":2617,"d":"2,617"},{"v":2554,"d":"2,554"},{"v":28870,"d":"28,870"},12,617,55,{"v":10649,"d":"10,649"}]
["재  산  세",{"$f":"SUM(D18,F18,H18,J18,L18)","v":{"v":1001,"d":"1,001"}},{"v":119050,"d":"119,050"},132,{"v":35579,"d":"35,579"},20,397,780,{"v":8614,"d":"8,614"},30,{"v":45029,"d":"45,029"},39,{"v":29431,"d":"29,431"}]
["자동차세",{"v":2021,"d":"2,021"},{"v":158932,"d":"158,932"},658,{"v":68234,"d":"68,234"},195,{"v":22643,"d":"22,643"},{"v":1036,"d":"1,036"},{"v":55204,"d":"55,204"},7,663,125,{"v":12188,"d":"12,188"}]
["담배소비세",0,0]
["지방소득세",87,{"v":748019,"d":"748,019"},61,{"v":238952,"d":"238,952"},9,{"v":40310,"d":"40,310"},null,null,8,{"v":312877,"d":"312,877"},9,{"v":155880,"d":"155,880"}]
["주행세",0,0]
["농업소득세",0,0]
["도축세",0,0]
["종합토지세",120,{"v":13048,"d":"13,048"},18,969,null,null,68,839,0,0,34,{"v":11240,"d":"11,240"}]
["도시계획세",353,{"v":30639,"d":"30,639"},57,{"v":12569,"d":"12,569"},18,317,240,{"v":2923,"d":"2,923"},3,{"v":1001,"d":"1,001"},35,{"v":13829,"d":"13,829"}]
["사업소세",5,{"v":2984,"d":"2,984"},{"$nulls":4},2,276,3,{"v":2708,"d":"2,708"}]

{"sheet":"3-3-1","index":10,"n_rows":27,"n_cols":15,"rows_kept":27,"merged":[[0,0,0,14],[2,0,3,0],[2,1,2,2],[2,3,2,4],[2,5,2,6],[2,7,2,8],[2,9,2,10],[2,11,2,12],[2,13,2,14]]}
["3-3-1. 과오납 환부액 사유별 현황"]
["(총  계)",{"$nulls":13},"(단위 : 건, 천원)"]
["구      분","계",null,"이중납부",null,"과세면제",null,"계약해제",null,"행정소송 패소",null,"착오부과",null,"기  타(국세조정 등)"]
[null,"건수","금액","건수","금액","건수","금액","건수","금액","건수","금액","건수","금액","건수","금액"]
["합    계",{"$f":"+B6+B16","v":{"v":18069,"d":"18,069"}},{"$f":"+C6+C16","v":{"v":4087881,"d":"4,087,881"}},197,{"v":50929,"d":"50,929"},{"$f":"+F6+F16","v":{"v":5436,"d":"5,436"}},{"$f":"+G6+G16","v":{"v":553888,"d":"553,888"}},464,{"v":132610,"d":"132,610"},72,{"v":70006,"d":"70,006"},13,{"v":3105,"d":"3,105"},{"v":11887,"d":"11,887"},{"v":3277343,"d":"3,277,343"}]
["도세 계",{"$f":"SUM(B7:B15)","v":{"v":8421,"d":"8,421"}},{"v":580749,"d":"580,749"},118,{"v":23431,"d":"23,431"},{"$f":"SUM(F7:F15)","v":{"v":4851,"d":"4,851"}},{"$f":"SUM(G7:G15)","v":{"v":323737,"d":"323,737"}},363,{"v":101723,"d":"101,723"},72,{"v":70006,"d":"70,006"},12,{"v":3088,"d":"3,088"},{"v":3005,"d":"3,005"},{"v":58764,"d":"58,764"}]
["취  득  세",{"$f":"SUM(D7,F7,H7,J7,L7,N7)","v":246},{"v":365500,"d":"365,500"},{"$f":"SUM('3-3-2'!D7,'3-3-3'!D7)","v":14},{"$f":"SUM('3-3-2'!E7,'3-3-3'!E7)","v":{"v":18301,"d":"18,301"}},{"$f":"SUM('3-3-2'!F7,'3-3-3'!F7)","v":143},{"$f":"SUM('3-3-2'!G7,'3-3-3'!G7)","v":{"v":200079,"d":"200,079"}},{"$f":"SUM('3-3-2'!H7,'3-3-3'!H7)","v":45},{"$f":"SUM('3-3-2'!I7,'3-3-3'!I7)","v":{"v":77566,"d":"77,566"}},{"$f":"SUM('3-3-2'!J7,'3-3-3'!J7)","v":36},{"$f":"SUM('3-3-2'!K7,'3-3-3'!K7)","v":{"v":63642,"d":"63,642"}},{"$f":"SUM('3-3-2'!L7,'3-3-3'!L7)","v":6},{"$f":"SUM('3-3-2'!M7,'3-3-3'!M7)","v":{"v":2853,"d":"2,853"}},{"$f":"SUM('3-3-2'!N7,'3-3-3'!N7)","v":2},{"$f":"SUM('3-3-2'!O7,'3-3-3'!O7)","v":{"v":3059,"d":"3,059"}}]
["등록면허세",{"v":4340,"d":"4,340"},{"v":95102,"d":"95,102"},{"$f":"SUM('3-3-2'!D8,'3-3-3'!D8)","v":32},{"$f":"SUM('3-3-2'!E8,'3-3-3'!E8)","v":{"v":2429,"d":"2,429"}},{"$f":"SUM('3-3-2'!F8,'3-3-3'!F8)","v":{"v":4214,"d":"4,214"}},{"$f":"SUM('3-3-2'!G8,'3-3-3'!G8)","v":{"v":82501,"d":"82,501"}},{"$f":"SUM('3-3-2'!H8,'3-3-3'!H8)","v":91},{"$f":"SUM('3-3-2'!I8,'3-3-3'!I8)","v":{"v":10139,"d":"10,139"}},{"$f":"SUM('3-3-2'!J8,'3-3-3'!J8)","v":0},{"$f":"SUM('3-3-2'!K8,'3-3-3'!K8)","v":0},{"$f":"SUM('3-3-2'!L8,'3-3-3'!L8)","v":2},{"$f":"SUM('3-3-2'!M8,'3-3-3'!M8)","v":15},{"$f":"SUM('3-3-2'!N8,'3-3-3'!N8)","v":1},{"$f":"SUM('3-3-2'!O8,'3-3-3'!O8)","v":18}]
["지역자원시설세",988,{"v":25024,"d":"25,024"},{"$f":"SUM('3-3-2'!D9,'3-3-3'!D9)","v":1},{"$f":"SUM('3-3-2'!E9,'3-3-3'!E9)","v":14},{"$f":"SUM('3-3-2'!F9,'3-3-3'!F9)","v":8},{"$f":"SUM('3-3-2'!G9,'3-3-3'!G9)","v":40},{"$f":"SUM('3-3-2'!H9,'3-3-3'!H9)","v":8},{"$f":"SUM('3-3-2'!I9,'3-3-3'!I9)","v":179},{"$f":"SUM('3-3-2'!J9,'3-3-3'!J9)","v":0},{"$f":"SUM('3-3-2'!K9,'3-3-3'!K9)","v":0},{"$f":"SUM('3-3-2'!L9,'3-3-3'!L9)","v":0},{"$f":"SUM('3-3-2'!M9,'3-3-3'!M9)","v":0},{"$f":"SUM('3-3-2'!N9,'3-3-3'!N9)","v":971},{"$f":"SUM('3-3-2'!O9,'3-3-3'!O9)","v":{"v":24791,"d":"24,791"}}]
["지방소비세",0,0,{"$f":"SUM('3-3-2'!D10,'3-3-3'!D10)","v":0},{"$f":"SUM('3-3-2'!E10,'3-3-3'!E10)","v":0},{"$f":"SUM('3-3-2'!F10,'3-3-3'!F10)","v":0},{"$f":"SUM('3-3-2'!G10,'3-3-3'!G10)","v":0},{"$f":"SUM('3-3-2'!H10,'3-3-3'!H10)","v":0},{"$f":"SUM('3-3-2'!I10,'3-3-3'!I10)","v":0},{"$f":"SUM('3-3-2'!J10,'3-3-3'!J10)","v":0},{"$f":"SUM('3-3-2'!K10,'3-3-3'!K10)","v":0},{"$f":"SUM('3-3-2'!L10,'3-3-3'!L10)","v":0},{"$f":"SUM('3-3-2'!M10,'3-3-3'!M10)","v":0},{"$f":"SUM('3-3-2'!N10,'3-3-3'!N10)","v":0},{"$f":"SUM('3-3-2'!O10,'3-3-3'!O10)","v":0}]
["등록세",12,{"v":1199,"d":"1,199"},{"$f":"SUM('3-3-2'!D11,'3-3-3'!D11)","v":0},{"$f":"SUM('3-3-2'!E11,'3-3-3'!E11)","v":0},{"$f":"SUM('3-3-2'!F11,'3-3-3'!F11)","v":4},{"$f":"SUM('3-3-2'!G11,'3-3-3'!G11)","v":829},{"$f":"SUM('3-3-2'!H11,'3-3-3'!H11)","v":8},{"$f":"SUM('3-3-2'!I11,'3-3-3'!I11)","v":370},{"$f":"SUM('3-3-2'!J11,'3-3-3'!J11)","v":0},{"$f":"SUM('3-3-2'!K11,'3-3-3'!K11)","v":0},{"$f":"SUM('3-3-2'!L11,'3-3-3'!L11)","v":0},{"$f":"SUM('3-3-2'!M11,'3-3-3'!M11)","v":0},{"$f":"SUM('3-3-2'!N11,'3-3-3'!N11)","v":0},{"$f":"SUM('3-3-2'!O11,'3-3-3'!O11)","v":0}]
["면허세",0,0,{"$f":"SUM('3-3-2'!D12,'3-3-3'!D12)","v":0},{"$f":"SUM('3-3-2'!E12,'3-3-3'!E12)","v":0},{"$f":"SUM('3-3-2'!F12,'3-3-3'!F12)","v":0},{"$f":"SUM('3-3-2'!G12,'3-3-3'!G12)","v":0},{"$f":"SUM('3-3-2'!H12,'3-3-3'!H12)","v":0},{"$f":"SUM('3-3-2'!I12,'3-3-3'!I12)","v":0},{"$f":"SUM('3-3-2'!J12,'3-3-3'!J12)","v":0},{"$f":"SUM('3-3-2'!K12,'3-3-3'!K12)","v":0},{"$f":"SUM('3-3-2'!L12,'3-3-3'!L12)","v":0},{"$f":"SUM('3-3-2'!M12,'3-3-3'!M12)","v":0},{"$f":"SUM('3-3-2'!N12,'3-3-3'!N12)","v":0},{"$f":"SUM('3-3-2'!O12,'3-3-3'!O12)","v":0}]
["공동시설세",0,0,{"$f":"SUM('3-3-2'!D13,'3-3-3'!D13)","v":0},{"$f":"SUM('3-3-2'!E13,'3-3-3'!E13)","v":0},{"$f":"SUM('3-3-2'!F13,'3-3-3'!F13)","v":0},{"$f":"SUM('3-3-2'!G13,'3-3-3'!G13)","v":0},{"$f":"SUM('3-3-2'!H13,'3-3-3'!H13)","v":0},{"$f":"SUM('3-3-2'!I13,'3-3-3'!I13)","v":0},{"$f":"SUM('3-3-2'!J13,'3-3-3'!J13)","v":0},{"$f":"SUM('3-3-2'!K13,'3-3-3'!K13)","v":0},{"$f":"SUM('3-3-2'!L13,'3-3-3'!L13)","v":0},{"$f":"SUM('3-3-2'!M13,'3-3-3'!M13)","v":0},{"$f":"SUM('3-3-2'!N13,'3-3-3'!N13)","v":0},{"$f":"SUM('3-3-2'!O13,'3-3-3'!O13)","v":0}]
["지역개발세",0,0,{"$f":"SUM('3-3-2'!D14,'3-3-3'!D14)","v":0},{"$f":"SUM('3-3-2'!E14,'3-3-3'!E14)","v":0},{"$f":"SUM('3-3-2'!F14,'3-3-3'!F14)","v":0},{"$f":"SUM('3-3-2'!G14,'3-3-3'!G14)","v":0},{"$f":"SUM('3-3-2'!H14,'3-3-3'!H14)","v":0},{"$f":"SUM('3-3-2'!I14,'3-3-3'!I14)","v":0},{"$f":"SUM('3-3-2'!J14,'3-3-3'!J14)","v":0},{"$f":"SUM('3-3-2'!K14,'3-3-3'!K14)","v":0},{"$f":"SUM('3-3-2'!L14,'3-3-3'!L14)","v":0},{"$f":"SUM('3-3-2'!M14,'3-3-3'!M14)","v":0},{"$f":"SUM('3-3-2'!N14,'3-3-3'!N14)","v":0},{"$f":"SUM('3-3-2'!O14,'3-3-3'!O14)","v":0}]
["지방교육세",{"v":2835,"d":"2,835"},{"v":93924,"d":"93,924"},{"$f":"SUM('3-3-2'!D15,'3-3-3'!D15)","v":71},{"$f":"SUM('3-3-2'!E15,'3-3-3'!E15)","v":{"v":2687,"d":"2,687"}},{"$f":"SUM('3-3-2'!F15,'3-3-3'!F15)","v":482},{"$f":"SUM('3-3-2'!G15,'3-3-3'!G15)","v":{"v":40288,"d":"40,288"}},{"$f":"SUM('3-3-2'!H15,'3-3-3'!H15)","v":211},{"$f":"SUM('3-3-2'!I15,'3-3-3'!I15)","v":{"v":13469,"d":"13,469"}},{"$f":"SUM('3-3-2'!J15,'3-3-3'!J15)","v":36},{"$f":"SUM('3-3-2'!K15,'3-3-3'!K15)","v":{"v":6364,"d":"6,364"}},{"$f":"SUM('3-3-2'!L15,'3-3-3'!L15)","v":4},{"$f":"SUM('3-3-2'!M15,'3-3-3'!M15)","v":220},{"$f":"SUM('3-3-2'!N15,'3-3-3'!N15)","v":{"v":2031,"d":"2,031"}},{"$f":"SUM('3-3-2'!O15,'3-3-3'!O15)","v":{"v":30896,"d":"30,896"}}]
["시군세 계",{"$f":"SUM(B17:B27)","v":{"v":9648,"d":"9,648"}},{"v":3507132,"d":"3,507,132"},79,{"v":27498,"d":"27,498"},{"$f":"SUM(F17:F27)","v":585},{"$f":"SUM(G17:G27)","v":{"v":230151,"d":"230,151"}},101,{"v":30887,"d":"30,887"},0,0,1,17,{"v":8882,"d":"8,882"},{"v":3218579,"d":"3,218,579"}]
["주  민  세",{"$f":"SUM(D17,F17,H17,J17,L17,N17)","v":59},{"$f":"SUM(E17,G17,I17,K17,M17,O17)","v":{"v":112164,"d":"112,164"}},{"$f":"SUM('3-3-2'!D17,'3-3-3'!D17)","v":9},{"$f":"SUM('3-3-2'!E17,'3-3-3'!E17)","v":99},{"$f":"SUM('3-3-2'!F17,'3-3-3'!F17)","v":12},{"$f":"SUM('3-3-2'!G17,'3-3-3'!G17)","v":{"v":4830,"d":"4,830"}},{"$f":"SUM('3-3-2'!H17,'3-3-3'!H17)","v":15},{"$f":"SUM('3-3-2'!I17,'3-3-3'!I17)","v":{"v":1126,"d":"1,126"}},{"$f":"SUM('3-3-2'!J17,'3-3-3'!J17)","v":0},{"$f":"SUM('3-3-2'!K17,'3-3-3'!K17)","v":0},{"$f":"SUM('3-3-2'!L17,'3-3-3'!L17)","v":0},{"$f":"SUM('3-3-2'!M17,'3-3-3'!M17)","v":0},{"$f":"SUM('3-3-2'!N17,'3-3-3'!N17)","v":23},{"$f":"SUM('3-3-2'!O17,'3-3-3'!O17)","v":{"v":106109,"d":"106,109"}}]
["재  산  세",{"$f":"SUM(D18,F18,H18,J18,L18,N18)","v":125},{"v":118850,"d":"118,850"},{"$f":"SUM('3-3-2'!D18,'3-3-3'!D18)","v":14},{"$f":"SUM('3-3-2'!E18,'3-3-3'!E18)","v":197},{"$f":"SUM('3-3-2'!F18,'3-3-3'!F18)","v":35},{"$f":"SUM('3-3-2'!G18,'3-3-3'!G18)","v":{"v":84593,"d":"84,593"}},{"$f":"SUM('3-3-2'!H18,'3-3-3'!H18)","v":75},{"$f":"SUM('3-3-2'!I18,'3-3-3'!I18)","v":{"v":27991,"d":"27,991"}},{"$f":"SUM('3-3-2'!J18,'3-3-3'!J18)","v":0},{"$f":"SUM('3-3-2'!K18,'3-3-3'!K18)","v":0},{"$f":"SUM('3-3-2'!L18,'3-3-3'!L18)","v":0},{"$f":"SUM('3-3-2'!M18,'3-3-3'!M18)","v":0},{"$f":"SUM('3-3-2'!N18,'3-3-3'!N18)","v":1},{"$f":"SUM('3-3-2'!O18,'3-3-3'!O18)","v":{"v":6069,"d":"6,069"}}]
["자동차세",{"v":4041,"d":"4,041"},{"v":157726,"d":"157,726"},{"$f":"SUM('3-3-2'!D19,'3-3-3'!D19)","v":16},{"$f":"SUM('3-3-2'!E19,'3-3-3'!E19)","v":{"v":1738,"d":"1,738"}},{"$f":"SUM('3-3-2'!F19,'3-3-3'!F19)","v":348},{"$f":"SUM('3-3-2'!G19,'3-3-3'!G19)","v":{"v":32992,"d":"32,992"}},{"$f":"SUM('3-3-2'!H19,'3-3-3'!H19)","v":0},{"$f":"SUM('3-3-2'!I19,'3-3-3'!I19)","v":0},{"$f":"SUM('3-3-2'!J19,'3-3-3'!J19)","v":0},{"$f":"SUM('3-3-2'!K19,'3-3-3'!K19)","v":0},{"$f":"SUM('3-3-2'!L19,'3-3-3'!L19)","v":0},{"$f":"SUM('3-3-2'!M19,'3-3-3'!M19)","v":0},{"$f":"SUM('3-3-2'!N19,'3-3-3'!N19)","v":{"v":3677,"d":"3,677"}},{"$f":"SUM('3-3-2'!O19,'3-3-3'!O19)","v":{"v":122996,"d":"122,996"}}]
["담배소비세",2,5,{"$f":"SUM('3-3-2'!D20,'3-3-3'!D20)","v":0},{"$f":"SUM('3-3-2'!E20,'3-3-3'!E20)","v":0},{"$f":"SUM('3-3-2'!F20,'3-3-3'!F20)","v":2},{"$f":"SUM('3-3-2'!G20,'3-3-3'!G20)","v":5},{"$f":"SUM('3-3-2'!H20,'3-3-3'!H20)","v":0},{"$f":"SUM('3-3-2'!I20,'3-3-3'!I20)","v":0},{"$f":"SUM('3-3-2'!J20,'3-3-3'!J20)","v":0},{"$f":"SUM('3-3-2'!K20,'3-3-3'!K20)","v":0},{"$f":"SUM('3-3-2'!L20,'3-3-3'!L20)","v":0},{"$f":"SUM('3-3-2'!M20,'3-3-3'!M20)","v":0},{"$f":"SUM('3-3-2'!N20,'3-3-3'!N20)","v":0},{"$f":"SUM('3-3-2'!O20,'3-3-3'!O20)","v":0}]
["지방소득세",{"v":5417,"d":"5,417"},{"v":3118330,"d":"3,118,330"},{"$f":"SUM('3-3-2'!D21,'3-3-3'!D21)","v":40},{"$f":"SUM('3-3-2'!E21,'3-3-3'!E21)","v":{"v":25464,"d":"25,464"}},{"$f":"SUM('3-3-2'!F21,'3-3-3'!F21)","v":186},{"$f":"SUM('3-3-2'!G21,'3-3-3'!G21)","v":{"v":107725,"d":"107,725"}},{"$f":"SUM('3-3-2'!H21,'3-3-3'!H21)","v":9},{"$f":"SUM('3-3-2'!I21,'3-3-3'!I21)","v":{"v":1719,"d":"1,719"}},{"$f":"SUM('3-3-2'!J21,'3-3-3'!J21)","v":0},{"$f":"SUM('3-3-2'!K21,'3-3-3'!K21)","v":0},{"$f":"SUM('3-3-2'!L21,'3-3-3'!L21)","v":1},{"$f":"SUM('3-3-2'!M21,'3-3-3'!M21)","v":17},{"$f":"SUM('3-3-2'!N21,'3-3-3'!N21)","v":{"v":5181,"d":"5,181"}},{"$f":"SUM('3-3-2'!O21,'3-3-3'!O21)","v":{"v":2983405,"d":"2,983,405"}}]
["주행세",0,0,{"$f":"SUM('3-3-2'!D22,'3-3-3'!D22)","v":0},{"$f":"SUM('3-3-2'!E22,'3-3-3'!E22)","v":0},{"$f":"SUM('3-3-2'!F22,'3-3-3'!F22)","v":0},{"$f":"SUM('3-3-2'!G22,'3-3-3'!G22)","v":0},{"$f":"SUM('3-3-2'!H22,'3-3-3'!H22)","v":0},{"$f":"SUM('3-3-2'!I22,'3-3-3'!I22)","v":0},{"$f":"SUM('3-3-2'!J22,'3-3-3'!J22)","v":0},{"$f":"SUM('3-3-2'!K22,'3-3-3'!K22)","v":0},{"$f":"SUM('3-3-2'!L22,'3-3-3'!L22)","v":0},{"$f":"SUM('3-3-2'!M22,'3-3-3'!M22)","v":0},{"$f":"SUM('3-3-2'!N22,'3-3-3'!N22)","v":0},{"$f":"SUM('3-3-2'!O22,'3-3-3'!O22)","v":0}]
["농업소득세",0,0,{"$f":"SUM('3-3-2'!D23,'3-3-3'!D23)","v":0},{"$f":"SUM('3-3-2'!E23,'3-3-3'!E23)","v":0},{"$f":"SUM('3-3-2'!F23,'3-3-3'!F23)","v":0},{"$f":"SUM('3-3-2'!G23,'3-3-3'!G23)","v":0},{"$f":"SUM('3-3-2'!H23,'3-3-3'!H23)","v":0},{"$f":"SUM('3-3-2'!I23,'3-3-3'!I23)","v":0},{"$f":"SUM('3-3-2'!J23,'3-3-3'!J23)","v":0},{"$f":"SUM('3-3-2'!K23,'3-3-3'!K23)","v":0},{"$f":"SUM('3-3-2'!L23,'3-3-3'!L23)","v":0},{"$f":"SUM('3-3-2'!M23,'3-3-3'!M23)","v":0},{"$f":"SUM('3-3-2'!N23,'3-3-3'!N23)","v":0},{"$f":"SUM('3-3-2'!O23,'3-3-3'!O23)","v":0}]
["도축세",0,0,{"$f":"SUM('3-3-2'!D24,'3-3-3'!D24)","v":0},{"$f":"SUM('3-3-2'!E24,'3-3-3'!E24)","v":0},{"$f":"SUM('3-3-2'!F24,'3-3-3'!F24)","v":0},{"$f":"SUM('3-3-2'!G24,'3-3-3'!G24)","v":0},{"$f":"SUM('3-3-2'!H24,'3-3-3'!H24)","v":0},{"$f":"SUM('3-3-2'!I24,'3-3-3'!I24)","v":0},{"$f":"SUM('3-3-2'!J24,'3-3-3'!J24)","v":0},{"$f":"SUM('3-3-2'!K24,'3-3-3'!K24)","v":0},{"$f":"SUM('3-3-2'!L24,'3-3-3'!L24)","v":0},{"$f":"SUM('3-3-2'!M24,'3-3-3'!M24)","v":0},{"$f":"SUM('3-3-2'!N24,'3-3-3'!N24)","v":0},{"$f":"SUM('3-3-2'!O24,'3-3-3'!O24)","v":0}]
["종합토지세",0,0,{"$f":"SUM('3-3-2'!D25,'3-3-3'!D25)","v":0},{"$f":"SUM('3-3-2'!E25,'3-3-3'!E25)","v":0},{"$f":"SUM('3-3-2'!F25,'3-3-3'!F25)","v":0},{"$f":"SUM('3-3-2'!G25,'3-3-3'!G25)","v":0},{"$f":"SUM('3-3-2'!H25,'3-3-3'!H25)","v":0},{"$f":"SUM('3-3-2'!I25,'3-3-3'!I25)","v":0},{"$f":"SUM('3-3-2'!J25,'3-3-3'!J25)","v":0},{"$f":"SUM('3-3-2'!K25,'3-3-3'!K25)","v":0},{"$f":"SUM('3-3-2'!L25,'3-3-3'!L25)","v":0},{"$f":"SUM('3-3-2'!M25,'3-3-3'!M25)","v":0},{"$f":"SUM('3-3-2'!N25,'3-3-3'!N25)","v":0},{"$f":"SUM('3-3-2'!O25,'3-3-3'!O25)","v":0}]
["도시계획세",4,57,{"$f":"SUM('3-3-2'!D26,'3-3-3'!D26)","v":0},{"$f":"SUM('3-3-2'!E26,'3-3-3'!E26)","v":0},{"$f":"SUM('3-3-2'!F26,'3-3-3'!F26)","v":2},{"$f":"SUM('3-3-2'!G26,'3-3-3'!G26)","v":6},{"$f":"SUM('3-3-2'!H26,'3-3-3'!H26)","v":2},{"$f":"SUM('3-3-2'!I26,'3-3-3'!I26)","v":51},{"$f":"SUM('3-3-2'!J26,'3-3-3'!J26)","v":0},{"$f":"SUM('3-3-2'!K26,'3-3-3'!K26)","v":0},{"$f":"SUM('3-3-2'!L26,'3-3-3'!L26)","v":0},{"$f":"SUM('3-3-2'!M26,'3-3-3'!M26)","v":0},{"$f":"SUM('3-3-2'!N26,'3-3-3'!N26)","v":0},{"$f":"SUM('3-3-2'!O26,'3-3-3'!O26)","v":0}]
["사업소세",0,0,{"$f":"SUM('3-3-2'!D27,'3-3-3'!D27)","v":0},{"$f":"SUM('3-3-2'!E27,'3-3-3'!E27)","v":0},{"$f":"SUM('3-3-2'!F27,'3-3-3'!F27)","v":0},{"$f":"SUM('3-3-2'!G27,'3-3-3'!G27)","v":0},{"$f":"SUM('3-3-2'!H27,'3-3-3'!H27)","v":0},{"$f":"SUM('3-3-2'!I27,'3-3-3'!I27)","v":0},{"$f":"SUM('3-3-2'!J27,'3-3-3'!J27)","v":0},{"$f":"SUM('3-3-2'!K27,'3-3-3'!K27)","v":0},{"$f":"SUM('3-3-2'!L27,'3-3-3'!L27)","v":0},{"$f":"SUM('3-3-2'!M27,'3-3-3'!M27)","v":0},{"$f":"SUM('3-3-2'!N27,'3-3-3'!N27)","v":0},{"$f":"SUM('3-3-2'!O27,'3-3-3'!O27)","v":0}]

{"sheet":"3-3-2","index":11,"n_rows":27,"n_cols":15,"rows_kept":27,"merged":[[0,0,0,14],[2,0,3,0],[2,1,2,2],[2,3,2,4],[2,5,2,6],[2,7,2,8],[2,9,2,10],[2,11,2,12],[2,13,2,14]]}
["3-3-2. 과오납 환부액 사유별 현황"]
["(현년도)",{"$nulls":13},"(단위 : 건, 천원)"]
["구      분","계",null,"이중납부",null,"과세면제",null,"계약해제",null,"행정소송 패소",null,"착오부과",null,"기  타(국세조정 등)"]
[null,"건수","금액","건수","금액","건수","금액","건수","금액","건수","금액","건수","금액","건수","금액"]
["합    계",{"$f":"+B6+B16","v":{"v":16197,"d":"16,197"}},{"v":1245629,"d":"1,245,629"},182,{"v":43767,"d":"43,767"},{"$f":"+F6+F16","v":{"v":5218,"d":"5,218"}},{"$f":"+G6+G16","v":{"v":452235,"d":"452,235"}},340,{"v":122187,"d":"122,187"},0,0,12,{"v":3088,"d":"3,088"},{"v":10445,"d":"10,445"},{"v":624352,"d":"624,352"}]
["도세 계",{"$f":"SUM(B7:B15)","v":{"v":7858,"d":"7,858"}},{"v":459209,"d":"459,209"},111,{"v":23399,"d":"23,399"},{"$f":"SUM(F7:F15)","v":{"v":4762,"d":"4,762"}},{"$f":"SUM(G7:G15)","v":{"v":284456,"d":"284,456"}},294,{"v":93302,"d":"93,302"},0,0,12,{"v":3088,"d":"3,088"},{"v":2679,"d":"2,679"},{"v":54964,"d":"54,964"}]
["취  득  세",{"$f":"SUM(D7,F7,H7,J7,L7,N7)","v":177},{"v":258293,"d":"258,293"},14,{"v":18301,"d":"18,301"},118,{"v":164220,"d":"164,220"},37,{"v":69860,"d":"69,860"},null,null,6,{"v":2853,"d":"2,853"},2,{"v":3059,"d":"3,059"}]
["등록면허세",{"v":4333,"d":"4,333"},{"v":94633,"d":"94,633"},31,{"v":2423,"d":"2,423"},{"v":4213,"d":"4,213"},{"v":82422,"d":"82,422"},86,{"v":9755,"d":"9,755"},null,null,2,15,1,18]
["지역자원시설세",988,{"v":25024,"d":"25,024"},1,14,8,40,8,179,{"$nulls":4},971,{"v":24791,"d":"24,791"}]
["지방소비세",0,0]
["등록세",9,437,null,null,1,67,8,370]
["면허세",0,0]
["공동시설세",0,0]
["지역개발세",0,0]
["지방교육세",{"v":2351,"d":"2,351"},{"v":80822,"d":"80,822"},65,{"v":2661,"d":"2,661"},422,{"v":37707,"d":"37,707"},155,{"v":13138,"d":"13,138"},null,null,4,220,{"v":1705,"d":"1,705"},{"v":27096,"d":"27,096"}]
["시군세 계",{"$f":"SUM(B17:B27)","v":{"v":8339,"d":"8,339"}},{"v":786420,"d":"786,420"},71,{"v":20368,"d":"20,368"},{"$f":"SUM(F17:F27)","v":456},{"$f":"SUM(G17:G27)","v":{"v":167779,"d":"167,779"}},46,{"v":28885,"d":"28,885"},0,0,0,0,{"v":7766,"d":"7,766"},{"v":569388,"d":"569,388"}]
["주  민  세",{"$f":"SUM(D17,F17,H17,J17,L17,N17)","v":25},{"$f":"SUM(E17,G17,I17,K17,M17,O17)","v":{"v":2027,"d":"2,027"}},9,99,8,{"v":1412,"d":"1,412"},8,516]
["재  산  세",{"$f":"SUM(D18,F18,H18,J18,L18,N18)","v":56},{"v":115406,"d":"115,406"},10,167,14,{"v":82303,"d":"82,303"},31,{"v":26867,"d":"26,867"},{"$nulls":4},1,{"v":6069,"d":"6,069"}]
["자동차세",{"v":3693,"d":"3,693"},{"v":143039,"d":"143,039"},15,{"v":1675,"d":"1,675"},326,{"v":31232,"d":"31,232"},{"$nulls":6},{"v":3352,"d":"3,352"},{"v":110132,"d":"110,132"}]
["담배소비세",0,0]
["지방소득세",{"v":4565,"d":"4,565"},{"v":525948,"d":"525,948"},37,{"v":18427,"d":"18,427"},108,{"v":52832,"d":"52,832"},7,{"v":1502,"d":"1,502"},{"$nulls":4},{"v":4413,"d":"4,413"},{"v":453187,"d":"453,187"}]
["주행세",0,0]
["농업소득세",0,0]
["도축세",0,0]
["종합토지세",0,0]
["도시계획세",0,0]
["사업소세",0,0]

{"sheet":"3-3-3","index":12,"n_rows":27,"n_cols":15,"rows_kept":27,"merged":[[0,0,0,14],[2,0,3,0],[2,1,2,2],[2,3,2,4],[2,5,2,6],[2,7,2,8],[2,9,2,10],[2,11,2,12],[2,13,2,14]]}
["3-3-3. 과오납 환부액 사유별 현황"]
["(과년도)",{"$nulls":13},"(단위 : 건, 천원)"]
["구      분","계",null,"이중납부",null,"과세면제",null,"계약해제",null,"행정소송 패소",null,"착오부과",null,"기  타(국세조정 등)"]
[null,"건수","금액","건수","금액","건수","금액","건수","금액","건수","금액","건수","금액","건수","금액"]
["합    계",{"$f":"+B6+B16","v":{"v":1872,"d":"1,872"}},{"$f":"C6+C16","v":{"v":2842252,"d":"2,842,252"}},15,{"v":7162,"d":"7,162"},{"$f":"+F6+F16","v":218},{"$f":"+G6+G16","v":{"v":101653,"d":"101,653"}},124,{"v":10423,"d":"10,423"},72,{"v":70006,"d":"70,006"},1,17,{"v":1442,"d":"1,442"},{"v":2652991,"d":"2,652,991"}]
["도세 계",{"$f":"SUM(B7:B15)","v":563},{"v":121540,"d":"121,540"},7,32,{"$f":"SUM(F7:F15)","v":89},{"$f":"SUM(G7:G15)","v":{"v":39281,"d":"39,281"}},69,{"v":8421,"d":"8,421"},72,{"v":70006,"d":"70,006"},0,0,326,{"v":3800,"d":"3,800"}]
["취  득  세",{"$f":"SUM(D7,F7,H7,J7,L7,N7)","v":69},{"v":107207,"d":"107,207"},null,null,25,{"v":35859,"d":"35,859"},8,{"v":7706,"d":"7,706"},36,{"v":63642,"d":"63,642"}]
["등록면허세",7,469,1,6,1,79,5,384]
["지역자원시설세",0,0]
["지방소비세",0,0]
["등록세",3,762,null,null,3,762]
["면허세",0,0]
["공동시설세",0,0]
["지역개발세",0,0]
["지방교육세",484,{"v":13102,"d":"13,102"},6,26,60,{"v":2581,"d":"2,581"},56,331,36,{"v":6364,"d":"6,364"},null,null,326,{"v":3800,"d":"3,800"}]
["시군세 계",{"$f":"SUM(B17:B27)","v":{"v":1309,"d":"1,309"}},{"$f":"SUM(C17:C27)","v":{"v":2720712,"d":"2,720,712"}},8,{"v":7130,"d":"7,130"},{"$f":"SUM(F17:F27)","v":129},{"$f":"SUM(G17:G27)","v":{"v":62372,"d":"62,372"}},55,{"v":2002,"d":"2,002"},0,0,1,17,{"v":1116,"d":"1,116"},{"v":2649191,"d":"2,649,191"}]
["주  민  세",{"$f":"SUM(D17,F17,H17,J17,L17,N17)","v":34},{"$f":"SUM(E17,G17,I17,K17,M17,O17)","v":{"v":110137,"d":"110,137"}},null,null,4,{"v":3418,"d":"3,418"},7,610,{"$nulls":4},23,{"v":106109,"d":"106,109"}]
["재  산  세",{"$f":"SUM(D18,F18,H18,J18,L18,N18)","v":69},{"v":3444,"d":"3,444"},4,30,21,{"v":2290,"d":"2,290"},44,{"v":1124,"d":"1,124"}]
["자동차세",348,{"v":14687,"d":"14,687"},1,63,22,{"v":1760,"d":"1,760"},{"$nulls":6},325,{"v":12864,"d":"12,864"}]
["담배소비세",2,5,null,null,2,5]
["지방소득세",852,{"v":2592382,"d":"2,592,382"},3,{"v":7037,"d":"7,037"},78,{"v":54893,"d":"54,893"},2,217,null,null,1,17,768,{"v":2530218,"d":"2,530,218"}]
["주행세",0,0]
["농업소득세",0,0]
["도축세",0,0]
["종합토지세",0,0]
["도시계획세",4,57,null,null,2,6,2,51]
["사업소세",0,0]