{"text_format":"3","workbook":"xlsx","n_sheets":13,"sheets":["------","VXXXXX","징수실적","1-3-1","1-3-2","1-3-3","1-1채권확보","2-3-1","2-3-2","2-3-3","3-3-1","3-3-2","3-3-3"],"not_rendered":{"external_links":2,"defined_names":4},"read":"whole","date_system":"1900"}

{"sheet":"------","index":0,"n_rows":0,"n_cols":0,"rows_kept":0,"hidden":true}

{"sheet":"VXXXXX","index":1,"n_rows":0,"n_cols":0,"rows_kept":0,"hidden":true}

{"sheet":"징수실적","index":2,"n_rows":49,"n_cols":18,"rows_kept":49,"merged":[[0,6,1,13],[2,1,2,2],[3,1,3,3],[5,0,6,3],[5,4,5,5],[5,6,5,7],[5,8,5,9],[5,10,5,11],[5,12,6,12],[5,13,5,15],[5,16,5,17],[7,0,9,0],[7,1,7,3],[8,1,8,3],[9,1,9,3],[10,0,44,0],[10,1,10,3],[11,1,30,1],[11,2,11,3],[12,2,12,3],[13,2,15,2],[16,2,18,2],[19,2,19,3],[20,2,20,3],[21,2,21,3],[22,2,22,3],[23,2,23,3],[24,2,30,2],[31,1,44,1],[31,2,31,3],[32,2,32,3],[33,2,33,3],[34,2,36,2],[37,2,37,3],[38,2,38,3],[39,2,39,3],[40,2,40,3],[41,2,41,3],[42,2,42,3],[43,2,43,3],[44,2,44,3],[45,0,48,0],[45,1,45,3],[46,1,46,3],[47,1,47,3],[48,1,48,3]]}
[{"$nulls":6},"2014년  10월분 지방세 징수실적 보고서 (2014 회계)"]
[]
[]
[{"$nulls":15},"제출   년월일 :","2014년  11월   10일   "]
[{"$nulls":17},"(단위 : 천원)"]
[{"$nulls":4},"목 표액 (예산액)",null,"부     과     액",null,"징     수     액",null,"불납결손액",null,"미 수 납 액","징 수 비 율",null,null,"과오납 환부액"]
[{"$nulls":4},"당  초","최  종","본월분","누   계","본월분","누   계","본월분","누   계",null,"대목표\n(당초)","대목표\n(최종)","대부과","본월분","누   계"]
["총\n\n괄","합       계",null,null,{"$f":"SUM(E9:E10)","v":{"v":257840400,"d":"257,840,400"}},{"v":257960400,"d":"257,960,400"},{"$f":"SUM(G9:G10)","v":{"v":13252117,"d":"13,252,117"}},{"v":241548285,"d":"241,548,285"},{"v":14150422,"d":"14,150,422"},{"$f":"SUM(J9:J10)","v":{"v":226362601,"d":"226,362,601"}},0,{"v":1503894,"d":"1,503,894"},{"v":13681790,"d":"13,681,790"},{"$f":"+J8/E8*100","v":{"v":87.79175063333751,"d":"87.8"}},{"$f":"+J8/F8*100","v":{"v":87.75091099253994,"d":"87.8"}},{"$f":"+J8/H8*100","v":{"v":93.7131890627996,"d":"93.7"}},{"$f":"SUM(Q9:Q10)","v":{"v":179578,"d":"179,578"}},{"$f":"SUM(R9:R10)","v":{"v":3660128,"d":"3,660,128"}}]
[null,"도       세",null,null,{"$f":"E12+E47+E48","v":{"v":97460400,"d":"97,460,400"}},{"v":97460400,"d":"97,460,400"},{"v":6150414,"d":"6,150,414"},{"v":80522046,"d":"80,522,046"},{"v":6318085,"d":"6,318,085"},{"v":76370831,"d":"76,370,831"},0,{"v":324140,"d":"324,140"},{"v":3827075,"d":"3,827,075"},{"v":78.36088401032625,"d":"78.4"},{"v":78.36088401032625,"d":"78.4"},{"v":94.84462304894737,"d":"94.8"},{"$f":"Q12+Q47+Q48","v":{"v":92798,"d":"92,798"}},{"$f":"R12+R47+R48","v":{"v":508690,"d":"508,690"}}]
[null,"시  군  세",null,null,{"$f":"E32+E49","v":{"v":160380000,"d":"160,380,000"}},{"$f":"F32+F49","v":{"v":160500000,"d":"160,500,000"}},{"v":7101703,"d":"7,101,703"},{"v":161026239,"d":"161,026,239"},{"v":7832337,"d":"7,832,337"},{"v":149991770,"d":"149,991,770"},0,{"v":1179754,"d":"1,179,754"},{"v":9854715,"d":"9,854,715"},{"v":93.52273974311012,"d":"93.5"},{"v":93.45281619937694,"d":"93.5"},{"v":93.14740934860933,"d":"93.1"},{"$f":"Q32+Q49","v":{"v":86780,"d":"86,780"}},{"$f":"R32+R49","v":{"v":3151438,"d":"3,151,438"}}]
["현\n\n\n\n\n년\n\n\n\n\n도","계",null,null,{"$f":"SUM(E12,E32)","v":{"v":256412900,"d":"256,412,900"}},{"v":256412900,"d":"256,412,900"},{"v":13318015,"d":"13,318,015"},{"v":231174219,"d":"231,174,219"},{"v":14160516,"d":"14,160,516"},{"v":225910046,"d":"225,910,046"},0,877,{"v":5263296,"d":"5,263,296"},{"v":88.10400958766115,"d":"88.1"},{"v":88.10400958766115,"d":"88.1"},{"v":97.72285464063793,"d":"97.7"},{"$f":"SUM(Q12,Q32)","v":{"v":66667,"d":"66,667"}},{"$f":"SUM(R12,R32)","v":{"v":1070776,"d":"1,070,776"}}]
[null,"도\n\n\n\n세","소    계",null,{"$f":"SUM(E13,E14,E17,E20:E24,E25)","v":{"v":96912900,"d":"96,912,900"}},{"v":96912900,"d":"96,912,900"},{"v":6214582,"d":"6,214,582"},{"v":77466147,"d":"77,466,147"},{"v":6362730,"d":"6,362,730"},{"v":75756286,"d":"75,756,286"},0,118,{"v":1709743,"d":"1,709,743"},{"v":78.16945525311904,"d":"78.2"},{"v":78.16945525311904,"d":"78.2"},{"v":97.79276359259225,"d":"97.8"},{"$f":"SUM(Q13,Q14,Q17,Q20:Q24,Q25)","v":{"v":20440,"d":"20,440"}},{"$f":"SUM(R13,R14,R17,R20:R24,R25)","v":{"v":392047,"d":"392,047"}}]
[null,null,"취  득  세",null,{"v":62365100,"d":"62,365,100"},{"v":62365100,"d":"62,365,100"},{"v":4120582,"d":"4,120,582"},{"v":45345537,"d":"45,345,537"},{"v":4112340,"d":"4,112,340"},{"v":44376911,"d":"44,376,911"},null,null,{"$f":"H13-J13-L13","v":{"v":968626,"d":"968,626"}},{"v":71.15664209630066,"d":"71.2"},{"v":71.15664209630066,"d":"71.2"},{"v":97.86390003496926,"d":"97.9"},{"v":8506,"d":"8,506"},{"v":216865,"d":"216,865"}]
[null,null,"등  록\n면허세","소     계",{"$f":"SUM(E15:E16)","v":{"v":5837800,"d":"5,837,800"}},{"v":5837800,"d":"5,837,800"},{"v":433540,"d":"433,540"},{"v":5303309,"d":"5,303,309"},{"v":435250,"d":"435,250"},{"v":5267358,"d":"5,267,358"},0,77,{"v":35874,"d":"35,874"},{"v":90.22847648086608,"d":"90.2"},{"v":90.22847648086608,"d":"90.2"},{"v":99.32210248356263,"d":"99.3"},{"$f":"SUM(Q15:Q16)","v":{"v":3258,"d":"3,258"}},{"$f":"SUM(R15:R16)","v":{"v":90730,"d":"90,730"}}]
[{"$nulls":3},"등록분",{"v":5344800,"d":"5,344,800"},{"v":5344800,"d":"5,344,800"},{"v":406940,"d":"406,940"},{"v":4431932,"d":"4,431,932"},{"v":406940,"d":"406,940"},{"v":4431932,"d":"4,431,932"},null,null,{"$f":"H15-J15-L15","v":0},{"v":82.92044604101181,"d":"82.9"},{"v":82.92044604101181,"d":"82.9"},{"v":100,"d":"100.0"},{"v":3200,"d":"3,200"},{"v":13964,"d":"13,964"}]
[{"$nulls":3},"면허분",{"v":493000,"d":"493,000"},{"v":493000,"d":"493,000"},{"v":26600,"d":"26,600"},{"v":871377,"d":"871,377"},{"v":28310,"d":"28,310"},{"v":835426,"d":"835,426"},0,77,{"$f":"H16-J16-L16","v":{"v":35874,"d":"35,874"}},{"v":169.4576064908722,"d":"169.5"},{"v":169.4576064908722,"d":"169.5"},{"v":95.87423124548846,"d":"95.9"},58,{"v":76766,"d":"76,766"}]
[null,null,"지  역\n자  원\n시설세","소     계",{"$f":"SUM(E18:E19)","v":{"v":6260000,"d":"6,260,000"}},{"v":6260000,"d":"6,260,000"},{"v":254215,"d":"254,215"},{"v":8422267,"d":"8,422,267"},{"v":288789,"d":"288,789"},{"v":8240160,"d":"8,240,160"},0,0,{"v":182107,"d":"182,107"},{"v":131.63194888178913,"d":"131.6"},{"v":131.63194888178913,"d":"131.6"},{"v":97.83779117902579,"d":"97.8"},{"$f":"SUM(Q18:Q19)","v":0},{"$f":"SUM(R18:R19)","v":{"v":24997,"d":"24,997"}}]
[{"$nulls":3},"특정자원",{"v":55000,"d":"55,000"},{"v":55000,"d":"55,000"},{"v":251978,"d":"251,978"},{"v":900470,"d":"900,470"},{"v":251202,"d":"251,202"},{"v":898832,"d":"898,832"},null,null,{"$f":"H18-J18-L18","v":{"v":1638,"d":"1,638"}},{"v":1634.2400000000002,"d":"1,634.2"},{"v":1634.2400000000002,"d":"1,634.2"},{"v":99.81809499483603,"d":"99.8"}]
[{"$nulls":3},"특정부동산",{"v":6205000,"d":"6,205,000"},{"v":6205000,"d":"6,205,000"},{"v":2237,"d":"2,237"},{"v":7521797,"d":"7,521,797"},{"v":37587,"d":"37,587"},{"v":7341328,"d":"7,341,328"},null,null,{"v":180469,"d":"180,469"},{"v":118.31310233682515,"d":"118.3"},{"v":118.31310233682515,"d":"118.3"},{"v":97.6007196152728,"d":"97.6"},0,{"v":24997,"d":"24,997"}]
[null,null,"지방소비세",{"$nulls":9},0,{"$error":"#DIV/0!"},{"$error":"#DIV/0!"},{"$error":"#DIV/0!"}]
[null,null,"등  록  세",{"$nulls":3},{"v":13612,"d":"13,612"},{"v":211478,"d":"211,478"},{"v":13481,"d":"13,481"},{"v":211333,"d":"211,333"},null,null,145,{"$error":"#DIV/0!"},{"$error":"#DIV/0!"},{"v":99.93143494831614,"d":"99.9"},0,388]
[null,null,"면  허  세",{"$nulls":9},0,{"$error":"#DIV/0!"},{"$error":"#DIV/0!"},{"$error":"#DIV/0!"}]
[null,null,"공동시설세",{"$nulls":3},3,{"v":2017,"d":"2,017"},3,{"v":2017,"d":"2,017"},null,null,0,{"$error":"#DIV/0!"},{"$error":"#DIV/0!"},{"v":100,"d":"100.0"}]
[null,null,"지역개발세",{"$nulls":9},0,{"$error":"#DIV/0!"},{"$error":"#DIV/0!"},{"$error":"#DIV/0!"}]
[null,null,"지\n방\n교\n육\n세","소     계",{"$f":"SUM(E26:E31)","v":{"v":22450000,"d":"22,450,000"}},{"$f":"SUM(F26:F31)","v":{"v":22450000,"d":"22,450,000"}},{"v":1392630,"d":"1,392,630"},{"$f":"SUM(H26:H31)","v":{"v":18181539,"d":"18,181,539"}},{"v":1512867,"d":"1,512,867"},{"v":17658507,"d":"17,658,507"},0,41,{"v":522991,"d":"522,991"},{"v":78.65704677060134,"d":"78.7"},{"v":78.65704677060134,"d":"78.7"},{"v":97.12327982796177,"d":"97.1"},{"$f":"SUM(Q26:Q31)","v":{"v":8676,"d":"8,676"}},{"$f":"SUM(R26:R31)","v":{"v":59067,"d":"59,067"}}]
[{"$nulls":3},"취득세분",{"v":3619000,"d":"3,619,000"},{"v":3619000,"d":"3,619,000"},{"v":222545,"d":"222,545"},{"v":2514742,"d":"2,514,742"},{"v":220991,"d":"220,991"},{"v":2444243,"d":"2,444,243"},null,null,{"$f":"H26-J26-L26","v":{"v":70499,"d":"70,499"}},{"v":67.53918209450124,"d":"67.5"},{"v":67.53918209450124,"d":"67.5"},{"v":97.19657125860228,"d":"97.2"},436,{"v":15993,"d":"15,993"}]
[{"$nulls":3},"등록면허세분",{"v":1586000,"d":"1,586,000"},{"v":1586000,"d":"1,586,000"},{"v":70306,"d":"70,306"},{"v":816107,"d":"816,107"},{"v":70306,"d":"70,306"},{"v":816104,"d":"816,104"},null,null,3,{"v":51.45674653215637,"d":"51.5"},{"v":51.45674653215637,"d":"51.5"},{"v":99.99963240114347,"d":"100.0"},637,{"v":2857,"d":"2,857"}]
[{"$nulls":3},"주민세분",{"v":95000,"d":"95,000"},{"v":95000,"d":"95,000"},249,{"v":126452,"d":"126,452"},{"v":2731,"d":"2,731"},{"v":102375,"d":"102,375"},null,null,{"v":24077,"d":"24,077"},{"v":107.76315789473685,"d":"107.8"},{"v":107.76315789473685,"d":"107.8"},{"v":80.95957359314207,"d":"81.0"},17,52]
[{"$nulls":3},"재산세분",{"v":3000000,"d":"3,000,000"},{"v":3000000,"d":"3,000,000"},{"v":3129,"d":"3,129"},{"v":4210218,"d":"4,210,218"},{"v":109184,"d":"109,184"},{"v":4033756,"d":"4,033,756"},null,4,{"v":176458,"d":"176,458"},{"v":134.45853333333332,"d":"134.5"},{"v":134.45853333333332,"d":"134.5"},{"v":95.80872059356547,"d":"95.8"},{"v":5027,"d":"5,027"},{"v":6509,"d":"6,509"}]
[{"$nulls":3},"자동차세분",{"v":5750000,"d":"5,750,000"},{"v":5750000,"d":"5,750,000"},{"v":9998,"d":"9,998"},{"v":3614544,"d":"3,614,544"},{"v":23252,"d":"23,252"},{"v":3362553,"d":"3,362,553"},null,37,{"v":251954,"d":"251,954"},{"v":58.47918260869566,"d":"58.5"},{"v":58.47918260869566,"d":"58.5"},{"v":93.02841520258157,"d":"93.0"},{"v":2559,"d":"2,559"},{"v":33656,"d":"33,656"}]
[{"$nulls":3},"담배소비세분",{"v":8400000,"d":"8,400,000"},{"v":8400000,"d":"8,400,000"},{"v":1086403,"d":"1,086,403"},{"v":6899476,"d":"6,899,476"},{"v":1086403,"d":"1,086,403"},{"v":6899476,"d":"6,899,476"},null,null,0,{"v":82.13661904761905,"d":"82.1"},{"v":82.13661904761905,"d":"82.1"},{"v":100,"d":"100.0"}]
[null,"시\n\n\n군\n\n\n세","소    계",null,{"$f":"SUM(E33,E34,E35,E38:E45)","v":{"v":159500000,"d":"159,500,000"}},{"$f":"SUM(F33,F34,F35,F38:F45)","v":{"v":159500000,"d":"159,500,000"}},{"v":7103433,"d":"7,103,433"},{"$f":"SUM(H33,H34,H35,H38:H45)","v":{"v":153708072,"d":"153,708,072"}},{"v":7797786,"d":"7,797,786"},{"v":150153760,"d":"150,153,760"},0,759,{"v":3553553,"d":"3,553,553"},{"v":94.14028840125391,"d":"94.1"},{"v":94.14028840125391,"d":"94.1"},{"v":97.68762176653937,"d":"97.7"},{"$f":"SUM(Q33,Q34,Q35,Q38:Q45)","v":{"v":46227,"d":"46,227"}},{"$f":"SUM(R33,R34,R35,R38:R45)","v":{"v":678729,"d":"678,729"}}]
[null,null,"주  민  세",null,{"v":2950000,"d":"2,950,000"},{"v":9550000,"d":"9,550,000"},{"v":646797,"d":"646,797"},{"v":8364733,"d":"8,364,733"},{"v":672846,"d":"672,846"},{"v":8092952,"d":"8,092,952"},null,null,{"$f":"H33-J33-L33","v":{"v":271781,"d":"271,781"}},{"v":274.3373559322034,"d":"274.3"},{"v":84.74295287958115,"d":"84.7"},{"v":96.75087058965302,"d":"96.8"},167,{"v":1969,"d":"1,969"}]
[null,null,"재  산  세",null,{"v":28000000,"d":"28,000,000"},{"v":28000000,"d":"28,000,000"},{"v":25597,"d":"25,597"},{"v":33752898,"d":"33,752,898"},{"v":753181,"d":"753,181"},{"v":32463271,"d":"32,463,271"},0,35,{"$f":"H34-J34-L34","v":{"v":1289592,"d":"1,289,592"}},{"v":115.94025357142857,"d":"115.9"},{"v":115.94025357142857,"d":"115.9"},{"v":96.17921104137488,"d":"96.2"},{"v":25377,"d":"25,377"},{"v":35426,"d":"35,426"}]
[null,null,"자동 \n차세","소     계",{"$f":"SUM(E36:E37)","v":{"v":43300000,"d":"43,300,000"}},{"$f":"SUM(F36:F37)","v":{"v":43300000,"d":"43,300,000"}},{"v":1453914,"d":"1,453,914"},{"v":33133812,"d":"33,133,812"},{"v":1504227,"d":"1,504,227"},{"v":32208027,"d":"32,208,027"},0,123,{"v":925662,"d":"925,662"},{"v":74.38343418013856,"d":"74.4"},{"v":74.38343418013856,"d":"74.4"},{"v":97.20592064686068,"d":"97.2"},{"$f":"SUM(Q36:Q37)","v":{"v":11678,"d":"11,678"}},{"$f":"SUM(R36:R37)","v":{"v":133015,"d":"133,015"}}]
[{"$nulls":3},"자동차분",{"v":18000000,"d":"18,000,000"},{"v":18000000,"d":"18,000,000"},{"v":30600,"d":"30,600"},{"v":13112844,"d":"13,112,844"},{"v":80913,"d":"80,913"},{"v":12187059,"d":"12,187,059"},null,123,{"$f":"H36-J36-L36","v":{"v":925662,"d":"925,662"}},{"v":67.70588333333333,"d":"67.7"},{"v":67.70588333333333,"d":"67.7"},{"v":92.93986110107006,"d":"92.9"},{"v":11678,"d":"11,678"},{"v":133015,"d":"133,015"}]
[{"$nulls":3},"주 행 분",{"v":25300000,"d":"25,300,000"},{"v":25300000,"d":"25,300,000"},{"v":1423314,"d":"1,423,314"},{"v":20020968,"d":"20,020,968"},{"v":1423314,"d":"1,423,314"},{"v":20020968,"d":"20,020,968"},null,null,0,{"v":79.13426086956522,"d":"79.1"},{"v":79.13426086956522,"d":"79.1"},{"v":100,"d":"100.0"}]
[null,null,"담배소비세",null,{"v":16300000,"d":"16,300,000"},{"v":16300000,"d":"16,300,000"},{"v":2172806,"d":"2,172,806"},{"v":13798978,"d":"13,798,978"},{"v":2172806,"d":"2,172,806"},{"v":13798978,"d":"13,798,978"},null,null,0,{"v":84.65630674846626,"d":"84.7"},{"v":84.65630674846626,"d":"84.7"},{"v":100,"d":"100.0"}]
[null,null,"지방소득세",null,{"v":68950000,"d":"68,950,000"},{"v":62350000,"d":"62,350,000"},{"v":2804309,"d":"2,804,309"},{"v":64656440,"d":"64,656,440"},{"v":2694716,"d":"2,694,716"},{"v":63589329,"d":"63,589,329"},0,601,{"v":1066510,"d":"1,066,510"},{"v":92.22527773749094,"d":"92.2"},{"v":101.98769687249398,"d":"102.0"},{"v":98.34956734394903,"d":"98.3"},{"v":9005,"d":"9,005"},{"v":508319,"d":"508,319"}]
[null,null,"주  행  세",{"$nulls":9},0,{"$error":"#DIV/0!"},{"$error":"#DIV/0!"},{"$error":"#DIV/0!"}]
[null,null,"농업소득세",{"$nulls":9},0,{"$error":"#DIV/0!"},{"$error":"#DIV/0!"},{"$error":"#DIV/0!"}]
[null,null,"도  축  세",{"$nulls":9},0,{"$error":"#DIV/0!"},{"$error":"#DIV/0!"},{"$error":"#DIV/0!"}]
[null,null,"종합토지세",{"$nulls":9},0,{"$error":"#DIV/0!"},{"$error":"#DIV/0!"},{"$error":"#DIV/0!"}]
[null,null,"도시계획세",{"$nulls":3},10,{"v":1211,"d":"1,211"},10,{"v":1203,"d":"1,203"},null,null,8,{"$error":"#DIV/0!"},{"$error":"#DIV/0!"},{"v":99.33938893476466,"d":"99.3"}]
[null,null,"사 업 소세",{"$nulls":9},0,{"$error":"#DIV/0!"},{"$error":"#DIV/0!"},{"$error":"#DIV/0!"}]
["과\n\n년\n\n도","계",null,null,{"$f":"SUM(E47:E49)","v":{"v":1427500,"d":"1,427,500"}},{"$f":"SUM(F47:F49)","v":{"v":1547500,"d":"1,547,500"}},{"v":-65898,"d":"-65,898"},{"v":10374066,"d":"10,374,066"},{"v":-10094,"d":"-10,094"},{"v":452555,"d":"452,555"},0,{"v":1503017,"d":"1,503,017"},{"v":8418494,"d":"8,418,494"},{"v":31.70262697022767,"d":"31.7"},{"v":29.24426494345719,"d":"29.2"},{"v":4.362368621907746,"d":"4.4"},{"$f":"SUM(Q47:Q49)","v":{"v":112911,"d":"112,911"}},{"$f":"SUM(R47:R49)","v":{"v":2589352,"d":"2,589,352"}}]
[null,"도      세",null,null,{"v":247500,"d":"247,500"},{"v":247500,"d":"247,500"},{"v":-57752,"d":"-57,752"},{"v":1730468,"d":"1,730,468"},{"v":-52596,"d":"-52,596"},{"v":178255,"d":"178,255"},0,{"v":267481,"d":"267,481"},{"$f":"H47-J47-L47","v":{"v":1284732,"d":"1,284,732"}},{"v":72.02222222222223,"d":"72.0"},{"v":72.02222222222223,"d":"72.0"},{"v":10.300970604483874,"d":"10.3"},{"v":65315,"d":"65,315"},{"v":104525,"d":"104,525"}]
[null,"지방교육세",null,null,{"v":300000,"d":"300,000"},{"v":300000,"d":"300,000"},{"v":-6416,"d":"-6,416"},{"v":1325431,"d":"1,325,431"},{"v":7951,"d":"7,951"},{"v":436290,"d":"436,290"},0,{"v":56541,"d":"56,541"},{"$f":"H48-J48-L48","v":{"v":832600,"d":"832,600"}},{"v":145.43,"d":"145.4"},{"v":145.43,"d":"145.4"},{"v":32.91683988076331,"d":"32.9"},{"v":7043,"d":"7,043"},{"v":12118,"d":"12,118"}]
[null,"시  군  세",null,null,{"v":880000,"d":"880,000"},{"v":1000000,"d":"1,000,000"},{"v":-1730,"d":"-1,730"},{"v":7318167,"d":"7,318,167"},{"v":34551,"d":"34,551"},{"v":-161990,"d":"-161,990"},0,{"v":1178995,"d":"1,178,995"},{"$f":"H49-J49-L49","v":{"v":6301162,"d":"6,301,162"}},{"v":-18.407954545454547,"d":"-18.4"},{"v":-16.198999999999998,"d":"-16.2"},{"v":-2.2135324323700183,"d":"-2.2"},{"v":40553,"d":"40,553"},{"v":2472709,"d":"2,472,709"}]

{"sheet":"1-3-1","index":3,"n_rows":27,"n_cols":15,"rows_kept":27,"merged":[[0,0,0,14],[2,0,3,0],[2,1,2,2],[2,3,2,4],[2,5,2,6],[2,7,2,8],[2,9,2,10],[2,11,2,12],[2,13,2,14]]}
["1-3-1. 체납액 사유별 현황"]
["(총  계)",{"$nulls":13},"(단위 : 건, 천원)"]
["구      분","계",null,"징수유예",null,"부도 및 경영난",null,"소송계류",null,"고질체납",null,"무  재  산",null,"행방불명"]
[null,"건수","금액","건수","금액","건수","금액","건수","금액","건수","금액","건수","금액","건수","금액"]
["합    계",{"$f":"SUM(D5,F5,H5,J5,L5,N5)","v":{"v":262139,"d":"262,139"}},{"$f":"SUM(E5,G5,I5,K5,M5,O5,)","v":{"v":13681790,"d":"13,681,790"}},{"$f":"D6+D16","v":42},{"v":515853,"d":"515,853"},{"v":31816,"d":"31,816"},{"v":5608866,"d":"5,608,866"},11,{"v":84727,"d":"84,727"},{"v":187821,"d":"187,821"},{"v":5724528,"d":"5,724,528"},{"v":19995,"d":"19,995"},{"v":1008003,"d":"1,008,003"},{"v":22454,"d":"22,454"},{"v":739813,"d":"739,813"}]
["도세 계",{"$f":"SUM(D6,F6,H6,J6,L6,N6)","v":{"v":128177,"d":"128,177"}},{"$f":"SUM(E6,G6,I6,K6,M6,O6,)","v":{"v":3827075,"d":"3,827,075"}},{"$f":"SUM(D7:D15)","v":14},{"$f":"SUM(E7:E15)","v":{"v":118801,"d":"118,801"}},{"v":16226,"d":"16,226"},{"$f":"SUM(G7:G15)","v":{"v":2178581,"d":"2,178,581"}},0,0,{"v":90126,"d":"90,126"},{"v":1241245,"d":"1,241,245"},{"v":10257,"d":"10,257"},{"v":123291,"d":"123,291"},{"v":11554,"d":"11,554"},{"v":165157,"d":"165,157"}]
["취  득  세",784,{"$f":"SUM(E7,G7,I7,K7,M7,O7,)","v":{"v":1968284,"d":"1,968,284"}},{"$f":"SUM('[2]1-3-2'!D7,'[2]1-3-3'!D7)","v":1},{"$f":"SUM('[2]1-3-2'!E7,'[2]1-3-3'!E7)","v":{"v":17326,"d":"17,326"}},{"$f":"SUM('[2]1-3-2'!F7,'[2]1-3-3'!F7)","v":257},{"$f":"SUM('[2]1-3-2'!G7,'[2]1-3-3'!G7)","v":{"v":1376203,"d":"1,376,203"}},{"$f":"SUM('[2]1-3-2'!H7,'[2]1-3-3'!H7)","v":0},{"$f":"SUM('[2]1-3-2'!I7,'[2]1-3-3'!I7)","v":0},{"$f":"SUM('[2]1-3-2'!J7,'[2]1-3-3'!J7)","v":399},{"$f":"SUM('[2]1-3-2'!K7,'[2]1-3-3'!K7)","v":{"v":472619,"d":"472,619"}},{"$f":"SUM('[2]1-3-2'!L7,'[2]1-3-3'!L7)","v":78},{"$f":"SUM('[2]1-3-2'!M7,'[2]1-3-3'!M7)","v":{"v":65906,"d":"65,906"}},{"$f":"SUM('[2]1-3-2'!N7,'[2]1-3-3'!N7)","v":49},{"$f":"SUM('[2]1-3-2'!O7,'[2]1-3-3'!O7)","v":{"v":36230,"d":"36,230"}}]
["등록면허세",{"v":3359,"d":"3,359"},{"v":52494,"d":"52,494"},{"$f":"SUM('[2]1-3-2'!D8,'[2]1-3-3'!D8)","v":0},{"$f":"SUM('[2]1-3-2'!E8,'[2]1-3-3'!E8)","v":0},{"$f":"SUM('[2]1-3-2'!F8,'[2]1-3-3'!F8)","v":583},{"$f":"SUM('[2]1-3-2'!G8,'[2]1-3-3'!G8)","v":{"v":14733,"d":"14,733"}},{"$f":"SUM('[2]1-3-2'!H8,'[2]1-3-3'!H8)","v":0},{"$f":"SUM('[2]1-3-2'!I8,'[2]1-3-3'!I8)","v":0},{"$f":"SUM('[2]1-3-2'!J8,'[2]1-3-3'!J8)","v":{"v":2685,"d":"2,685"}},{"$f":"SUM('[2]1-3-2'!K8,'[2]1-3-3'!K8)","v":{"v":36535,"d":"36,535"}},{"$f":"SUM('[2]1-3-2'!L8,'[2]1-3-3'!L8)","v":36},{"$f":"SUM('[2]1-3-2'!M8,'[2]1-3-3'!M8)","v":477},{"$f":"SUM('[2]1-3-2'!N8,'[2]1-3-3'!N8)","v":55},{"$f":"SUM('[2]1-3-2'!O8,'[2]1-3-3'!O8)","v":749}]
["지역자원시설세",{"v":5552,"d":"5,552"},{"v":325105,"d":"325,105"},{"$f":"SUM('[2]1-3-2'!D9,'[2]1-3-3'!D9)","v":0},{"$f":"SUM('[2]1-3-2'!E9,'[2]1-3-3'!E9)","v":0},{"$f":"SUM('[2]1-3-2'!F9,'[2]1-3-3'!F9)","v":{"v":1821,"d":"1,821"}},{"$f":"SUM('[2]1-3-2'!G9,'[2]1-3-3'!G9)","v":{"v":230920,"d":"230,920"}},{"$f":"SUM('[2]1-3-2'!H9,'[2]1-3-3'!H9)","v":0},{"$f":"SUM('[2]1-3-2'!I9,'[2]1-3-3'!I9)","v":0},{"$f":"SUM('[2]1-3-2'!J9,'[2]1-3-3'!J9)","v":{"v":3046,"d":"3,046"}},{"$f":"SUM('[2]1-3-2'!K9,'[2]1-3-3'!K9)","v":{"v":79780,"d":"79,780"}},{"$f":"SUM('[2]1-3-2'!L9,'[2]1-3-3'!L9)","v":63},{"$f":"SUM('[2]1-3-2'!M9,'[2]1-3-3'!M9)","v":{"v":1684,"d":"1,684"}},{"$f":"SUM('[2]1-3-2'!N9,'[2]1-3-3'!N9)","v":622},{"$f":"SUM('[2]1-3-2'!O9,'[2]1-3-3'!O9)","v":{"v":12721,"d":"12,721"}}]
["지방소비세",0,0,{"$f":"SUM('[2]1-3-2'!D10,'[2]1-3-3'!D10)","v":0},{"$f":"SUM('[2]1-3-2'!E10,'[2]1-3-3'!E10)","v":0},{"$f":"SUM('[2]1-3-2'!F10,'[2]1-3-3'!F10)","v":0},{"$f":"SUM('[2]1-3-2'!G10,'[2]1-3-3'!G10)","v":0},{"$f":"SUM('[2]1-3-2'!H10,'[2]1-3-3'!H10)","v":0},{"$f":"SUM('[2]1-3-2'!I10,'[2]1-3-3'!I10)","v":0},{"$f":"SUM('[2]1-3-2'!J10,'[2]1-3-3'!J10)","v":0},{"$f":"SUM('[2]1-3-2'!K10,'[2]1-3-3'!K10)","v":0},{"$f":"SUM('[2]1-3-2'!L10,'[2]1-3-3'!L10)","v":0},{"$f":"SUM('[2]1-3-2'!M10,'[2]1-3-3'!M10)","v":0},{"$f":"SUM('[2]1-3-2'!N10,'[2]1-3-3'!N10)","v":0},{"$f":"SUM('[2]1-3-2'!O10,'[2]1-3-3'!O10)","v":0}]
["등록세",114,{"v":65621,"d":"65,621"},{"$f":"SUM('[2]1-3-2'!D11,'[2]1-3-3'!D11)","v":0},{"$f":"SUM('[2]1-3-2'!E11,'[2]1-3-3'!E11)","v":0},{"$f":"SUM('[2]1-3-2'!F11,'[2]1-3-3'!F11)","v":19},{"$f":"SUM('[2]1-3-2'!G11,'[2]1-3-3'!G11)","v":{"v":49031,"d":"49,031"}},{"$f":"SUM('[2]1-3-2'!H11,'[2]1-3-3'!H11)","v":0},{"$f":"SUM('[2]1-3-2'!I11,'[2]1-3-3'!I11)","v":0},{"$f":"SUM('[2]1-3-2'!J11,'[2]1-3-3'!J11)","v":79},{"$f":"SUM('[2]1-3-2'!K11,'[2]1-3-3'!K11)","v":{"v":10108,"d":"10,108"}},{"$f":"SUM('[2]1-3-2'!L11,'[2]1-3-3'!L11)","v":11},{"$f":"SUM('[2]1-3-2'!M11,'[2]1-3-3'!M11)","v":{"v":5455,"d":"5,455"}},{"$f":"SUM('[2]1-3-2'!N11,'[2]1-3-3'!N11)","v":5},{"$f":"SUM('[2]1-3-2'!O11,'[2]1-3-3'!O11)","v":{"v":1027,"d":"1,027"}}]
["면허세",{"v":1170,"d":"1,170"},{"v":13762,"d":"13,762"},{"$f":"SUM('[2]1-3-2'!D12,'[2]1-3-3'!D12)","v":0},{"$f":"SUM('[2]1-3-2'!E12,'[2]1-3-3'!E12)","v":0},{"$f":"SUM('[2]1-3-2'!F12,'[2]1-3-3'!F12)","v":202},{"$f":"SUM('[2]1-3-2'!G12,'[2]1-3-3'!G12)","v":{"v":3120,"d":"3,120"}},{"$f":"SUM('[2]1-3-2'!H12,'[2]1-3-3'!H12)","v":0},{"$f":"SUM('[2]1-3-2'!I12,'[2]1-3-3'!I12)","v":0},{"$f":"SUM('[2]1-3-2'!J12,'[2]1-3-3'!J12)","v":782},{"$f":"SUM('[2]1-3-2'!K12,'[2]1-3-3'!K12)","v":{"v":8709,"d":"8,709"}},{"$f":"SUM('[2]1-3-2'!L12,'[2]1-3-3'!L12)","v":101},{"$f":"SUM('[2]1-3-2'!M12,'[2]1-3-3'!M12)","v":{"v":1019,"d":"1,019"}},{"$f":"SUM('[2]1-3-2'!N12,'[2]1-3-3'!N12)","v":85},{"$f":"SUM('[2]1-3-2'!O12,'[2]1-3-3'!O12)","v":914}]
["공동시설세",964,{"v":45877,"d":"45,877"},{"$f":"SUM('[2]1-3-2'!D13,'[2]1-3-3'!D13)","v":5},{"$f":"SUM('[2]1-3-2'!E13,'[2]1-3-3'!E13)","v":{"v":39435,"d":"39,435"}},{"$f":"SUM('[2]1-3-2'!F13,'[2]1-3-3'!F13)","v":220},{"$f":"SUM('[2]1-3-2'!G13,'[2]1-3-3'!G13)","v":{"v":3046,"d":"3,046"}},{"$f":"SUM('[2]1-3-2'!H13,'[2]1-3-3'!H13)","v":0},{"$f":"SUM('[2]1-3-2'!I13,'[2]1-3-3'!I13)","v":0},{"$f":"SUM('[2]1-3-2'!J13,'[2]1-3-3'!J13)","v":527},{"$f":"SUM('[2]1-3-2'!K13,'[2]1-3-3'!K13)","v":{"v":2645,"d":"2,645"}},{"$f":"SUM('[2]1-3-2'!L13,'[2]1-3-3'!L13)","v":110},{"$f":"SUM('[2]1-3-2'!M13,'[2]1-3-3'!M13)","v":457},{"$f":"SUM('[2]1-3-2'!N13,'[2]1-3-3'!N13)","v":102},{"$f":"SUM('[2]1-3-2'!O13,'[2]1-3-3'!O13)","v":294}]
["지역개발세",38,341,{"$f":"SUM('[2]1-3-2'!D14,'[2]1-3-3'!D14)","v":0},{"$f":"SUM('[2]1-3-2'!E14,'[2]1-3-3'!E14)","v":0},{"$f":"SUM('[2]1-3-2'!F14,'[2]1-3-3'!F14)","v":22},{"$f":"SUM('[2]1-3-2'!G14,'[2]1-3-3'!G14)","v":196},{"$f":"SUM('[2]1-3-2'!H14,'[2]1-3-3'!H14)","v":0},{"$f":"SUM('[2]1-3-2'!I14,'[2]1-3-3'!I14)","v":0},{"$f":"SUM('[2]1-3-2'!J14,'[2]1-3-3'!J14)","v":9},{"$f":"SUM('[2]1-3-2'!K14,'[2]1-3-3'!K14)","v":108},{"$f":"SUM('[2]1-3-2'!L14,'[2]1-3-3'!L14)","v":0},{"$f":"SUM('[2]1-3-2'!M14,'[2]1-3-3'!M14)","v":0},{"$f":"SUM('[2]1-3-2'!N14,'[2]1-3-3'!N14)","v":7},{"$f":"SUM('[2]1-3-2'!O14,'[2]1-3-3'!O14)","v":37}]
["지방교육세",{"v":116196,"d":"116,196"},{"v":1355591,"d":"1,355,591"},{"$f":"SUM('[2]1-3-2'!D15,'[2]1-3-3'!D15)","v":8},{"$f":"SUM('[2]1-3-2'!E15,'[2]1-3-3'!E15)","v":{"v":62040,"d":"62,040"}},{"$f":"SUM('[2]1-3-2'!F15,'[2]1-3-3'!F15)","v":{"v":13102,"d":"13,102"}},{"$f":"SUM('[2]1-3-2'!G15,'[2]1-3-3'!G15)","v":{"v":501332,"d":"501,332"}},{"$f":"SUM('[2]1-3-2'!H15,'[2]1-3-3'!H15)","v":0},{"$f":"SUM('[2]1-3-2'!I15,'[2]1-3-3'!I15)","v":0},{"$f":"SUM('[2]1-3-2'!J15,'[2]1-3-3'!J15)","v":{"v":82599,"d":"82,599"}},{"$f":"SUM('[2]1-3-2'!K15,'[2]1-3-3'!K15)","v":{"v":630741,"d":"630,741"}},{"$f":"SUM('[2]1-3-2'!L15,'[2]1-3-3'!L15)","v":{"v":9858,"d":"9,858"}},{"$f":"SUM('[2]1-3-2'!M15,'[2]1-3-3'!M15)","v":{"v":48293,"d":"48,293"}},{"$f":"SUM('[2]1-3-2'!N15,'[2]1-3-3'!N15)","v":{"v":10629,"d":"10,629"}},{"$f":"SUM('[2]1-3-2'!O15,'[2]1-3-3'!O15)","v":{"v":113185,"d":"113,185"}}]
["시군세 계",{"v":133962,"d":"133,962"},{"v":9854715,"d":"9,854,715"},{"$f":"SUM(D17:D27)","v":28},{"$f":"SUM(E17:E27)","v":{"v":397052,"d":"397,052"}},{"v":15590,"d":"15,590"},{"v":3430285,"d":"3,430,285"},11,{"v":84727,"d":"84,727"},{"v":97695,"d":"97,695"},{"v":4483283,"d":"4,483,283"},{"v":9738,"d":"9,738"},{"v":884712,"d":"884,712"},{"v":10900,"d":"10,900"},{"v":574656,"d":"574,656"}]
["주  민  세",{"v":61085,"d":"61,085"},{"v":1005355,"d":"1,005,355"},{"$f":"SUM('[2]1-3-2'!D17,'[2]1-3-3'!D17)","v":2},{"$f":"SUM('[2]1-3-2'!E17,'[2]1-3-3'!E17)","v":{"v":5805,"d":"5,805"}},{"$f":"SUM('[2]1-3-2'!F17,'[2]1-3-3'!F17)","v":{"v":3517,"d":"3,517"}},{"$f":"SUM('[2]1-3-2'!G17,'[2]1-3-3'!G17)","v":{"v":355088,"d":"355,088"}},{"$f":"SUM('[2]1-3-2'!H17,'[2]1-3-3'!H17)","v":0},{"$f":"SUM('[2]1-3-2'!I17,'[2]1-3-3'!I17)","v":0},{"$f":"SUM('[2]1-3-2'!J17,'[2]1-3-3'!J17)","v":{"v":47763,"d":"47,763"}},{"$f":"SUM('[2]1-3-2'!K17,'[2]1-3-3'!K17)","v":{"v":490449,"d":"490,449"}},{"$f":"SUM('[2]1-3-2'!L17,'[2]1-3-3'!L17)","v":{"v":5219,"d":"5,219"}},{"$f":"SUM('[2]1-3-2'!M17,'[2]1-3-3'!M17)","v":{"v":49315,"d":"49,315"}},{"$f":"SUM('[2]1-3-2'!N17,'[2]1-3-3'!N17)","v":{"v":4584,"d":"4,584"}},{"$f":"SUM('[2]1-3-2'!O17,'[2]1-3-3'!O17)","v":{"v":104698,"d":"104,698"}}]
["재  산  세",{"v":28711,"d":"28,711"},{"v":2629570,"d":"2,629,570"},{"$f":"SUM('[2]1-3-2'!D18,'[2]1-3-3'!D18)","v":9},{"$f":"SUM('[2]1-3-2'!E18,'[2]1-3-3'!E18)","v":{"v":337372,"d":"337,372"}},{"$f":"SUM('[2]1-3-2'!F18,'[2]1-3-3'!F18)","v":{"v":5157,"d":"5,157"}},{"$f":"SUM('[2]1-3-2'!G18,'[2]1-3-3'!G18)","v":{"v":1245190,"d":"1,245,190"}},{"$f":"SUM('[2]1-3-2'!H18,'[2]1-3-3'!H18)","v":0},{"$f":"SUM('[2]1-3-2'!I18,'[2]1-3-3'!I18)","v":0},{"$f":"SUM('[2]1-3-2'!J18,'[2]1-3-3'!J18)","v":{"v":20767,"d":"20,767"}},{"$f":"SUM('[2]1-3-2'!K18,'[2]1-3-3'!K18)","v":{"v":956758,"d":"956,758"}},{"$f":"SUM('[2]1-3-2'!L18,'[2]1-3-3'!L18)","v":813},{"$f":"SUM('[2]1-3-2'!M18,'[2]1-3-3'!M18)","v":{"v":35731,"d":"35,731"}},{"$f":"SUM('[2]1-3-2'!N18,'[2]1-3-3'!N18)","v":{"v":1965,"d":"1,965"}},{"$f":"SUM('[2]1-3-2'!O18,'[2]1-3-3'!O18)","v":{"v":54519,"d":"54,519"}}]
["자동차세",{"v":36380,"d":"36,380"},{"v":3234063,"d":"3,234,063"},{"$f":"SUM('[2]1-3-2'!D19,'[2]1-3-3'!D19)","v":0},{"$f":"SUM('[2]1-3-2'!E19,'[2]1-3-3'!E19)","v":0},{"$f":"SUM('[2]1-3-2'!F19,'[2]1-3-3'!F19)","v":{"v":5006,"d":"5,006"}},{"$f":"SUM('[2]1-3-2'!G19,'[2]1-3-3'!G19)","v":{"v":817343,"d":"817,343"}},{"$f":"SUM('[2]1-3-2'!H19,'[2]1-3-3'!H19)","v":0},{"$f":"SUM('[2]1-3-2'!I19,'[2]1-3-3'!I19)","v":0},{"$f":"SUM('[2]1-3-2'!J19,'[2]1-3-3'!J19)","v":{"v":24768,"d":"24,768"}},{"$f":"SUM('[2]1-3-2'!K19,'[2]1-3-3'!K19)","v":{"v":1946761,"d":"1,946,761"}},{"$f":"SUM('[2]1-3-2'!L19,'[2]1-3-3'!L19)","v":{"v":2821,"d":"2,821"}},{"$f":"SUM('[2]1-3-2'!M19,'[2]1-3-3'!M19)","v":{"v":177398,"d":"177,398"}},{"$f":"SUM('[2]1-3-2'!N19,'[2]1-3-3'!N19)","v":{"v":3785,"d":"3,785"}},{"$f":"SUM('[2]1-3-2'!O19,'[2]1-3-3'!O19)","v":{"v":292561,"d":"292,561"}}]
["담배소비세",0,0,{"$f":"SUM('[2]1-3-2'!D20,'[2]1-3-3'!D20)","v":0},{"$f":"SUM('[2]1-3-2'!E20,'[2]1-3-3'!E20)","v":0},{"$f":"SUM('[2]1-3-2'!F20,'[2]1-3-3'!F20)","v":0},{"$f":"SUM('[2]1-3-2'!G20,'[2]1-3-3'!G20)","v":0},{"$f":"SUM('[2]1-3-2'!H20,'[2]1-3-3'!H20)","v":0},{"$f":"SUM('[2]1-3-2'!I20,'[2]1-3-3'!I20)","v":0},{"$f":"SUM('[2]1-3-2'!J20,'[2]1-3-3'!J20)","v":0},{"$f":"SUM('[2]1-3-2'!K20,'[2]1-3-3'!K20)","v":0},{"$f":"SUM('[2]1-3-2'!L20,'[2]1-3-3'!L20)","v":0},{"$f":"SUM('[2]1-3-2'!M20,'[2]1-3-3'!M20)","v":0},{"$f":"SUM('[2]1-3-2'!N20,'[2]1-3-3'!N20)","v":0},{"$f":"SUM('[2]1-3-2'!O20,'[2]1-3-3'!O20)","v":0}]
["지방소득세",{"v":3864,"d":"3,864"},{"v":2756580,"d":"2,756,580"},{"$f":"SUM('[2]1-3-2'!D21,'[2]1-3-3'!D21)","v":16},{"$f":"SUM('[2]1-3-2'!E21,'[2]1-3-3'!E21)","v":{"v":46859,"d":"46,859"}},{"$f":"SUM('[2]1-3-2'!F21,'[2]1-3-3'!F21)","v":821},{"$f":"SUM('[2]1-3-2'!G21,'[2]1-3-3'!G21)","v":{"v":851959,"d":"851,959"}},{"$f":"SUM('[2]1-3-2'!H21,'[2]1-3-3'!H21)","v":11},{"$f":"SUM('[2]1-3-2'!I21,'[2]1-3-3'!I21)","v":{"v":84727,"d":"84,727"}},{"$f":"SUM('[2]1-3-2'!J21,'[2]1-3-3'!J21)","v":{"v":2645,"d":"2,645"}},{"$f":"SUM('[2]1-3-2'!K21,'[2]1-3-3'!K21)","v":{"v":1055772,"d":"1,055,772"}},{"$f":"SUM('[2]1-3-2'!L21,'[2]1-3-3'!L21)","v":289},{"$f":"SUM('[2]1-3-2'!M21,'[2]1-3-3'!M21)","v":{"v":608973,"d":"608,973"}},{"$f":"SUM('[2]1-3-2'!N21,'[2]1-3-3'!N21)","v":82},{"$f":"SUM('[2]1-3-2'!O21,'[2]1-3-3'!O21)","v":{"v":108290,"d":"108,290"}}]
["주행세",0,0,{"$f":"SUM('[2]1-3-2'!D22,'[2]1-3-3'!D22)","v":0},{"$f":"SUM('[2]1-3-2'!E22,'[2]1-3-3'!E22)","v":0},{"$f":"SUM('[2]1-3-2'!F22,'[2]1-3-3'!F22)","v":0},{"$f":"SUM('[2]1-3-2'!G22,'[2]1-3-3'!G22)","v":0},{"$f":"SUM('[2]1-3-2'!H22,'[2]1-3-3'!H22)","v":0},{"$f":"SUM('[2]1-3-2'!I22,'[2]1-3-3'!I22)","v":0},{"$f":"SUM('[2]1-3-2'!J22,'[2]1-3-3'!J22)","v":0},{"$f":"SUM('[2]1-3-2'!K22,'[2]1-3-3'!K22)","v":0},{"$f":"SUM('[2]1-3-2'!L22,'[2]1-3-3'!L22)","v":0},{"$f":"SUM('[2]1-3-2'!M22,'[2]1-3-3'!M22)","v":0},{"$f":"SUM('[2]1-3-2'!N22,'[2]1-3-3'!N22)","v":0},{"$f":"SUM('[2]1-3-2'!O22,'[2]1-3-3'!O22)","v":0}]
["농업소득세",0,0,{"$f":"SUM('[2]1-3-2'!D23,'[2]1-3-3'!D23)","v":0},{"$f":"SUM('[2]1-3-2'!E23,'[2]1-3-3'!E23)","v":0},{"$f":"SUM('[2]1-3-2'!F23,'[2]1-3-3'!F23)","v":0},{"$f":"SUM('[2]1-3-2'!G23,'[2]1-3-3'!G23)","v":0},{"$f":"SUM('[2]1-3-2'!H23,'[2]1-3-3'!H23)","v":0},{"$f":"SUM('[2]1-3-2'!I23,'[2]1-3-3'!I23)","v":0},{"$f":"SUM('[2]1-3-2'!J23,'[2]1-3-3'!J23)","v":0},{"$f":"SUM('[2]1-3-2'!K23,'[2]1-3-3'!K23)","v":0},{"$f":"SUM('[2]1-3-2'!L23,'[2]1-3-3'!L23)","v":0},{"$f":"SUM('[2]1-3-2'!M23,'[2]1-3-3'!M23)","v":0},{"$f":"SUM('[2]1-3-2'!N23,'[2]1-3-3'!N23)","v":0},{"$f":"SUM('[2]1-3-2'!O23,'[2]1-3-3'!O23)","v":0}]
["도축세",0,0,{"$f":"SUM('[2]1-3-2'!D24,'[2]1-3-3'!D24)","v":0},{"$f":"SUM('[2]1-3-2'!E24,'[2]1-3-3'!E24)","v":0},{"$f":"SUM('[2]1-3-2'!F24,'[2]1-3-3'!F24)","v":0},{"$f":"SUM('[2]1-3-2'!G24,'[2]1-3-3'!G24)","v":0},{"$f":"SUM('[2]1-3-2'!H24,'[2]1-3-3'!H24)","v":0},{"$f":"SUM('[2]1-3-2'!I24,'[2]1-3-3'!I24)","v":0},{"$f":"SUM('[2]1-3-2'!J24,'[2]1-3-3'!J24)","v":0},{"$f":"SUM('[2]1-3-2'!K24,'[2]1-3-3'!K24)","v":0},{"$f":"SUM('[2]1-3-2'!L24,'[2]1-3-3'!L24)","v":0},{"$f":"SUM('[2]1-3-2'!M24,'[2]1-3-3'!M24)","v":0},{"$f":"SUM('[2]1-3-2'!N24,'[2]1-3-3'!N24)","v":0},{"$f":"SUM('[2]1-3-2'!O24,'[2]1-3-3'!O24)","v":0}]
["종합토지세",{"v":1265,"d":"1,265"},{"v":88226,"d":"88,226"},{"$f":"SUM('[2]1-3-2'!D25,'[2]1-3-3'!D25)","v":0},{"$f":"SUM('[2]1-3-2'!E25,'[2]1-3-3'!E25)","v":0},{"$f":"SUM('[2]1-3-2'!F25,'[2]1-3-3'!F25)","v":307},{"$f":"SUM('[2]1-3-2'!G25,'[2]1-3-3'!G25)","v":{"v":68412,"d":"68,412"}},{"$f":"SUM('[2]1-3-2'!H25,'[2]1-3-3'!H25)","v":0},{"$f":"SUM('[2]1-3-2'!I25,'[2]1-3-3'!I25)","v":0},{"$f":"SUM('[2]1-3-2'!J25,'[2]1-3-3'!J25)","v":677},{"$f":"SUM('[2]1-3-2'!K25,'[2]1-3-3'!K25)","v":{"v":3756,"d":"3,756"}},{"$f":"SUM('[2]1-3-2'!L25,'[2]1-3-3'!L25)","v":131},{"$f":"SUM('[2]1-3-2'!M25,'[2]1-3-3'!M25)","v":{"v":6440,"d":"6,440"}},{"$f":"SUM('[2]1-3-2'!N25,'[2]1-3-3'!N25)","v":150},{"$f":"SUM('[2]1-3-2'!O25,'[2]1-3-3'!O25)","v":{"v":9618,"d":"9,618"}}]
["도시계획세",{"v":2631,"d":"2,631"},{"v":126508,"d":"126,508"},{"$f":"SUM('[2]1-3-2'!D26,'[2]1-3-3'!D26)","v":1},{"$f":"SUM('[2]1-3-2'!E26,'[2]1-3-3'!E26)","v":{"v":7016,"d":"7,016"}},{"$f":"SUM('[2]1-3-2'!F26,'[2]1-3-3'!F26)","v":767},{"$f":"SUM('[2]1-3-2'!G26,'[2]1-3-3'!G26)","v":{"v":82444,"d":"82,444"}},{"$f":"SUM('[2]1-3-2'!H26,'[2]1-3-3'!H26)","v":0},{"$f":"SUM('[2]1-3-2'!I26,'[2]1-3-3'!I26)","v":0},{"$f":"SUM('[2]1-3-2'!J26,'[2]1-3-3'!J26)","v":{"v":1069,"d":"1,069"}},{"$f":"SUM('[2]1-3-2'!K26,'[2]1-3-3'!K26)","v":{"v":28622,"d":"28,622"}},{"$f":"SUM('[2]1-3-2'!L26,'[2]1-3-3'!L26)","v":463},{"$f":"SUM('[2]1-3-2'!M26,'[2]1-3-3'!M26)","v":{"v":5405,"d":"5,405"}},{"$f":"SUM('[2]1-3-2'!N26,'[2]1-3-3'!N26)","v":331},{"$f":"SUM('[2]1-3-2'!O26,'[2]1-3-3'!O26)","v":{"v":3021,"d":"3,021"}}]
["사업소세",26,{"v":14413,"d":"14,413"},{"$f":"SUM('[2]1-3-2'!D27,'[2]1-3-3'!D27)","v":0},{"$f":"SUM('[2]1-3-2'!E27,'[2]1-3-3'!E27)","v":0},{"$f":"SUM('[2]1-3-2'!F27,'[2]1-3-3'!F27)","v":15},{"$f":"SUM('[2]1-3-2'!G27,'[2]1-3-3'!G27)","v":{"v":9849,"d":"9,849"}},{"$f":"SUM('[2]1-3-2'!H27,'[2]1-3-3'!H27)","v":0},{"$f":"SUM('[2]1-3-2'!I27,'[2]1-3-3'!I27)","v":0},{"$f":"SUM('[2]1-3-2'!J27,'[2]1-3-3'!J27)","v":6},{"$f":"SUM('[2]1-3-2'!K27,'[2]1-3-3'!K27)","v":{"v":1165,"d":"1,165"}},{"$f":"SUM('[2]1-3-2'!L27,'[2]1-3-3'!L27)","v":2},{"$f":"SUM('[2]1-3-2'!M27,'[2]1-3-3'!M27)","v":{"v":1450,"d":"1,450"}},{"$f":"SUM('[2]1-3-2'!N27,'[2]1-3-3'!N27)","v":3},{"$f":"SUM('[2]1-3-2'!O27,'[2]1-3-3'!O27)","v":{"v":1949,"d":"1,949"}}]

{"sheet":"1-3-2","index":4,"n_rows":27,"n_cols":15,"rows_kept":27,"merged":[[0,0,0,14],[2,0,3,0],[2,1,2,2],[2,3,2,4],[2,5,2,6],[2,7,2,8],[2,9,2,10],[2,11,2,12],[2,13,2,14]]}
["1-3-2. 체납액 사유별 현황"]
["(현년도)",{"$nulls":13},"(단위 : 건, 천원)"]
["구      분","계",null,"징수유예",null,"부도 및 경영난",null,"소송계류",null,"고질체납",null,"무  재  산",null,"행방불명"]
[null,"건수","금액","건수","금액","건수","금액","건수","금액","건수","금액","건수","금액","건수","금액"]
["합    계",{"$f":"+B6+B16","v":{"v":113662,"d":"113,662"}},{"v":5263296,"d":"5,263,296"},1,{"v":17326,"d":"17,326"},{"$f":"+F6+F16","v":{"v":7469,"d":"7,469"}},{"$f":"+G6+G16","v":{"v":1911476,"d":"1,911,476"}},0,0,{"v":92782,"d":"92,782"},{"v":2802085,"d":"2,802,085"},{"v":4500,"d":"4,500"},{"v":308034,"d":"308,034"},{"v":8910,"d":"8,910"},{"v":224375,"d":"224,375"}]
["도세 계",{"$f":"SUM(B7:B15)","v":{"v":58001,"d":"58,001"}},{"v":1709743,"d":"1,709,743"},1,{"v":17326,"d":"17,326"},{"$f":"SUM(F7:F15)","v":{"v":4771,"d":"4,771"}},{"$f":"SUM(G7:G15)","v":{"v":928814,"d":"928,814"}},0,0,{"v":46112,"d":"46,112"},{"v":679164,"d":"679,164"},{"v":2359,"d":"2,359"},{"v":31059,"d":"31,059"},{"v":4758,"d":"4,758"},{"v":53380,"d":"53,380"}]
["취  득  세",{"$f":"SUM(D7,F7,H7,J7,L7,N7)","v":192},{"$f":"SUM(E7,G7,I7,K7,M7,O7)","v":{"v":968626,"d":"968,626"}},1,{"v":17326,"d":"17,326"},68,{"v":643971,"d":"643,971"},null,null,104,{"v":298016,"d":"298,016"},19,{"v":9313,"d":"9,313"}]
["등록면허세",{"$f":"SUM(D8,F8,H8,J8,L8,N8)","v":{"v":2019,"d":"2,019"}},{"v":35874,"d":"35,874"},null,null,284,{"v":9139,"d":"9,139"},null,null,{"v":1704,"d":"1,704"},{"v":26188,"d":"26,188"},11,188,20,359]
["지역자원시설세",{"v":3920,"d":"3,920"},{"v":182107,"d":"182,107"},null,null,{"v":1338,"d":"1,338"},{"v":125553,"d":"125,553"},null,null,{"v":2086,"d":"2,086"},{"v":47349,"d":"47,349"},63,{"v":1684,"d":"1,684"},433,{"v":7521,"d":"7,521"}]
["지방소비세",0,0]
["등록세",1,145,0,0,{"$nulls":4},1,145,0,0]
["면허세",0,0]
["공동시설세",0,0]
["지역개발세",0,0]
["지방교육세",{"v":51869,"d":"51,869"},{"v":522991,"d":"522,991"},0,0,{"v":3081,"d":"3,081"},{"v":150151,"d":"150,151"},null,null,{"v":42217,"d":"42,217"},{"v":307466,"d":"307,466"},{"v":2266,"d":"2,266"},{"v":19874,"d":"19,874"},{"v":4305,"d":"4,305"},{"v":45500,"d":"45,500"}]
["시군세 계",{"$f":"SUM(B17:B27)","v":{"v":55661,"d":"55,661"}},{"v":3553553,"d":"3,553,553"},0,0,{"$f":"SUM(F17:F27)","v":{"v":2698,"d":"2,698"}},{"$f":"SUM(G17:G27)","v":{"v":982662,"d":"982,662"}},0,0,{"v":46670,"d":"46,670"},{"v":2122921,"d":"2,122,921"},{"v":2141,"d":"2,141"},{"v":276975,"d":"276,975"},{"v":4152,"d":"4,152"},{"v":170995,"d":"170,995"}]
["주  민  세",{"$f":"SUM(D17,F17,H17,J17,L17,N17)","v":{"v":30247,"d":"30,247"}},{"$f":"SUM(E17,G17,I17,K17,M17,O17)","v":{"v":271781,"d":"271,781"}},null,null,254,{"v":13942,"d":"13,942"},null,null,{"v":25786,"d":"25,786"},{"v":226828,"d":"226,828"},{"v":1665,"d":"1,665"},{"v":10790,"d":"10,790"},{"v":2542,"d":"2,542"},{"v":20221,"d":"20,221"}]
["재  산  세",{"$f":"SUM(D18,F18,H18,J18,L18,N18)","v":{"v":13929,"d":"13,929"}},{"v":1289592,"d":"1,289,592"},null,null,{"v":1627,"d":"1,627"},{"v":673167,"d":"673,167"},null,null,{"v":11708,"d":"11,708"},{"v":598242,"d":"598,242"},null,null,594,{"v":18183,"d":"18,183"}]
["자동차세",{"v":10076,"d":"10,076"},{"v":925662,"d":"925,662"},null,null,720,{"v":83309,"d":"83,309"},null,null,{"v":7924,"d":"7,924"},{"v":715537,"d":"715,537"},454,{"v":37952,"d":"37,952"},978,{"v":88864,"d":"88,864"}]
["담배소비세",0,0]
["지방소득세",{"v":1407,"d":"1,407"},{"v":1066510,"d":"1,066,510"},null,null,95,{"v":212236,"d":"212,236"},null,null,{"v":1252,"d":"1,252"},{"v":582314,"d":"582,314"},22,{"v":228233,"d":"228,233"},38,{"v":43727,"d":"43,727"}]
["주행세",0,0]
["농업소득세",0,0]
["도축세",0,0]
["종합토지세",0,0]
["도시계획세",2,8,null,null,2,8]
["사업소세",0,0]

{"sheet":"1-3-3","index":5,"n_rows":27,"n_cols":15,"rows_kept":27,"merged":[[0,0,0,14],[2,0,3,0],[2,1,2,2],[2,3,2,4],[2,5,2,6],[2,7,2,8],[2,9,2,10],[2,11,2,12],[2,13,2,14]]}
["1-3-3. 체납액 사유별 현황"]
["(과년도)",{"$nulls":13},"(단위 : 건, 천원)"]
["구      분","계",null,"징수유예",null,"부도 및 경영난",null,"소송계류",null,"고질체납",null,"무  재  산",null,"행방불명"]
[null,"건수","금액","건수","금액","건수","금액","건수","금액","건수","금액","건수","금액","건수","금액"]
["합    계",{"$f":"+B6+B16","v":{"v":148477,"d":"148,477"}},{"v":8418494,"d":"8,418,494"},41,{"v":498527,"d":"498,527"},{"$f":"+F6+F16","v":{"v":24347,"d":"24,347"}},{"$f":"+G6+G16","v":{"v":3697390,"d":"3,697,390"}},11,{"v":84727,"d":"84,727"},{"v":95039,"d":"95,039"},{"v":2922443,"d":"2,922,443"},{"v":15495,"d":"15,495"},{"v":699969,"d":"699,969"},{"v":13544,"d":"13,544"},{"v":515438,"d":"515,438"}]
["도세 계",{"$f":"SUM(B7:B15)","v":{"v":70176,"d":"70,176"}},{"v":2117332,"d":"2,117,332"},13,{"v":101475,"d":"101,475"},{"$f":"SUM(F7:F15)","v":{"v":11455,"d":"11,455"}},{"$f":"SUM(G7:G15)","v":{"v":1249767,"d":"1,249,767"}},0,0,{"v":44014,"d":"44,014"},{"v":562081,"d":"562,081"},{"v":7898,"d":"7,898"},{"v":92232,"d":"92,232"},{"v":6796,"d":"6,796"},{"v":111777,"d":"111,777"}]
["취  득  세",{"$f":"SUM(D7,F7,H7,J7,L7,N7)","v":592},{"v":999658,"d":"999,658"},null,null,189,{"v":732232,"d":"732,232"},null,null,295,{"v":174603,"d":"174,603"},59,{"v":56593,"d":"56,593"},49,{"v":36230,"d":"36,230"}]
["등록면허세",{"v":1340,"d":"1,340"},{"v":16620,"d":"16,620"},null,null,299,{"v":5594,"d":"5,594"},null,null,981,{"v":10347,"d":"10,347"},25,289,35,390]
["지역자원시설세",{"v":1632,"d":"1,632"},{"v":142998,"d":"142,998"},null,null,483,{"v":105367,"d":"105,367"},null,null,960,{"v":32431,"d":"32,431"},null,null,189,{"v":5200,"d":"5,200"}]
["지방소비세",0,0]
["등록세",{"$f":"SUM(D11,F11,H11,J11,L11,N11)","v":113},{"v":65476,"d":"65,476"},null,null,19,{"v":49031,"d":"49,031"},null,null,78,{"v":9963,"d":"9,963"},11,{"v":5455,"d":"5,455"},5,{"v":1027,"d":"1,027"}]
["면허세",{"v":1170,"d":"1,170"},{"v":13762,"d":"13,762"},null,null,202,{"v":3120,"d":"3,120"},null,null,782,{"v":8709,"d":"8,709"},101,{"v":1019,"d":"1,019"},85,914]
["공동시설세",964,{"v":45877,"d":"45,877"},5,{"v":39435,"d":"39,435"},220,{"v":3046,"d":"3,046"},null,null,527,{"v":2645,"d":"2,645"},110,457,102,294]
["지역개발세",38,341,null,null,22,196,null,null,9,108,null,null,7,37]
["지방교육세",{"v":64327,"d":"64,327"},{"v":832600,"d":"832,600"},8,{"v":62040,"d":"62,040"},{"v":10021,"d":"10,021"},{"v":351181,"d":"351,181"},null,null,{"v":40382,"d":"40,382"},{"v":323275,"d":"323,275"},{"v":7592,"d":"7,592"},{"v":28419,"d":"28,419"},{"v":6324,"d":"6,324"},{"v":67685,"d":"67,685"}]
["시군세 계",{"$f":"SUM(B17:B27)","v":{"v":78301,"d":"78,301"}},{"v":6301162,"d":"6,301,162"},28,{"v":397052,"d":"397,052"},{"$f":"SUM(F17:F27)","v":{"v":12892,"d":"12,892"}},{"$f":"SUM(G17:G27)","v":{"v":2447623,"d":"2,447,623"}},11,{"v":84727,"d":"84,727"},{"v":51025,"d":"51,025"},{"v":2360362,"d":"2,360,362"},{"v":7597,"d":"7,597"},{"v":607737,"d":"607,737"},{"v":6748,"d":"6,748"},{"v":403661,"d":"403,661"}]
["주  민  세",{"$f":"SUM(D17,F17,H17,J17,L17,N17)","v":{"v":30838,"d":"30,838"}},{"$f":"SUM(E17,G17,I17,K17,M17,O17)","v":{"v":733574,"d":"733,574"}},2,{"v":5805,"d":"5,805"},{"v":3263,"d":"3,263"},{"v":341146,"d":"341,146"},null,null,{"v":21977,"d":"21,977"},{"v":263621,"d":"263,621"},{"v":3554,"d":"3,554"},{"v":38525,"d":"38,525"},{"v":2042,"d":"2,042"},{"v":84477,"d":"84,477"}]
["재  산  세",{"$f":"SUM(D18,F18,H18,J18,L18,N18)","v":{"v":14782,"d":"14,782"}},{"v":1339978,"d":"1,339,978"},9,{"v":337372,"d":"337,372"},{"v":3530,"d":"3,530"},{"v":572023,"d":"572,023"},null,null,{"v":9059,"d":"9,059"},{"v":358516,"d":"358,516"},813,{"v":35731,"d":"35,731"},{"v":1371,"d":"1,371"},{"v":36336,"d":"36,336"}]
["자동차세",{"v":26304,"d":"26,304"},{"v":2308401,"d":"2,308,401"},null,null,{"v":4286,"d":"4,286"},{"v":734034,"d":"734,034"},null,null,{"v":16844,"d":"16,844"},{"v":1231224,"d":"1,231,224"},{"v":2367,"d":"2,367"},{"v":139446,"d":"139,446"},{"v":2807,"d":"2,807"},{"v":203697,"d":"203,697"}]
["담배소비세",{"$f":"SUM(D20,F20,H20,J20,L20,N20)","v":0},{"$f":"SUM(E20,G20,I20,K20,M20,O20)","v":0}]
["지방소득세",{"v":2457,"d":"2,457"},{"v":1690070,"d":"1,690,070"},16,{"v":46859,"d":"46,859"},726,{"v":639723,"d":"639,723"},11,{"v":84727,"d":"84,727"},{"v":1393,"d":"1,393"},{"v":473458,"d":"473,458"},267,{"v":380740,"d":"380,740"},44,{"v":64563,"d":"64,563"}]
["주행세",0,0]
["농업소득세",0,0]
["도축세",0,0]
["종합토지세",{"v":1265,"d":"1,265"},{"v":88226,"d":"88,226"},null,null,307,{"v":68412,"d":"68,412"},null,null,677,{"v":3756,"d":"3,756"},131,{"v":6440,"d":"6,440"},150,{"v":9618,"d":"9,618"}]
["도시계획세",{"v":2629,"d":"2,629"},{"v":126500,"d":"126,500"},1,{"v":7016,"d":"7,016"},765,{"v":82436,"d":"82,436"},null,null,{"v":1069,"d":"1,069"},{"v":28622,"d":"28,622"},463,{"v":5405,"d":"5,405"},331,{"v":3021,"d":"3,021"}]
["사업소세",26,{"v":14413,"d":"14,413"},null,null,15,{"v":9849,"d":"9,849"},null,null,6,{"v":1165,"d":"1,165"},2,{"v":1450,"d":"1,450"},3,{"v":1949,"d":"1,949"}]

{"sheet":"1-1채권확보","index":6,"n_rows":27,"n_cols":8,"rows_kept":27,"merged":[[2,0,3,1],[2,2,2,3],[2,4,2,5],[2,6,2,7],[4,0,4,1],[5,0,14,0],[15,0,26,0]]}
["1-1. 체납액 채권확보(재산압류) 내역"]
[{"$nulls":7},"(단위 : 천원)"]
["구    분",null,"계",null,"현   년   도",null,"과  년  도"]
[null,null,"건 수","금  액","건 수","금  액","건 수","금  액"]
["합    계",null,{"$f":"SUM(C6,C16)","v":{"v":221057,"d":"221,057"}},{"v":11595894,"d":"11,595,894"},{"v":93532,"d":"93,532"},{"v":4439727,"d":"4,439,727"},{"v":127525,"d":"127,525"},{"v":7156167,"d":"7,156,167"}]
["도\n\n세","소    계",{"$f":"SUM(C7:C15)","v":{"v":108802,"d":"108,802"}},{"v":3229260,"d":"3,229,260"},{"v":47822,"d":"47,822"},{"v":1408887,"d":"1,408,887"},{"v":60980,"d":"60,980"},{"v":1820373,"d":"1,820,373"}]
[null,"취  득  세",{"$f":"SUM(E7,G7)","v":662},{"v":1653669,"d":"1,653,669"},159,{"v":803960,"d":"803,960"},503,{"v":849709,"d":"849,709"}]
[null,"등록면허세",{"v":2640,"d":"2,640"},{"v":40867,"d":"40,867"},{"v":1514,"d":"1,514"},{"v":26906,"d":"26,906"},{"v":1126,"d":"1,126"},{"v":13961,"d":"13,961"}]
[null,"지역자원시설세",{"$f":"SUM(E9,G9)","v":{"v":4549,"d":"4,549"}},{"$f":"SUM(F9,H9)","v":{"v":271133,"d":"271,133"}},{"v":3097,"d":"3,097"},{"v":143865,"d":"143,865"},{"v":1452,"d":"1,452"},{"v":127268,"d":"127,268"}]
[null,"지방소비세",0,0,0,0,0,0]
[null,"등록세",91,{"v":52454,"d":"52,454"},1,73,90,{"v":52381,"d":"52,381"}]
[null,"면허세",948,{"v":11147,"d":"11,147"},0,0,948,{"v":11147,"d":"11,147"}]
[null,"공동시설세",868,{"v":41289,"d":"41,289"},0,0,868,{"v":41289,"d":"41,289"}]
[null,"지역개발세",{"$f":"SUM(E14,G14)","v":29},{"$f":"SUM(F14,H14)","v":256},0,0,29,256]
[null,"지방교육세",{"v":99015,"d":"99,015"},{"v":1158445,"d":"1,158,445"},{"v":43051,"d":"43,051"},{"v":434083,"d":"434,083"},{"v":55964,"d":"55,964"},{"v":724362,"d":"724,362"}]
["시\n\n군\n\n세","소    계",{"$f":"SUM(C17:C27)","v":{"v":112255,"d":"112,255"}},{"v":8366634,"d":"8,366,634"},{"v":45710,"d":"45,710"},{"v":3030840,"d":"3,030,840"},{"v":66545,"d":"66,545"},{"v":5335794,"d":"5,335,794"}]
[null,"주  민  세",{"$f":"SUM(E17,G17)","v":{"v":47047,"d":"47,047"}},{"v":783359,"d":"783,359"},{"v":22685,"d":"22,685"},{"v":203836,"d":"203,836"},{"v":24362,"d":"24,362"},{"v":579523,"d":"579,523"}]
[null,"재  산  세",{"v":25405,"d":"25,405"},{"v":2326918,"d":"2,326,918"},{"v":12397,"d":"12,397"},{"v":1147737,"d":"1,147,737"},{"v":13008,"d":"13,008"},{"v":1179181,"d":"1,179,181"}]
[null,"자 동 차세",{"v":33772,"d":"33,772"},{"v":3003108,"d":"3,003,108"},{"v":9572,"d":"9,572"},{"v":879379,"d":"879,379"},{"v":24200,"d":"24,200"},{"v":2123729,"d":"2,123,729"}]
[null,"담배소비세",0,0,0,0,0,0]
[null,"지방소득세",{"v":2898,"d":"2,898"},{"v":2067436,"d":"2,067,436"},{"v":1055,"d":"1,055"},{"v":799883,"d":"799,883"},{"v":1843,"d":"1,843"},{"v":1267553,"d":"1,267,553"}]
[null,"주행세",0,0,0,0,0,0]
[null,"농업소득세",0,0,0,0,0,0]
[null,"도축세",0,0,0,0,0,0]
[null,"종합토지세",{"v":1139,"d":"1,139"},{"v":79403,"d":"79,403"},0,0,{"v":1139,"d":"1,139"},{"v":79403,"d":"79,403"}]
[null,"도시계획세",{"v":1973,"d":"1,973"},{"v":94880,"d":"94,880"},1,5,{"v":1972,"d":"1,972"},{"v":94875,"d":"94,875"}]
[null,"사업소세",21,{"v":11530,"d":"11,530"},0,0,21,{"v":11530,"d":"11,530"}]

{"sheet":"2-3-1","index":7,"n_rows":27,"n_cols":13,"rows_kept":27,"merged":[[0,0,0,12],[2,0,3,0],[2,1,2,2],[2,3,2,4],[2,5,2,6],[2,7,2,8],[2,9,2,10],[2,11,2,12]]}
["2-3-1. 불납결손액 사유별 현황"]
["(총  계)",{"$nulls":10},"(단위 : 건, 천원)"]
["구      분","계",null,"무재산",null,"행방불명",null,"시효소멸",null,"공매시 무배당(청산부족)",null,"기타"]
[null,"건수","금액","건수","금액","건수","금액","건수","금액","건수","금액","건수","금액"]
["합    계",{"$f":"+B6+B16","v":{"v":12172,"d":"12,172"}},{"v":1503894,"d":"1,503,894"},{"v":2166,"d":"2,166"},{"v":502141,"d":"502,141"},{"$f":"+F6+F16","v":494},{"$f":"+G6+G16","v":{"v":73624,"d":"73,624"}},{"v":8851,"d":"8,851"},{"v":123531,"d":"123,531"},148,{"v":403053,"d":"403,053"},513,{"v":401545,"d":"401,545"}]
["도세 계",{"$f":"SUM(B7:B15)","v":{"v":5642,"d":"5,642"}},{"v":324140,"d":"324,140"},963,{"v":81673,"d":"81,673"},{"$f":"SUM(F7:F15)","v":208},{"$f":"SUM(G7:G15)","v":{"v":7553,"d":"7,553"}},{"v":4171,"d":"4,171"},{"v":26805,"d":"26,805"},85,{"v":40158,"d":"40,158"},215,{"v":167951,"d":"167,951"}]
["취  득  세",{"$f":"SUM(D7,F7,H7,J7,L7)","v":73},{"$f":"SUM(E7,G7,I7,K7,M7)","v":{"v":231082,"d":"231,082"}},{"$f":"SUM('2-3-2'!D7,'2-3-3'!D7)","v":17},{"$f":"SUM('2-3-2'!E7,'2-3-3'!E7)","v":{"v":50053,"d":"50,053"}},{"$f":"SUM('2-3-2'!F7,'2-3-3'!F7)","v":4},{"$f":"SUM('2-3-2'!G7,'2-3-3'!G7)","v":{"v":1648,"d":"1,648"}},{"$f":"SUM('2-3-2'!H7,'2-3-3'!H7)","v":46},{"$f":"SUM('2-3-2'!I7,'2-3-3'!I7)","v":{"v":8153,"d":"8,153"}},{"$f":"SUM('2-3-2'!J7,'2-3-3'!J7)","v":1},{"$f":"SUM('2-3-2'!K7,'2-3-3'!K7)","v":{"v":14259,"d":"14,259"}},{"$f":"SUM('2-3-2'!L7,'2-3-3'!L7)","v":5},{"$f":"SUM('2-3-2'!M7,'2-3-3'!M7)","v":{"v":156969,"d":"156,969"}}]
["등록면허세",{"$f":"SUM(D8,F8,H8,J8,L8)","v":5},98,{"$f":"SUM('2-3-2'!D8,'2-3-3'!D8)","v":0},{"$f":"SUM('2-3-2'!E8,'2-3-3'!E8)","v":0},{"$f":"SUM('2-3-2'!F8,'2-3-3'!F8)","v":0},{"$f":"SUM('2-3-2'!G8,'2-3-3'!G8)","v":0},{"$f":"SUM('2-3-2'!H8,'2-3-3'!H8)","v":0},{"$f":"SUM('2-3-2'!I8,'2-3-3'!I8)","v":0},{"$f":"SUM('2-3-2'!J8,'2-3-3'!J8)","v":3},{"$f":"SUM('2-3-2'!K8,'2-3-3'!K8)","v":77},{"$f":"SUM('2-3-2'!L8,'2-3-3'!L8)","v":2},{"$f":"SUM('2-3-2'!M8,'2-3-3'!M8)","v":21}]
["지역자원시설세",23,{"v":20681,"d":"20,681"},{"$f":"SUM('2-3-2'!D9,'2-3-3'!D9)","v":11},{"$f":"SUM('2-3-2'!E9,'2-3-3'!E9)","v":{"v":2799,"d":"2,799"}},{"$f":"SUM('2-3-2'!F9,'2-3-3'!F9)","v":0},{"$f":"SUM('2-3-2'!G9,'2-3-3'!G9)","v":0},{"$f":"SUM('2-3-2'!H9,'2-3-3'!H9)","v":0},{"$f":"SUM('2-3-2'!I9,'2-3-3'!I9)","v":0},{"$f":"SUM('2-3-2'!J9,'2-3-3'!J9)","v":11},{"$f":"SUM('2-3-2'!K9,'2-3-3'!K9)","v":{"v":17695,"d":"17,695"}},{"$f":"SUM('2-3-2'!L9,'2-3-3'!L9)","v":1},{"$f":"SUM('2-3-2'!M9,'2-3-3'!M9)","v":187}]
["지방소비세",0,0,{"$f":"SUM('2-3-2'!D10,'2-3-3'!D10)","v":0},{"$f":"SUM('2-3-2'!E10,'2-3-3'!E10)","v":0},{"$f":"SUM('2-3-2'!F10,'2-3-3'!F10)","v":0},{"$f":"SUM('2-3-2'!G10,'2-3-3'!G10)","v":0},{"$f":"SUM('2-3-2'!H10,'2-3-3'!H10)","v":0},{"$f":"SUM('2-3-2'!I10,'2-3-3'!I10)","v":0},{"$f":"SUM('2-3-2'!J10,'2-3-3'!J10)","v":0},{"$f":"SUM('2-3-2'!K10,'2-3-3'!K10)","v":0},{"$f":"SUM('2-3-2'!L10,'2-3-3'!L10)","v":0},{"$f":"SUM('2-3-2'!M10,'2-3-3'!M10)","v":0}]
["등록세",9,{"v":2244,"d":"2,244"},{"$f":"SUM('2-3-2'!D11,'2-3-3'!D11)","v":2},{"$f":"SUM('2-3-2'!E11,'2-3-3'!E11)","v":{"v":1052,"d":"1,052"}},{"$f":"SUM('2-3-2'!F11,'2-3-3'!F11)","v":1},{"$f":"SUM('2-3-2'!G11,'2-3-3'!G11)","v":989},{"$f":"SUM('2-3-2'!H11,'2-3-3'!H11)","v":6},{"$f":"SUM('2-3-2'!I11,'2-3-3'!I11)","v":203},{"$f":"SUM('2-3-2'!J11,'2-3-3'!J11)","v":0},{"$f":"SUM('2-3-2'!K11,'2-3-3'!K11)","v":0},{"$f":"SUM('2-3-2'!L11,'2-3-3'!L11)","v":0},{"$f":"SUM('2-3-2'!M11,'2-3-3'!M11)","v":0}]
["면허세",273,{"v":3377,"d":"3,377"},{"$f":"SUM('2-3-2'!D12,'2-3-3'!D12)","v":47},{"$f":"SUM('2-3-2'!E12,'2-3-3'!E12)","v":546},{"$f":"SUM('2-3-2'!F12,'2-3-3'!F12)","v":5},{"$f":"SUM('2-3-2'!G12,'2-3-3'!G12)","v":105},{"$f":"SUM('2-3-2'!H12,'2-3-3'!H12)","v":212},{"$f":"SUM('2-3-2'!I12,'2-3-3'!I12)","v":{"v":2637,"d":"2,637"}},{"$f":"SUM('2-3-2'!J12,'2-3-3'!J12)","v":7},{"$f":"SUM('2-3-2'!K12,'2-3-3'!K12)","v":60},{"$f":"SUM('2-3-2'!L12,'2-3-3'!L12)","v":2},{"$f":"SUM('2-3-2'!M12,'2-3-3'!M12)","v":29}]
["공동시설세",135,{"v":9852,"d":"9,852"},{"$f":"SUM('2-3-2'!D13,'2-3-3'!D13)","v":44},{"$f":"SUM('2-3-2'!E13,'2-3-3'!E13)","v":{"v":4906,"d":"4,906"}},{"$f":"SUM('2-3-2'!F13,'2-3-3'!F13)","v":17},{"$f":"SUM('2-3-2'!G13,'2-3-3'!G13)","v":86},{"$f":"SUM('2-3-2'!H13,'2-3-3'!H13)","v":68},{"$f":"SUM('2-3-2'!I13,'2-3-3'!I13)","v":636},{"$f":"SUM('2-3-2'!J13,'2-3-3'!J13)","v":4},{"$f":"SUM('2-3-2'!K13,'2-3-3'!K13)","v":{"v":1744,"d":"1,744"}},{"$f":"SUM('2-3-2'!L13,'2-3-3'!L13)","v":2},{"$f":"SUM('2-3-2'!M13,'2-3-3'!M13)","v":{"v":2480,"d":"2,480"}}]
["지역개발세",19,224,{"$f":"SUM('2-3-2'!D14,'2-3-3'!D14)","v":2},{"$f":"SUM('2-3-2'!E14,'2-3-3'!E14)","v":9},{"$f":"SUM('2-3-2'!F14,'2-3-3'!F14)","v":0},{"$f":"SUM('2-3-2'!G14,'2-3-3'!G14)","v":0},{"$f":"SUM('2-3-2'!H14,'2-3-3'!H14)","v":2},{"$f":"SUM('2-3-2'!I14,'2-3-3'!I14)","v":28},{"$f":"SUM('2-3-2'!J14,'2-3-3'!J14)","v":15},{"$f":"SUM('2-3-2'!K14,'2-3-3'!K14)","v":187},{"$f":"SUM('2-3-2'!L14,'2-3-3'!L14)","v":0},{"$f":"SUM('2-3-2'!M14,'2-3-3'!M14)","v":0}]
["지방교육세",{"v":5105,"d":"5,105"},{"v":56582,"d":"56,582"},{"$f":"SUM('2-3-2'!D15,'2-3-3'!D15)","v":840},{"$f":"SUM('2-3-2'!E15,'2-3-3'!E15)","v":{"v":22308,"d":"22,308"}},{"$f":"SUM('2-3-2'!F15,'2-3-3'!F15)","v":181},{"$f":"SUM('2-3-2'!G15,'2-3-3'!G15)","v":{"v":4725,"d":"4,725"}},{"$f":"SUM('2-3-2'!H15,'2-3-3'!H15)","v":{"v":3837,"d":"3,837"}},{"$f":"SUM('2-3-2'!I15,'2-3-3'!I15)","v":{"v":15148,"d":"15,148"}},{"$f":"SUM('2-3-2'!J15,'2-3-3'!J15)","v":44},{"$f":"SUM('2-3-2'!K15,'2-3-3'!K15)","v":{"v":6136,"d":"6,136"}},{"$f":"SUM('2-3-2'!L15,'2-3-3'!L15)","v":203},{"$f":"SUM('2-3-2'!M15,'2-3-3'!M15)","v":{"v":8265,"d":"8,265"}}]
["시군세 계",{"$f":"SUM(B17:B27)","v":{"v":6530,"d":"6,530"}},{"$f":"SUM(C17:C27)","v":{"v":1179754,"d":"1,179,754"}},{"$f":"SUM(D17:D27)","v":{"v":1203,"d":"1,203"}},{"v":420468,"d":"420,468"},{"$f":"SUM(F17:F27)","v":286},{"$f":"SUM(G17:G27)","v":{"v":66071,"d":"66,071"}},{"v":4680,"d":"4,680"},{"v":96726,"d":"96,726"},63,{"v":362895,"d":"362,895"},298,{"v":233594,"d":"233,594"}]
["주  민  세",{"$f":"SUM(D17,F17,H17,J17,L17)","v":{"v":2933,"d":"2,933"}},{"$f":"SUM(E17,G17,I17,K17,M17)","v":{"v":106538,"d":"106,538"}},{"$f":"SUM('2-3-2'!D17,'2-3-3'!D17)","v":268},{"$f":"SUM('2-3-2'!E17,'2-3-3'!E17)","v":{"v":63785,"d":"63,785"}},{"$f":"SUM('2-3-2'!F17,'2-3-3'!F17)","v":44},{"$f":"SUM('2-3-2'!G17,'2-3-3'!G17)","v":{"v":2617,"d":"2,617"}},{"$f":"SUM('2-3-2'!H17,'2-3-3'!H17)","v":{"v":2554,"d":"2,554"}},{"$f":"SUM('2-3-2'!I17,'2-3-3'!I17)","v":{"v":28870,"d":"28,870"}},{"$f":"SUM('2-3-2'!J17,'2-3-3'!J17)","v":12},{"$f":"SUM('2-3-2'!K17,'2-3-3'!K17)","v":617},{"$f":"SUM('2-3-2'!L17,'2-3-3'!L17)","v":55},{"$f":"SUM('2-3-2'!M17,'2-3-3'!M17)","v":{"v":10649,"d":"10,649"}}]
["재  산  세",{"$f":"SUM(D18,F18,H18,J18,L18)","v":{"v":1004,"d":"1,004"}},{"v":119083,"d":"119,083"},{"$f":"SUM('2-3-2'!D18,'2-3-3'!D18)","v":135},{"$f":"SUM('2-3-2'!E18,'2-3-3'!E18)","v":{"v":35612,"d":"35,612"}},{"$f":"SUM('2-3-2'!F18,'2-3-3'!F18)","v":20},{"$f":"SUM('2-3-2'!G18,'2-3-3'!G18)","v":397},{"$f":"SUM('2-3-2'!H18,'2-3-3'!H18)","v":780},{"$f":"SUM('2-3-2'!I18,'2-3-3'!I18)","v":{"v":8614,"d":"8,614"}},{"$f":"SUM('2-3-2'!J18,'2-3-3'!J18)","v":30},{"$f":"SUM('2-3-2'!K18,'2-3-3'!K18)","v":{"v":45029,"d":"45,029"}},{"$f":"SUM('2-3-2'!L18,'2-3-3'!L18)","v":39},{"$f":"SUM('2-3-2'!M18,'2-3-3'!M18)","v":{"v":29431,"d":"29,431"}}]
["자동차세",{"v":2026,"d":"2,026"},{"v":158842,"d":"158,842"},{"$f":"SUM('2-3-2'!D19,'2-3-3'!D19)","v":663},{"$f":"SUM('2-3-2'!E19,'2-3-3'!E19)","v":{"v":68357,"d":"68,357"}},{"$f":"SUM('2-3-2'!F19,'2-3-3'!F19)","v":195},{"$f":"SUM('2-3-2'!G19,'2-3-3'!G19)","v":{"v":22430,"d":"22,430"}},{"$f":"SUM('2-3-2'!H19,'2-3-3'!H19)","v":{"v":1036,"d":"1,036"}},{"$f":"SUM('2-3-2'!I19,'2-3-3'!I19)","v":{"v":55204,"d":"55,204"}},{"$f":"SUM('2-3-2'!J19,'2-3-3'!J19)","v":7},{"$f":"SUM('2-3-2'!K19,'2-3-3'!K19)","v":663},{"$f":"SUM('2-3-2'!L19,'2-3-3'!L19)","v":125},{"$f":"SUM('2-3-2'!M19,'2-3-3'!M19)","v":{"v":12188,"d":"12,188"}}]
["담배소비세",0,0,{"$f":"SUM('2-3-2'!D20,'2-3-3'!D20)","v":0},{"$f":"SUM('2-3-2'!E20,'2-3-3'!E20)","v":0},{"$f":"SUM('2-3-2'!F20,'2-3-3'!F20)","v":0},{"$f":"SUM('2-3-2'!G20,'2-3-3'!G20)","v":0},{"$f":"SUM('2-3-2'!H20,'2-3-3'!H20)","v":0},{"$f":"SUM('2-3-2'!I20,'2-3-3'!I20)","v":0},{"$f":"SUM('2-3-2'!J20,'2-3-3'!J20)","v":0},{"$f":"SUM('2-3-2'!K20,'2-3-3'!K20)","v":0},{"$f":"SUM('2-3-2'!L20,'2-3-3'!L20)","v":0},{"$f":"SUM('2-3-2'!M20,'2-3-3'!M20)","v":0}]
["지방소득세",89,{"v":748620,"d":"748,620"},{"$f":"SUM('2-3-2'!D21,'2-3-3'!D21)","v":62},{"$f":"SUM('2-3-2'!E21,'2-3-3'!E21)","v":{"v":239176,"d":"239,176"}},{"$f":"SUM('2-3-2'!F21,'2-3-3'!F21)","v":9},{"$f":"SUM('2-3-2'!G21,'2-3-3'!G21)","v":{"v":40310,"d":"40,310"}},{"$f":"SUM('2-3-2'!H21,'2-3-3'!H21)","v":0},{"$f":"SUM('2-3-2'!I21,'2-3-3'!I21)","v":0},{"$f":"SUM('2-3-2'!J21,'2-3-3'!J21)","v":8},{"$f":"SUM('2-3-2'!K21,'2-3-3'!K21)","v":{"v":312877,"d":"312,877"}},{"$f":"SUM('2-3-2'!L21,'2-3-3'!L21)","v":10},{"$f":"SUM('2-3-2'!M21,'2-3-3'!M21)","v":{"v":156257,"d":"156,257"}}]
["주행세",0,0,{"$f":"SUM('2-3-2'!D22,'2-3-3'!D22)","v":0},{"$f":"SUM('2-3-2'!E22,'2-3-3'!E22)","v":0},{"$f":"SUM('2-3-2'!F22,'2-3-3'!F22)","v":0},{"$f":"SUM('2-3-2'!G22,'2-3-3'!G22)","v":0},{"$f":"SUM('2-3-2'!H22,'2-3-3'!H22)","v":0},{"$f":"SUM('2-3-2'!I22,'2-3-3'!I22)","v":0},{"$f":"SUM('2-3-2'!J22,'2-3-3'!J22)","v":0},{"$f":"SUM('2-3-2'!K22,'2-3-3'!K22)","v":0},{"$f":"SUM('2-3-2'!L22,'2-3-3'!L22)","v":0},{"$f":"SUM('2-3-2'!M22,'2-3-3'!M22)","v":0}]
["농업소득세",0,0,{"$f":"SUM('2-3-2'!D23,'2-3-3'!D23)","v":0},{"$f":"SUM('2-3-2'!E23,'2-3-3'!E23)","v":0},{"$f":"SUM('2-3-2'!F23,'2-3-3'!F23)","v":0},{"$f":"SUM('2-3-2'!G23,'2-3-3'!G23)","v":0},{"$f":"SUM('2-3-2'!H23,'2-3-3'!H23)","v":0},{"$f":"SUM('2-3-2'!I23,'2-3-3'!I23)","v":0},{"$f":"SUM('2-3-2'!J23,'2-3-3'!J23)","v":0},{"$f":"SUM('2-3-2'!K23,'2-3-3'!K23)","v":0},{"$f":"SUM('2-3-2'!L23,'2-3-3'!L23)","v":0},{"$f":"SUM('2-3-2'!M23,'2-3-3'!M23)","v":0}]
["도축세",0,0,{"$f":"SUM('2-3-2'!D24,'2-3-3'!D24)","v":0},{"$f":"SUM('2-3-2'!E24,'2-3-3'!E24)","v":0},{"$f":"SUM('2-3-2'!F24,'2-3-3'!F24)","v":0},{"$f":"SUM('2-3-2'!G24,'2-3-3'!G24)","v":0},{"$f":"SUM('2-3-2'!H24,'2-3-3'!H24)","v":0},{"$f":"SUM('2-3-2'!I24,'2-3-3'!I24)","v":0},{"$f":"SUM('2-3-2'!J24,'2-3-3'!J24)","v":0},{"$f":"SUM('2-3-2'!K24,'2-3-3'!K24)","v":0},{"$f":"SUM('2-3-2'!L24,'2-3-3'!L24)","v":0},{"$f":"SUM('2-3-2'!M24,'2-3-3'!M24)","v":0}]
["종합토지세",120,{"v":13048,"d":"13,048"},{"$f":"SUM('2-3-2'!D25,'2-3-3'!D25)","v":18},{"$f":"SUM('2-3-2'!E25,'2-3-3'!E25)","v":969},{"$f":"SUM('2-3-2'!F25,'2-3-3'!F25)","v":0},{"$f":"SUM('2-3-2'!G25,'2-3-3'!G25)","v":0},{"$f":"SUM('2-3-2'!H25,'2-3-3'!H25)","v":68},{"$f":"SUM('2-3-2'!I25,'2-3-3'!I25)","v":839},{"$f":"SUM('2-3-2'!J25,'2-3-3'!J25)","v":0},{"$f":"SUM('2-3-2'!K25,'2-3-3'!K25)","v":0},{"$f":"SUM('2-3-2'!L25,'2-3-3'!L25)","v":34},{"$f":"SUM('2-3-2'!M25,'2-3-3'!M25)","v":{"v":11240,"d":"11,240"}}]
["도시계획세",353,{"v":30639,"d":"30,639"},{"$f":"SUM('2-3-2'!D26,'2-3-3'!D26)","v":57},{"$f":"SUM('2-3-2'!E26,'2-3-3'!E26)","v":{"v":12569,"d":"12,569"}},{"$f":"SUM('2-3-2'!F26,'2-3-3'!F26)","v":18},{"$f":"SUM('2-3-2'!G26,'2-3-3'!G26)","v":317},{"$f":"SUM('2-3-2'!H26,'2-3-3'!H26)","v":240},{"$f":"SUM('2-3-2'!I26,'2-3-3'!I26)","v":{"v":2923,"d":"2,923"}},{"$f":"SUM('2-3-2'!J26,'2-3-3'!J26)","v":3},{"$f":"SUM('2-3-2'!K26,'2-3-3'!K26)","v":{"v":1001,"d":"1,001"}},{"$f":"SUM('2-3-2'!L26,'2-3-3'!L26)","v":35},{"$f":"SUM('2-3-2'!M26,'2-3-3'!M26)","v":{"v":13829,"d":"13,829"}}]
["사업소세",5,{"v":2984,"d":"2,984"},{"$f":"SUM('2-3-2'!D27,'2-3-3'!D27)","v":0},{"$f":"SUM('2-3-2'!E27,'2-3-3'!E27)","v":0},{"$f":"SUM('2-3-2'!F27,'2-3-3'!F27)","v":0},{"$f":"SUM('2-3-2'!G27,'2-3-3'!G27)","v":0},{"$f":"SUM('2-3-2'!H27,'2-3-3'!H27)","v":2},{"$f":"SUM('2-3-2'!I27,'2-3-3'!I27)","v":276},{"$f":"SUM('2-3-2'!J27,'2-3-3'!J27)","v":3},{"$f":"SUM('2-3-2'!K27,'2-3-3'!K27)","v":{"v":2708,"d":"2,708"}},{"$f":"SUM('2-3-2'!L27,'2-3-3'!L27)","v":0},{"$f":"SUM('2-3-2'!M27,'2-3-3'!M27)","v":0}]

{"sheet":"2-3-2","index":8,"n_rows":27,"n_cols":13,"rows_kept":27,"merged":[[0,0,0,12],[2,0,3,0],[2,1,2,2],[2,3,2,4],[2,5,2,6],[2,7,2,8],[2,9,2,10],[2,11,2,12]]}
["2-3-2. 불납결손액 사유별 현황"]
["(현년도)",{"$nulls":11},"(단위 : 건, 천원)"]
["구      분","계",null,"무재산",null,"행방불명",null,"시효소멸",null,"공매시 무배당(청산부족)",null,"기타"]
[null,"건수","금액","건수","금액","건수","금액","건수","금액","건수","금액","건수","금액"]
["합    계",{"$f":"+B6+B16","v":21},877,17,423,{"$f":"+F6+F16","v":0},{"$f":"+G6+G16","v":0},0,0,3,77,1,377]
["도세 계",{"$f":"SUM(B7:B15)","v":11},118,8,41,{"$f":"SUM(F7:F15)","v":0},{"$f":"SUM(G7:G15)","v":0},0,0,3,77,0,0]
["취  득  세",{"$f":"SUM(D7,F7,H7,J7,L7)","v":0},{"$f":"SUM(E7,G7,I7,K7,M7)","v":0}]
["등록면허세",{"$f":"SUM(D8,F8,H8,J8,L8)","v":3},77,{"$nulls":6},3,77]
["지역자원시설세",0,0]
["지방소비세",0,0]
["등록세",0,0]
["면허세",0,0]
["공동시설세",0,0]
["지역개발세",0,0]
["지방교육세",8,41,8,41]
["시군세 계",{"$f":"SUM(B17:B27)","v":10},759,9,382,{"$f":"SUM(F17:F27)","v":0},{"$f":"SUM(G17:G27)","v":0},0,0,0,0,1,377]
["주  민  세",{"$f":"SUM(D17,F17,H17,J17,L17)","v":0},{"$f":"SUM(E17,G17,I17,K17,M17)","v":0}]
["재  산  세",{"$f":"SUM(D18,F18,H18,J18,L18)","v":3},35,3,35]
["자동차세",5,123,5,123]
["담배소비세",0,0]
["지방소득세",2,601,1,224,{"$nulls":6},1,377]
["주행세",0,0]
["농업소득세",0,0]
["도축세",0,0]
["종합토지세",0,0]
["도시계획세",0,0]
["사업소세",0,0]

{"sheet":"2-3-3","index":9,"n_rows":27,"n_cols":13,"rows_kept":27,"merged":[[0,0,0,14],[2,0,3,0],[2,1,2,2],[2,3,2,4],[2,5,2,6],[2,7,2,8],[2,9,2,10],[2,11,2,12]]}
["2-3-3. 불납결손액 사유별 현황"]
["(과년도)",{"$nulls":11},"(단위 : 건, 천원)"]
["구      분","계",null,"무재산",null,"행방불명",null,"시효소멸",null,"공매시 무배당(청산부족)",null,"기타"]
[null,"건수","금액","건수","금액","건수","금액","건수","금액","건수","금액","건수","금액"]
["합    계",{"$f":"+B6+B16","v":{"v":12151,"d":"12,151"}},{"v":1503017,"d":"1,503,017"},{"v":2149,"d":"2,149"},{"v":501718,"d":"501,718"},{"$f":"+F6+F16","v":494},{"$f":"+G6+G16","v":{"v":73624,"d":"73,624"}},{"v":8851,"d":"8,851"},{"v":123531,"d":"123,531"},145,{"v":402976,"d":"402,976"},512,{"v":401168,"d":"401,168"}]
["도세 계",{"$f":"SUM(B7:B15)","v":{"v":5631,"d":"5,631"}},{"v":324022,"d":"324,022"},955,{"v":81632,"d":"81,632"},{"$f":"SUM(F7:F15)","v":208},{"$f":"SUM(G7:G15)","v":{"v":7553,"d":"7,553"}},{"v":4171,"d":"4,171"},{"v":26805,"d":"26,805"},82,{"v":40081,"d":"40,081"},215,{"v":167951,"d":"167,951"}]
["취  득  세",{"$f":"SUM(D7,F7,H7,J7,L7)","v":73},{"$f":"SUM(E7,G7,I7,K7,M7)","v":{"v":231082,"d":"231,082"}},17,{"v":50053,"d":"50,053"},4,{"v":1648,"d":"1,648"},46,{"v":8153,"d":"8,153"},1,{"v":14259,"d":"14,259"},5,{"v":156969,"d":"156,969"}]
["등록면허세",{"$f":"SUM(D8,F8,H8,J8,L8)","v":2},21,{"$nulls":8},2,21]
["지역자원시설세",23,{"v":20681,"d":"20,681"},11,{"v":2799,"d":"2,799"},{"$nulls":4},11,{"v":17695,"d":"17,695"},1,187]
["지방소비세",0,0]
["등록세",9,{"v":2244,"d":"2,244"},2,{"v":1052,"d":"1,052"},1,989,6,203]
["면허세",273,{"v":3377,"d":"3,377"},47,546,5,105,212,{"v":2637,"d":"2,637"},7,60,2,29]
["공동시설세",135,{"v":9852,"d":"9,852"},44,{"v":4906,"d":"4,906"},17,86,68,636,4,{"v":1744,"d":"1,744"},2,{"v":2480,"d":"2,480"}]
["지역개발세",19,224,2,9,null,null,2,28,15,187]
["지방교육세",{"v":5097,"d":"5,097"},{"v":56541,"d":"56,541"},832,{"v":22267,"d":"22,267"},181,{"v":4725,"d":"4,725"},{"v":3837,"d":"3,837"},{"v":15148,"d":"15,148"},44,{"v":6136,"d":"6,136"},203,{"v":8265,"d":"8,265"}]
["시군세 계",{"$f":"SUM(B17:B27)","v":{"v":6520,"d":"6,520"}},{"v":1178995,"d":"1,178,995"},{"v":1194,"d":"1,194"},{"v":420086,"d":"420,086"},{"$f":"SUM(F17:F27)","v":286},{"$f":"SUM(G17:G27)","v":{"v":66071,"d":"66,071"}},{"v":4680,"d":"4,680"},{"v":96726,"d":"96,726"},63,{"v":362895,"d":"362,895"},297,{"v":233217,"d":"233,217"}]
["주  민  세",{"$f":"SUM(D17,F17,H17,J17,L17)","v":{"v":2933,"d":"2,933"}},{"$f":"SUM(E17,G17,I17,K17,M17)","v":{"v":106538,"d":"106,538"}},268,{"v":63785,"d":"63,785"},44,{"v":2617,"d":"2,617"},{"v":2554,"d":"2,554"},{"v":28870,"d":"28,870"},12,617,55,{"v":10649,"d":"10,649"}]
["재  산  세",{"$f":"SUM(D18,F18,H18,J18,L18)","v":{"v":1001,"d":"1,001"}},{"v":119048,"d":"119,048"},132,{"v":35577,"d":"35,577"},20,397,780,{"v":8614,"d":"8,614"},30,{"v":45029,"d":"45,029"},39,{"v":29431,"d":"29,431"}]
["자동차세",{"v":2021,"d":"2,021"},{"v":158719,"d":"158,719"},658,{"v":68234,"d":"68,234"},195,{"v":22430,"d":"22,430"},{"v":1036,"d":"1,036"},{"v":55204,"d":"55,204"},7,663,125,{"v":12188,"d":"12,188"}]
["담배소비세",0,0]
["지방소득세",87,{"v":748019,"d":"748,019"},61,{"v":238952,"d":"238,952"},9,{"v":40310,"d":"40,310"},null,null,8,{"v":312877,"d":"312,877"},9,{"v":155880,"d":"155,880"}]
["주행세",0,0]
["농업소득세",0,0]
["도축세",0,0]
["종합토지세",120,{"v":13048,"d":"13,048"},18,969,null,null,68,839,0,0,34,{"v":11240,"d":"11,240"}]
["도시계획세",353,{"v":30639,"d":"30,639"},57,{"v":12569,"d":"12,569"},18,317,240,{"v":2923,"d":"2,923"},3,{"v":1001,"d":"1,001"},35,{"v":13829,"d":"13,829"}]
["사업소세",5,{"v":2984,"d":"2,984"},{"$nulls":4},2,276,3,{"v":2708,"d":"2,708"}]

{"sheet":"3-3-1","index":10,"n_rows":27,"n_cols":15,"rows_kept":27,"merged":[[0,0,0,14],[2,0,3,0],[2,1,2,2],[2,3,2,4],[2,5,2,6],[2,7,2,8],[2,9,2,10],[2,11,2,12],[2,13,2,14]]}
["3-3-1. 과오납 환부액 사유별 현황"]
["(총  계)",{"$nulls":13},"(단위 : 건, 천원)"]
["구      분","계",null,"이중납부",null,"과세면제",null,"계약해제",null,"행정소송 패소",null,"착오부과",null,"기  타(국세조정 등)"]
[null,"건수","금액","건수","금액","건수","금액","건수","금액","건수","금액","건수","금액","건수","금액"]
["합    계",{"$f":"+B6+B16","v":{"v":16839,"d":"16,839"}},{"$f":"+C6+C16","v":{"v":3660128,"d":"3,660,128"}},178,{"v":40845,"d":"40,845"},{"$f":"+F6+F16","v":{"v":5230,"d":"5,230"}},{"$f":"+G6+G16","v":{"v":417557,"d":"417,557"}},414,{"v":114271,"d":"114,271"},72,{"v":70006,"d":"70,006"},12,{"v":2730,"d":"2,730"},{"v":10933,"d":"10,933"},{"v":3014719,"d":"3,014,719"}]
["도세 계",{"$f":"SUM(B7:B15)","v":{"v":7993,"d":"7,993"}},{"v":508690,"d":"508,690"},110,{"v":23308,"d":"23,308"},{"$f":"SUM(F7:F15)","v":{"v":4732,"d":"4,732"}},{"$f":"SUM(G7:G15)","v":{"v":272906,"d":"272,906"}},317,{"v":83570,"d":"83,570"},72,{"v":70006,"d":"70,006"},11,{"v":2713,"d":"2,713"},{"v":2751,"d":"2,751"},{"v":56187,"d":"56,187"}]
["취  득  세",{"$f":"SUM(D7,F7,H7,J7,L7,N7)","v":210},{"v":320159,"d":"320,159"},{"$f":"SUM('[1]3-3-2'!D7,'[1]3-3-3'!D7)","v":14},{"$f":"SUM('[1]3-3-2'!E7,'[1]3-3-3'!E7)","v":{"v":18301,"d":"18,301"}},{"$f":"SUM('[1]3-3-2'!F7,'[1]3-3-3'!F7)","v":113},{"$f":"SUM('[1]3-3-2'!G7,'[1]3-3-3'!G7)","v":{"v":168936,"d":"168,936"}},{"$f":"SUM('[1]3-3-2'!H7,'[1]3-3-3'!H7)","v":41},{"$f":"SUM('[1]3-3-2'!I7,'[1]3-3-3'!I7)","v":{"v":64002,"d":"64,002"}},{"$f":"SUM('[1]3-3-2'!J7,'[1]3-3-3'!J7)","v":36},{"$f":"SUM('[1]3-3-2'!K7,'[1]3-3-3'!K7)","v":{"v":63642,"d":"63,642"}},{"$f":"SUM('[1]3-3-2'!L7,'[1]3-3-3'!L7)","v":5},{"$f":"SUM('[1]3-3-2'!M7,'[1]3-3-3'!M7)","v":{"v":2478,"d":"2,478"}},{"$f":"SUM('[1]3-3-2'!N7,'[1]3-3-3'!N7)","v":1},{"$f":"SUM('[1]3-3-2'!O7,'[1]3-3-3'!O7)","v":{"v":2800,"d":"2,800"}}]
["등록면허세",{"v":4317,"d":"4,317"},{"v":91199,"d":"91,199"},{"$f":"SUM('[1]3-3-2'!D8,'[1]3-3-3'!D8)","v":29},{"$f":"SUM('[1]3-3-2'!E8,'[1]3-3-3'!E8)","v":{"v":2342,"d":"2,342"}},{"$f":"SUM('[1]3-3-2'!F8,'[1]3-3-3'!F8)","v":{"v":4210,"d":"4,210"}},{"$f":"SUM('[1]3-3-2'!G8,'[1]3-3-3'!G8)","v":{"v":81304,"d":"81,304"}},{"$f":"SUM('[1]3-3-2'!H8,'[1]3-3-3'!H8)","v":75},{"$f":"SUM('[1]3-3-2'!I8,'[1]3-3-3'!I8)","v":{"v":7520,"d":"7,520"}},{"$f":"SUM('[1]3-3-2'!J8,'[1]3-3-3'!J8)","v":0},{"$f":"SUM('[1]3-3-2'!K8,'[1]3-3-3'!K8)","v":0},{"$f":"SUM('[1]3-3-2'!L8,'[1]3-3-3'!L8)","v":2},{"$f":"SUM('[1]3-3-2'!M8,'[1]3-3-3'!M8)","v":15},{"$f":"SUM('[1]3-3-2'!N8,'[1]3-3-3'!N8)","v":1},{"$f":"SUM('[1]3-3-2'!O8,'[1]3-3-3'!O8)","v":18}]
["지역자원시설세",986,{"v":24997,"d":"24,997"},{"$f":"SUM('[1]3-3-2'!D9,'[1]3-3-3'!D9)","v":0},{"$f":"SUM('[1]3-3-2'!E9,'[1]3-3-3'!E9)","v":0},{"$f":"SUM('[1]3-3-2'!F9,'[1]3-3-3'!F9)","v":8},{"$f":"SUM('[1]3-3-2'!G9,'[1]3-3-3'!G9)","v":40},{"$f":"SUM('[1]3-3-2'!H9,'[1]3-3-3'!H9)","v":7},{"$f":"SUM('[1]3-3-2'!I9,'[1]3-3-3'!I9)","v":166},{"$f":"SUM('[1]3-3-2'!J9,'[1]3-3-3'!J9)","v":0},{"$f":"SUM('[1]3-3-2'!K9,'[1]3-3-3'!K9)","v":0},{"$f":"SUM('[1]3-3-2'!L9,'[1]3-3-3'!L9)","v":0},{"$f":"SUM('[1]3-3-2'!M9,'[1]3-3-3'!M9)","v":0},{"$f":"SUM('[1]3-3-2'!N9,'[1]3-3-3'!N9)","v":971},{"$f":"SUM('[1]3-3-2'!O9,'[1]3-3-3'!O9)","v":{"v":24791,"d":"24,791"}}]
["지방소비세",0,0,{"$f":"SUM('[1]3-3-2'!D10,'[1]3-3-3'!D10)","v":0},{"$f":"SUM('[1]3-3-2'!E10,'[1]3-3-3'!E10)","v":0},{"$f":"SUM('[1]3-3-2'!F10,'[1]3-3-3'!F10)","v":0},{"$f":"SUM('[1]3-3-2'!G10,'[1]3-3-3'!G10)","v":0},{"$f":"SUM('[1]3-3-2'!H10,'[1]3-3-3'!H10)","v":0},{"$f":"SUM('[1]3-3-2'!I10,'[1]3-3-3'!I10)","v":0},{"$f":"SUM('[1]3-3-2'!J10,'[1]3-3-3'!J10)","v":0},{"$f":"SUM('[1]3-3-2'!K10,'[1]3-3-3'!K10)","v":0},{"$f":"SUM('[1]3-3-2'!L10,'[1]3-3-3'!L10)","v":0},{"$f":"SUM('[1]3-3-2'!M10,'[1]3-3-3'!M10)","v":0},{"$f":"SUM('[1]3-3-2'!N10,'[1]3-3-3'!N10)","v":0},{"$f":"SUM('[1]3-3-2'!O10,'[1]3-3-3'!O10)","v":0}]
["등록세",11,{"v":1150,"d":"1,150"},{"$f":"SUM('[1]3-3-2'!D11,'[1]3-3-3'!D11)","v":0},{"$f":"SUM('[1]3-3-2'!E11,'[1]3-3-3'!E11)","v":0},{"$f":"SUM('[1]3-3-2'!F11,'[1]3-3-3'!F11)","v":4},{"$f":"SUM('[1]3-3-2'!G11,'[1]3-3-3'!G11)","v":829},{"$f":"SUM('[1]3-3-2'!H11,'[1]3-3-3'!H11)","v":7},{"$f":"SUM('[1]3-3-2'!I11,'[1]3-3-3'!I11)","v":321},{"$f":"SUM('[1]3-3-2'!J11,'[1]3-3-3'!J11)","v":0},{"$f":"SUM('[1]3-3-2'!K11,'[1]3-3-3'!K11)","v":0},{"$f":"SUM('[1]3-3-2'!L11,'[1]3-3-3'!L11)","v":0},{"$f":"SUM('[1]3-3-2'!M11,'[1]3-3-3'!M11)","v":0},{"$f":"SUM('[1]3-3-2'!N11,'[1]3-3-3'!N11)","v":0},{"$f":"SUM('[1]3-3-2'!O11,'[1]3-3-3'!O11)","v":0}]
["면허세",0,0,{"$f":"SUM('[1]3-3-2'!D12,'[1]3-3-3'!D12)","v":0},{"$f":"SUM('[1]3-3-2'!E12,'[1]3-3-3'!E12)","v":0},{"$f":"SUM('[1]3-3-2'!F12,'[1]3-3-3'!F12)","v":0},{"$f":"SUM('[1]3-3-2'!G12,'[1]3-3-3'!G12)","v":0},{"$f":"SUM('[1]3-3-2'!H12,'[1]3-3-3'!H12)","v":0},{"$f":"SUM('[1]3-3-2'!I12,'[1]3-3-3'!I12)","v":0},{"$f":"SUM('[1]3-3-2'!J12,'[1]3-3-3'!J12)","v":0},{"$f":"SUM('[1]3-3-2'!K12,'[1]3-3-3'!K12)","v":0},{"$f":"SUM('[1]3-3-2'!L12,'[1]3-3-3'!L12)","v":0},{"$f":"SUM('[1]3-3-2'!M12,'[1]3-3-3'!M12)","v":0},{"$f":"SUM('[1]3-3-2'!N12,'[1]3-3-3'!N12)","v":0},{"$f":"SUM('[1]3-3-2'!O12,'[1]3-3-3'!O12)","v":0}]
["공동시설세",0,0,{"$f":"SUM('[1]3-3-2'!D13,'[1]3-3-3'!D13)","v":0},{"$f":"SUM('[1]3-3-2'!E13,'[1]3-3-3'!E13)","v":0},{"$f":"SUM('[1]3-3-2'!F13,'[1]3-3-3'!F13)","v":0},{"$f":"SUM('[1]3-3-2'!G13,'[1]3-3-3'!G13)","v":0},{"$f":"SUM('[1]3-3-2'!H13,'[1]3-3-3'!H13)","v":0},{"$f":"SUM('[1]3-3-2'!I13,'[1]3-3-3'!I13)","v":0},{"$f":"SUM('[1]3-3-2'!J13,'[1]3-3-3'!J13)","v":0},{"$f":"SUM('[1]3-3-2'!K13,'[1]3-3-3'!K13)","v":0},{"$f":"SUM('[1]3-3-2'!L13,'[1]3-3-3'!L13)","v":0},{"$f":"SUM('[1]3-3-2'!M13,'[1]3-3-3'!M13)","v":0},{"$f":"SUM('[1]3-3-2'!N13,'[1]3-3-3'!N13)","v":0},{"$f":"SUM('[1]3-3-2'!O13,'[1]3-3-3'!O13)","v":0}]
["지역개발세",0,0,{"$f":"SUM('[1]3-3-2'!D14,'[1]3-3-3'!D14)","v":0},{"$f":"SUM('[1]3-3-2'!E14,'[1]3-3-3'!E14)","v":0},{"$f":"SUM('[1]3-3-2'!F14,'[1]3-3-3'!F14)","v":0},{"$f":"SUM('[1]3-3-2'!G14,'[1]3-3-3'!G14)","v":0},{"$f":"SUM('[1]3-3-2'!H14,'[1]3-3-3'!H14)","v":0},{"$f":"SUM('[1]3-3-2'!I14,'[1]3-3-3'!I14)","v":0},{"$f":"SUM('[1]3-3-2'!J14,'[1]3-3-3'!J14)","v":0},{"$f":"SUM('[1]3-3-2'!K14,'[1]3-3-3'!K14)","v":0},{"$f":"SUM('[1]3-3-2'!L14,'[1]3-3-3'!L14)","v":0},{"$f":"SUM('[1]3-3-2'!M14,'[1]3-3-3'!M14)","v":0},{"$f":"SUM('[1]3-3-2'!N14,'[1]3-3-3'!N14)","v":0},{"$f":"SUM('[1]3-3-2'!O14,'[1]3-3-3'!O14)","v":0}]
["지방교육세",{"v":2469,"d":"2,469"},{"v":71185,"d":"71,185"},{"$f":"SUM('[1]3-3-2'!D15,'[1]3-3-3'!D15)","v":67},{"$f":"SUM('[1]3-3-2'!E15,'[1]3-3-3'!E15)","v":{"v":2665,"d":"2,665"}},{"$f":"SUM('[1]3-3-2'!F15,'[1]3-3-3'!F15)","v":397},{"$f":"SUM('[1]3-3-2'!G15,'[1]3-3-3'!G15)","v":{"v":21797,"d":"21,797"}},{"$f":"SUM('[1]3-3-2'!H15,'[1]3-3-3'!H15)","v":187},{"$f":"SUM('[1]3-3-2'!I15,'[1]3-3-3'!I15)","v":{"v":11561,"d":"11,561"}},{"$f":"SUM('[1]3-3-2'!J15,'[1]3-3-3'!J15)","v":36},{"$f":"SUM('[1]3-3-2'!K15,'[1]3-3-3'!K15)","v":{"v":6364,"d":"6,364"}},{"$f":"SUM('[1]3-3-2'!L15,'[1]3-3-3'!L15)","v":4},{"$f":"SUM('[1]3-3-2'!M15,'[1]3-3-3'!M15)","v":220},{"$f":"SUM('[1]3-3-2'!N15,'[1]3-3-3'!N15)","v":{"v":1778,"d":"1,778"}},{"$f":"SUM('[1]3-3-2'!O15,'[1]3-3-3'!O15)","v":{"v":28578,"d":"28,578"}}]
["시군세 계",{"$f":"SUM(B17:B27)","v":{"v":8846,"d":"8,846"}},{"v":3151438,"d":"3,151,438"},68,{"v":17537,"d":"17,537"},{"$f":"SUM(F17:F27)","v":498},{"$f":"SUM(G17:G27)","v":{"v":144651,"d":"144,651"}},97,{"v":30701,"d":"30,701"},0,0,1,17,{"v":8182,"d":"8,182"},{"v":2958532,"d":"2,958,532"}]
["주  민  세",{"$f":"SUM(D17,F17,H17,J17,L17,N17)","v":57},{"$f":"SUM(E17,G17,I17,K17,M17,O17)","v":{"v":112106,"d":"112,106"}},{"$f":"SUM('[1]3-3-2'!D17,'[1]3-3-3'!D17)","v":9},{"$f":"SUM('[1]3-3-2'!E17,'[1]3-3-3'!E17)","v":99},{"$f":"SUM('[1]3-3-2'!F17,'[1]3-3-3'!F17)","v":12},{"$f":"SUM('[1]3-3-2'!G17,'[1]3-3-3'!G17)","v":{"v":4830,"d":"4,830"}},{"$f":"SUM('[1]3-3-2'!H17,'[1]3-3-3'!H17)","v":13},{"$f":"SUM('[1]3-3-2'!I17,'[1]3-3-3'!I17)","v":{"v":1068,"d":"1,068"}},{"$f":"SUM('[1]3-3-2'!J17,'[1]3-3-3'!J17)","v":0},{"$f":"SUM('[1]3-3-2'!K17,'[1]3-3-3'!K17)","v":0},{"$f":"SUM('[1]3-3-2'!L17,'[1]3-3-3'!L17)","v":0},{"$f":"SUM('[1]3-3-2'!M17,'[1]3-3-3'!M17)","v":0},{"$f":"SUM('[1]3-3-2'!N17,'[1]3-3-3'!N17)","v":23},{"$f":"SUM('[1]3-3-2'!O17,'[1]3-3-3'!O17)","v":{"v":106109,"d":"106,109"}}]
["재  산  세",{"$f":"SUM(D18,F18,H18,J18,L18,N18)","v":117},{"v":38862,"d":"38,862"},{"$f":"SUM('[1]3-3-2'!D18,'[1]3-3-3'!D18)","v":12},{"$f":"SUM('[1]3-3-2'!E18,'[1]3-3-3'!E18)","v":111},{"$f":"SUM('[1]3-3-2'!F18,'[1]3-3-3'!F18)","v":31},{"$f":"SUM('[1]3-3-2'!G18,'[1]3-3-3'!G18)","v":{"v":4819,"d":"4,819"}},{"$f":"SUM('[1]3-3-2'!H18,'[1]3-3-3'!H18)","v":73},{"$f":"SUM('[1]3-3-2'!I18,'[1]3-3-3'!I18)","v":{"v":27863,"d":"27,863"}},{"$f":"SUM('[1]3-3-2'!J18,'[1]3-3-3'!J18)","v":0},{"$f":"SUM('[1]3-3-2'!K18,'[1]3-3-3'!K18)","v":0},{"$f":"SUM('[1]3-3-2'!L18,'[1]3-3-3'!L18)","v":0},{"$f":"SUM('[1]3-3-2'!M18,'[1]3-3-3'!M18)","v":0},{"$f":"SUM('[1]3-3-2'!N18,'[1]3-3-3'!N18)","v":1},{"$f":"SUM('[1]3-3-2'!O18,'[1]3-3-3'!O18)","v":{"v":6069,"d":"6,069"}}]
["자동차세",{"v":3357,"d":"3,357"},{"v":145726,"d":"145,726"},{"$f":"SUM('[1]3-3-2'!D19,'[1]3-3-3'!D19)","v":16},{"$f":"SUM('[1]3-3-2'!E19,'[1]3-3-3'!E19)","v":{"v":1738,"d":"1,738"}},{"$f":"SUM('[1]3-3-2'!F19,'[1]3-3-3'!F19)","v":283},{"$f":"SUM('[1]3-3-2'!G19,'[1]3-3-3'!G19)","v":{"v":31154,"d":"31,154"}},{"$f":"SUM('[1]3-3-2'!H19,'[1]3-3-3'!H19)","v":0},{"$f":"SUM('[1]3-3-2'!I19,'[1]3-3-3'!I19)","v":0},{"$f":"SUM('[1]3-3-2'!J19,'[1]3-3-3'!J19)","v":0},{"$f":"SUM('[1]3-3-2'!K19,'[1]3-3-3'!K19)","v":0},{"$f":"SUM('[1]3-3-2'!L19,'[1]3-3-3'!L19)","v":0},{"$f":"SUM('[1]3-3-2'!M19,'[1]3-3-3'!M19)","v":0},{"$f":"SUM('[1]3-3-2'!N19,'[1]3-3-3'!N19)","v":{"v":3058,"d":"3,058"}},{"$f":"SUM('[1]3-3-2'!O19,'[1]3-3-3'!O19)","v":{"v":112834,"d":"112,834"}}]
["담배소비세",2,5,{"$f":"SUM('[1]3-3-2'!D20,'[1]3-3-3'!D20)","v":0},{"$f":"SUM('[1]3-3-2'!E20,'[1]3-3-3'!E20)","v":0},{"$f":"SUM('[1]3-3-2'!F20,'[1]3-3-3'!F20)","v":2},{"$f":"SUM('[1]3-3-2'!G20,'[1]3-3-3'!G20)","v":5},{"$f":"SUM('[1]3-3-2'!H20,'[1]3-3-3'!H20)","v":0},{"$f":"SUM('[1]3-3-2'!I20,'[1]3-3-3'!I20)","v":0},{"$f":"SUM('[1]3-3-2'!J20,'[1]3-3-3'!J20)","v":0},{"$f":"SUM('[1]3-3-2'!K20,'[1]3-3-3'!K20)","v":0},{"$f":"SUM('[1]3-3-2'!L20,'[1]3-3-3'!L20)","v":0},{"$f":"SUM('[1]3-3-2'!M20,'[1]3-3-3'!M20)","v":0},{"$f":"SUM('[1]3-3-2'!N20,'[1]3-3-3'!N20)","v":0},{"$f":"SUM('[1]3-3-2'!O20,'[1]3-3-3'!O20)","v":0}]
["지방소득세",{"v":5309,"d":"5,309"},{"v":2854682,"d":"2,854,682"},{"$f":"SUM('[1]3-3-2'!D21,'[1]3-3-3'!D21)","v":31},{"$f":"SUM('[1]3-3-2'!E21,'[1]3-3-3'!E21)","v":{"v":15589,"d":"15,589"}},{"$f":"SUM('[1]3-3-2'!F21,'[1]3-3-3'!F21)","v":168},{"$f":"SUM('[1]3-3-2'!G21,'[1]3-3-3'!G21)","v":{"v":103837,"d":"103,837"}},{"$f":"SUM('[1]3-3-2'!H21,'[1]3-3-3'!H21)","v":9},{"$f":"SUM('[1]3-3-2'!I21,'[1]3-3-3'!I21)","v":{"v":1719,"d":"1,719"}},{"$f":"SUM('[1]3-3-2'!J21,'[1]3-3-3'!J21)","v":0},{"$f":"SUM('[1]3-3-2'!K21,'[1]3-3-3'!K21)","v":0},{"$f":"SUM('[1]3-3-2'!L21,'[1]3-3-3'!L21)","v":1},{"$f":"SUM('[1]3-3-2'!M21,'[1]3-3-3'!M21)","v":17},{"$f":"SUM('[1]3-3-2'!N21,'[1]3-3-3'!N21)","v":{"v":5100,"d":"5,100"}},{"$f":"SUM('[1]3-3-2'!O21,'[1]3-3-3'!O21)","v":{"v":2733520,"d":"2,733,520"}}]
["주행세",0,0,{"$f":"SUM('[1]3-3-2'!D22,'[1]3-3-3'!D22)","v":0},{"$f":"SUM('[1]3-3-2'!E22,'[1]3-3-3'!E22)","v":0},{"$f":"SUM('[1]3-3-2'!F22,'[1]3-3-3'!F22)","v":0},{"$f":"SUM('[1]3-3-2'!G22,'[1]3-3-3'!G22)","v":0},{"$f":"SUM('[1]3-3-2'!H22,'[1]3-3-3'!H22)","v":0},{"$f":"SUM('[1]3-3-2'!I22,'[1]3-3-3'!I22)","v":0},{"$f":"SUM('[1]3-3-2'!J22,'[1]3-3-3'!J22)","v":0},{"$f":"SUM('[1]3-3-2'!K22,'[1]3-3-3'!K22)","v":0},{"$f":"SUM('[1]3-3-2'!L22,'[1]3-3-3'!L22)","v":0},{"$f":"SUM('[1]3-3-2'!M22,'[1]3-3-3'!M22)","v":0},{"$f":"SUM('[1]3-3-2'!N22,'[1]3-3-3'!N22)","v":0},{"$f":"SUM('[1]3-3-2'!O22,'[1]3-3-3'!O22)","v":0}]
["농업소득세",0,0,{"$f":"SUM('[1]3-3-2'!D23,'[1]3-3-3'!D23)","v":0},{"$f":"SUM('[1]3-3-2'!E23,'[1]3-3-3'!E23)","v":0},{"$f":"SUM('[1]3-3-2'!F23,'[1]3-3-3'!F23)","v":0},{"$f":"SUM('[1]3-3-2'!G23,'[1]3-3-3'!G23)","v":0},{"$f":"SUM('[1]3-3-2'!H23,'[1]3-3-3'!H23)","v":0},{"$f":"SUM('[1]3-3-2'!I23,'[1]3-3-3'!I23)","v":0},{"$f":"SUM('[1]3-3-2'!J23,'[1]3-3-3'!J23)","v":0},{"$f":"SUM('[1]3-3-2'!K23,'[1]3-3-3'!K23)","v":0},{"$f":"SUM('[1]3-3-2'!L23,'[1]3-3-3'!L23)","v":0},{"$f":"SUM('[1]3-3-2'!M23,'[1]3-3-3'!M23)","v":0},{"$f":"SUM('[1]3-3-2'!N23,'[1]3-3-3'!N23)","v":0},{"$f":"SUM('[1]3-3-2'!O23,'[1]3-3-3'!O23)","v":0}]
["도축세",0,0,{"$f":"SUM('[1]3-3-2'!D24,'[1]3-3-3'!D24)","v":0},{"$f":"SUM('[1]3-3-2'!E24,'[1]3-3-3'!E24)","v":0},{"$f":"SUM('[1]3-3-2'!F24,'[1]3-3-3'!F24)","v":0},{"$f":"SUM('[1]3-3-2'!G24,'[1]3-3-3'!G24)","v":0},{"$f":"SUM('[1]3-3-2'!H24,'[1]3-3-3'!H24)","v":0},{"$f":"SUM('[1]3-3-2'!I24,'[1]3-3-3'!I24)","v":0},{"$f":"SUM('[1]3-3-2'!J24,'[1]3-3-3'!J24)","v":0},{"$f":"SUM('[1]3-3-2'!K24,'[1]3-3-3'!K24)","v":0},{"$f":"SUM('[1]3-3-2'!L24,'[1]3-3-3'!L24)","v":0},{"$f":"SUM('[1]3-3-2'!M24,'[1]3-3-3'!M24)","v":0},{"$f":"SUM('[1]3-3-2'!N24,'[1]3-3-3'!N24)","v":0},{"$f":"SUM('[1]3-3-2'!O24,'[1]3-3-3'!O24)","v":0}]
["종합토지세",0,0,{"$f":"SUM('[1]3-3-2'!D25,'[1]3-3-3'!D25)","v":0},{"$f":"SUM('[1]3-3-2'!E25,'[1]3-3-3'!E25)","v":0},{"$f":"SUM('[1]3-3-2'!F25,'[1]3-3-3'!F25)","v":0},{"$f":"SUM('[1]3-3-2'!G25,'[1]3-3-3'!G25)","v":0},{"$f":"SUM('[1]3-3-2'!H25,'[1]3-3-3'!H25)","v":0},{"$f":"SUM('[1]3-3-2'!I25,'[1]3-3-3'!I25)","v":0},{"$f":"SUM('[1]3-3-2'!J25,'[1]3-3-3'!J25)","v":0},{"$f":"SUM('[1]3-3-2'!K25,'[1]3-3-3'!K25)","v":0},{"$f":"SUM('[1]3-3-2'!L25,'[1]3-3-3'!L25)","v":0},{"$f":"SUM('[1]3-3-2'!M25,'[1]3-3-3'!M25)","v":0},{"$f":"SUM('[1]3-3-2'!N25,'[1]3-3-3'!N25)","v":0},{"$f":"SUM('[1]3-3-2'!O25,'[1]3-3-3'!O25)","v":0}]
["도시계획세",4,57,{"$f":"SUM('[1]3-3-2'!D26,'[1]3-3-3'!D26)","v":0},{"$f":"SUM('[1]3-3-2'!E26,'[1]3-3-3'!E26)","v":0},{"$f":"SUM('[1]3-3-2'!F26,'[1]3-3-3'!F26)","v":2},{"$f":"SUM('[1]3-3-2'!G26,'[1]3-3-3'!G26)","v":6},{"$f":"SUM('[1]3-3-2'!H26,'[1]3-3-3'!H26)","v":2},{"$f":"SUM('[1]3-3-2'!I26,'[1]3-3-3'!I26)","v":51},{"$f":"SUM('[1]3-3-2'!J26,'[1]3-3-3'!J26)","v":0},{"$f":"SUM('[1]3-3-2'!K26,'[1]3-3-3'!K26)","v":0},{"$f":"SUM('[1]3-3-2'!L26,'[1]3-3-3'!L26)","v":0},{"$f":"SUM('[1]3-3-2'!M26,'[1]3-3-3'!M26)","v":0},{"$f":"SUM('[1]3-3-2'!N26,'[1]3-3-3'!N26)","v":0},{"$f":"SUM('[1]3-3-2'!O26,'[1]3-3-3'!O26)","v":0}]
["사업소세",0,0,{"$f":"SUM('[1]3-3-2'!D27,'[1]3-3-3'!D27)","v":0},{"$f":"SUM('[1]3-3-2'!E27,'[1]3-3-3'!E27)","v":0},{"$f":"SUM('[1]3-3-2'!F27,'[1]3-3-3'!F27)","v":0},{"$f":"SUM('[1]3-3-2'!G27,'[1]3-3-3'!G27)","v":0},{"$f":"SUM('[1]3-3-2'!H27,'[1]3-3-3'!H27)","v":0},{"$f":"SUM('[1]3-3-2'!I27,'[1]3-3-3'!I27)","v":0},{"$f":"SUM('[1]3-3-2'!J27,'[1]3-3-3'!J27)","v":0},{"$f":"SUM('[1]3-3-2'!K27,'[1]3-3-3'!K27)","v":0},{"$f":"SUM('[1]3-3-2'!L27,'[1]3-3-3'!L27)","v":0},{"$f":"SUM('[1]3-3-2'!M27,'[1]3-3-3'!M27)","v":0},{"$f":"SUM('[1]3-3-2'!N27,'[1]3-3-3'!N27)","v":0},{"$f":"SUM('[1]3-3-2'!O27,'[1]3-3-3'!O27)","v":0}]

{"sheet":"3-3-2","index":11,"n_rows":27,"n_cols":15,"rows_kept":27,"merged":[[0,0,0,14],[2,0,3,0],[2,1,2,2],[2,3,2,4],[2,5,2,6],[2,7,2,8],[2,9,2,10],[2,11,2,12],[2,13,2,14]]}
["3-3-2. 과오납 환부액 사유별 현황"]
["(현년도)",{"$nulls":13},"(단위 : 건, 천원)"]
["구      분","계",null,"이중납부",null,"과세면제",null,"계약해제",null,"행정소송 패소",null,"착오부과",null,"기  타(국세조정 등)"]
[null,"건수","금액","건수","금액","건수","금액","건수","금액","건수","금액","건수","금액","건수","금액"]
["합    계",{"$f":"+B6+B16","v":{"v":15139,"d":"15,139"}},{"v":1070776,"d":"1,070,776"},165,{"v":40566,"d":"40,566"},{"$f":"+F6+F16","v":{"v":5035,"d":"5,035"}},{"$f":"+G6+G16","v":{"v":323239,"d":"323,239"}},290,{"v":103848,"d":"103,848"},0,0,11,{"v":2713,"d":"2,713"},{"v":9638,"d":"9,638"},{"v":600410,"d":"600,410"}]
["도세 계",{"$f":"SUM(B7:B15)","v":{"v":7489,"d":"7,489"}},{"v":392047,"d":"392,047"},103,{"v":23276,"d":"23,276"},{"$f":"SUM(F7:F15)","v":{"v":4652,"d":"4,652"}},{"$f":"SUM(G7:G15)","v":{"v":237931,"d":"237,931"}},248,{"v":75149,"d":"75,149"},0,0,11,{"v":2713,"d":"2,713"},{"v":2475,"d":"2,475"},{"v":52978,"d":"52,978"}]
["취  득  세",{"$f":"SUM(D7,F7,H7,J7,L7,N7)","v":145},{"v":216865,"d":"216,865"},14,{"v":18301,"d":"18,301"},92,{"v":136990,"d":"136,990"},33,{"v":56296,"d":"56,296"},null,null,5,{"v":2478,"d":"2,478"},1,{"v":2800,"d":"2,800"}]
["등록면허세",{"v":4310,"d":"4,310"},{"v":90730,"d":"90,730"},28,{"v":2336,"d":"2,336"},{"v":4209,"d":"4,209"},{"v":81225,"d":"81,225"},70,{"v":7136,"d":"7,136"},null,null,2,15,1,18]
["지역자원시설세",986,{"v":24997,"d":"24,997"},null,null,8,40,7,166,{"$nulls":4},971,{"v":24791,"d":"24,791"}]
["지방소비세",0,0]
["등록세",8,388,null,null,1,67,7,321]
["면허세",0,0]
["공동시설세",0,0]
["지역개발세",0,0]
["지방교육세",{"v":2040,"d":"2,040"},{"v":59067,"d":"59,067"},61,{"v":2639,"d":"2,639"},342,{"v":19609,"d":"19,609"},131,{"v":11230,"d":"11,230"},null,null,4,220,{"v":1502,"d":"1,502"},{"v":25369,"d":"25,369"}]
["시군세 계",{"$f":"SUM(B17:B27)","v":{"v":7650,"d":"7,650"}},{"v":678729,"d":"678,729"},62,{"v":17290,"d":"17,290"},{"$f":"SUM(F17:F27)","v":383},{"$f":"SUM(G17:G27)","v":{"v":85308,"d":"85,308"}},42,{"v":28699,"d":"28,699"},0,0,0,0,{"v":7163,"d":"7,163"},{"v":547432,"d":"547,432"}]
["주  민  세",{"$f":"SUM(D17,F17,H17,J17,L17,N17)","v":23},{"$f":"SUM(E17,G17,I17,K17,M17,O17)","v":{"v":1969,"d":"1,969"}},9,99,8,{"v":1412,"d":"1,412"},6,458]
["재  산  세",{"$f":"SUM(D18,F18,H18,J18,L18,N18)","v":49},{"v":35426,"d":"35,426"},8,81,11,{"v":2537,"d":"2,537"},29,{"v":26739,"d":"26,739"},{"$nulls":4},1,{"v":6069,"d":"6,069"}]
["자동차세",{"v":3059,"d":"3,059"},{"v":133015,"d":"133,015"},15,{"v":1675,"d":"1,675"},261,{"v":29394,"d":"29,394"},{"$nulls":6},{"v":2783,"d":"2,783"},{"v":101946,"d":"101,946"}]
["담배소비세",0,0]
["지방소득세",{"v":4519,"d":"4,519"},{"v":508319,"d":"508,319"},30,{"v":15435,"d":"15,435"},103,{"v":51965,"d":"51,965"},7,{"v":1502,"d":"1,502"},{"$nulls":4},{"v":4379,"d":"4,379"},{"v":439417,"d":"439,417"}]
["주행세",0,0]
["농업소득세",0,0]
["도축세",0,0]
["종합토지세",0,0]
["도시계획세",0,0]
["사업소세",0,0]

{"sheet":"3-3-3","index":12,"n_rows":27,"n_cols":15,"rows_kept":27,"merged":[[0,0,0,14],[2,0,3,0],[2,1,2,2],[2,3,2,4],[2,5,2,6],[2,7,2,8],[2,9,2,10],[2,11,2,12],[2,13,2,14]]}
["3-3-3. 과오납 환부액 사유별 현황"]
["(과년도)",{"$nulls":13},"(단위 : 건, 천원)"]
["구      분","계",null,"이중납부",null,"과세면제",null,"계약해제",null,"행정소송 패소",null,"착오부과",null,"기  타(국세조정 등)"]
[null,"건수","금액","건수","금액","건수","금액","건수","금액","건수","금액","건수","금액","건수","금액"]
["합    계",{"$f":"+B6+B16","v":{"v":1700,"d":"1,700"}},{"$f":"C6+C16","v":{"v":2589352,"d":"2,589,352"}},13,279,{"$f":"+F6+F16","v":195},{"$f":"+G6+G16","v":{"v":94318,"d":"94,318"}},124,{"v":10423,"d":"10,423"},72,{"v":70006,"d":"70,006"},1,17,{"v":1295,"d":"1,295"},{"v":2414309,"d":"2,414,309"}]
["도세 계",{"$f":"SUM(B7:B15)","v":504},{"v":116643,"d":"116,643"},7,32,{"$f":"SUM(F7:F15)","v":80},{"$f":"SUM(G7:G15)","v":{"v":34975,"d":"34,975"}},69,{"v":8421,"d":"8,421"},72,{"v":70006,"d":"70,006"},0,0,276,{"v":3209,"d":"3,209"}]
["취  득  세",{"$f":"SUM(D7,F7,H7,J7,L7,N7)","v":65},{"v":103294,"d":"103,294"},null,null,21,{"v":31946,"d":"31,946"},8,{"v":7706,"d":"7,706"},36,{"v":63642,"d":"63,642"}]
["등록면허세",7,469,1,6,1,79,5,384]
["지역자원시설세",0,0]
["지방소비세",0,0]
["등록세",3,762,null,null,3,762]
["면허세",0,0]
["공동시설세",0,0]
["지역개발세",0,0]
["지방교육세",429,{"v":12118,"d":"12,118"},6,26,55,{"v":2188,"d":"2,188"},56,331,36,{"v":6364,"d":"6,364"},null,null,276,{"v":3209,"d":"3,209"}]
["시군세 계",{"$f":"SUM(B17:B27)","v":{"v":1196,"d":"1,196"}},{"$f":"SUM(C17:C27)","v":{"v":2472709,"d":"2,472,709"}},6,247,{"$f":"SUM(F17:F27)","v":115},{"$f":"SUM(G17:G27)","v":{"v":59343,"d":"59,343"}},55,{"v":2002,"d":"2,002"},0,0,1,17,{"v":1019,"d":"1,019"},{"v":2411100,"d":"2,411,100"}]
["주  민  세",{"$f":"SUM(D17,F17,H17,J17,L17,N17)","v":34},{"$f":"SUM(E17,G17,I17,K17,M17,O17)","v":{"v":110137,"d":"110,137"}},null,null,4,{"v":3418,"d":"3,418"},7,610,{"$nulls":4},23,{"v":106109,"d":"106,109"}]
["재  산  세",{"$f":"SUM(D18,F18,H18,J18,L18,N18)","v":68},{"v":3436,"d":"3,436"},4,30,20,{"v":2282,"d":"2,282"},44,{"v":1124,"d":"1,124"}]
["자동차세",298,{"v":12711,"d":"12,711"},1,63,22,{"v":1760,"d":"1,760"},{"$nulls":6},275,{"v":10888,"d":"10,888"}]
["담배소비세",2,5,null,null,2,5]
["지방소득세",790,{"v":2346363,"d":"2,346,363"},1,154,65,{"v":51872,"d":"51,872"},2,217,null,null,1,17,721,{"v":2294103,"d":"2,294,103"}]
["주행세",0,0]
["농업소득세",0,0]
["도축세",0,0]
["종합토지세",0,0]
["도시계획세",4,57,null,null,2,6,2,51]
["사업소세",0,0]